BEGIN:VCALENDAR
VERSION:2.0
PRODID:-//The Law Society of Newfoundland and Labrador - ECPv6.15.19//NONSGML v1.0//EN
CALSCALE:GREGORIAN
METHOD:PUBLISH
X-WR-CALNAME:The Law Society of Newfoundland and Labrador
X-ORIGINAL-URL:https://lsnl.ca
X-WR-CALDESC:Events for The Law Society of Newfoundland and Labrador
REFRESH-INTERVAL;VALUE=DURATION:PT1H
X-Robots-Tag:noindex
X-PUBLISHED-TTL:PT1H
BEGIN:VTIMEZONE
TZID:America/St_Johns
BEGIN:DAYLIGHT
TZOFFSETFROM:-0330
TZOFFSETTO:-0230
TZNAME:NDT
DTSTART:20230312T053000
END:DAYLIGHT
BEGIN:STANDARD
TZOFFSETFROM:-0230
TZOFFSETTO:-0330
TZNAME:NST
DTSTART:20231105T043000
END:STANDARD
BEGIN:DAYLIGHT
TZOFFSETFROM:-0330
TZOFFSETTO:-0230
TZNAME:NDT
DTSTART:20240310T053000
END:DAYLIGHT
BEGIN:STANDARD
TZOFFSETFROM:-0230
TZOFFSETTO:-0330
TZNAME:NST
DTSTART:20241103T043000
END:STANDARD
BEGIN:DAYLIGHT
TZOFFSETFROM:-0330
TZOFFSETTO:-0230
TZNAME:NDT
DTSTART:20250309T053000
END:DAYLIGHT
BEGIN:STANDARD
TZOFFSETFROM:-0230
TZOFFSETTO:-0330
TZNAME:NST
DTSTART:20251102T043000
END:STANDARD
END:VTIMEZONE
BEGIN:VEVENT
DTSTART;VALUE=DATE:20241028
DTEND;VALUE=DATE:20241029
DTSTAMP:20260420T234924
CREATED:20240827T163836Z
LAST-MODIFIED:20240827T163836Z
UID:24007-1730073600-1730159999@lsnl.ca
SUMMARY:Mediating High Conflict Disputes
DESCRIPTION:Limited enrolment for in-person registrations. Register early to avoid disappointment!\n\n\n\n\n\n\nPlease note: This course will not be added to Courses on Demand. Courses involving professional speakers and skills-based workshops generally do not get added to Courses on Demand. \nWho should attend: All mediators and those acting as counsel in mediations \nLearning level: Intermediate \nHave your best mediation skills failed with some clients? And then felt that despite your best efforts\, some mediations are impossible? \nIt’s likely that you may have been mediating with one or more parties with a high conflict personality\, making it a high conflict dispute. \nHigh conflict disputes are different. They often involve one or more individuals with a pattern of high conflict behaviour\, characterized by all-or-nothing thinking\, unmanaged emotions\, extreme behaviour\, and preoccupation with blaming others. \nIn this one-day workshop\, instructor Michael Lomax will provide a new approach to mediating such disputes: New Ways for Mediation. This approach includes several paradigm shifts from ordinary mediation by not relying on insight\, expression of emotions\, or discussions of the past. \nInstead\, this method focuses on teaching clients four simple skills to use within a simple structure that keeps them focused on problem-solving solutions and away from venting\, reworking the past\, extreme demands\, rigid positions\, and other self-defeating behaviours. \nThe skills for mediators are also simple and less stressful\, so that they serve primarily as a guide and source of information throughout the process. Some or all of the tips and tools of this method can be used with any mediation. \nAfter this training\, you will: \n\nhave the necessary skills for handling high conflict mediations\nexperience increased confidence as you settle into the specific structure of this method\nlet go of feeling responsible for the outcome\n\nPrerequisite: It is recommended that you have already taken some introductory training in Dealing with High Conflict Behaviours with Michael Lomax or the High Conflict Institute. \nCourse Instructor\nMichael J. Lomax\, JD — Michael Lomax CDR Inc.\, Victoria
URL:https://lsnl.ca/event/mediating-high-conflict-disputes/
LOCATION:Online
CATEGORIES:Continuing Professional Development
END:VEVENT
END:VCALENDAR