BEGIN:VCALENDAR
VERSION:2.0
PRODID:-//The Law Society of Newfoundland and Labrador - ECPv6.15.19//NONSGML v1.0//EN
CALSCALE:GREGORIAN
METHOD:PUBLISH
X-WR-CALNAME:The Law Society of Newfoundland and Labrador
X-ORIGINAL-URL:https://lsnl.ca
X-WR-CALDESC:Events for The Law Society of Newfoundland and Labrador
REFRESH-INTERVAL;VALUE=DURATION:PT1H
X-Robots-Tag:noindex
X-PUBLISHED-TTL:PT1H
BEGIN:VTIMEZONE
TZID:America/St_Johns
BEGIN:DAYLIGHT
TZOFFSETFROM:-0330
TZOFFSETTO:-0230
TZNAME:NDT
DTSTART:20230312T053000
END:DAYLIGHT
BEGIN:STANDARD
TZOFFSETFROM:-0230
TZOFFSETTO:-0330
TZNAME:NST
DTSTART:20231105T043000
END:STANDARD
BEGIN:DAYLIGHT
TZOFFSETFROM:-0330
TZOFFSETTO:-0230
TZNAME:NDT
DTSTART:20240310T053000
END:DAYLIGHT
BEGIN:STANDARD
TZOFFSETFROM:-0230
TZOFFSETTO:-0330
TZNAME:NST
DTSTART:20241103T043000
END:STANDARD
BEGIN:DAYLIGHT
TZOFFSETFROM:-0330
TZOFFSETTO:-0230
TZNAME:NDT
DTSTART:20250309T053000
END:DAYLIGHT
BEGIN:STANDARD
TZOFFSETFROM:-0230
TZOFFSETTO:-0330
TZNAME:NST
DTSTART:20251102T043000
END:STANDARD
END:VTIMEZONE
BEGIN:VEVENT
DTSTART;TZID=America/St_Johns:20241107T123000
DTEND;TZID=America/St_Johns:20241107T133000
DTSTAMP:20260420T234940
CREATED:20241021T153423Z
LAST-MODIFIED:20241021T153423Z
UID:24329-1730982600-1730986200@lsnl.ca
SUMMARY:Mediation Advocacy: The Ignored Middle Child
DESCRIPTION:The Commonwealth Lawyers Association invites you to join them for a mediation guest lecture series for episode 5 takes place with Gregory Vijayendran SC\, CLA Council member for Singapore and Panelist for the Singapore International Mediation Centre. \nRegister here to attend \nOpportunities abound these days to pursue a credentials and career as a mediator. As the “eldest child” in the room\, mediators guide\, facilitate\, nurture and set the agenda and pace of mediation. Clients new to mediation or relatively inexperienced are the “youngest child” who often need handholding and careful navigation about the process and practice of mediation. But what of the advocates themselves? Are they the proverbial “ignored middle children”? The speaker will touch on culture\, language\, ethos\, principles and best practices of mediation advocacy – a topic sometimes understated but mostly forgotten. He will contend that mediation advocacy plays a vital and overlooked role in mediation’s success \nDate: 7th November 2024\n \nTIME: \n8.00 am Jamaica\n8.00 am The Bahamas\n9.00 am Dominica / Trinidad and Tobago / St Vincent and the Grenadines\n1.00 pm United Kingdom\n2.00 pm Nigeria\n3.00 pm Zambia\n6.30 pm India\n9.00 pm Singapore / Malaysia / Hong Kong\n11.00 pm PNG \nRegister here to attend \nPanelist \n\nGregory Vijayendran SC\n\nEpisode 6 – 14th November – Interplay of Psychology\, Neuroscience and Conflict in Mediation
URL:https://lsnl.ca/event/mediation-advocacy-the-ignored-middle-child/
LOCATION:Online
CATEGORIES:Continuing Professional Development
END:VEVENT
BEGIN:VEVENT
DTSTART;TZID=America/St_Johns:20241107T133000
DTEND;TZID=America/St_Johns:20241107T150000
DTSTAMP:20260420T234940
CREATED:20240805T162616Z
LAST-MODIFIED:20240805T162737Z
UID:23844-1730986200-1730991600@lsnl.ca
SUMMARY:Preventing & Dealing with Will Drafting Errors
DESCRIPTION:Live webinar with chat\n*includes 60 day replay\n9:00 am – 10:30 am (Pacific)\n10:00 am – 11:30 am (Mountain)\n11:00 am – 12:30 pm (Central)\n12:00 pm – 1:30 pm (Eastern)\n1:00 pm – 2:30 pm (Atlantic)\n1:30 pm – 3:00 pm (Newfoundland) \n*This program features real-time audio and video of the presenter with synchronized presentation slides\, and a chat feature that allows for live Q & A. SK attendees please verify whether you align with Central (MB) or Mountain (AB) time based on season and location. \n\n\nTechnical Information:\nLive webinars allow you to hear and view faculty\, see their presentation slides\, and ask questions by chat. You will need a current web browser (Chrome (Chrome works best)\, Safari\, Firefox)\, a wired (better than wireless) connection to the Internet of at least 2 Mbps. You can test your internet speed/bandwidth here. If you miss the live program\, you can access the archive\, at your convenience\, for 60 days. \n\n\n\n\nWho Should Attend\nAll lawyers who draft Wills should attend this program. \n\n\nAbout the Program\nWill drafting errors are the single most common issue in claims against lawyers practicing in the wills and estates area. Many of these claims stem from mistakes that are only discovered when the the Will is brought forward in connection with the administration of the estate. Sadly\, most of these will drafting errors could have been prevented. In this webinar\, experienced estates litigation lawyer and defence and repair counsel Jenny Bogod explains how lawyers who draft Wills can limit their potential claims exposure by implementing fulsome procedures for Will drafting and execution. Following these best practices will assist you not only in avoiding malpractice claims\, but also in ensuring that full effect is given to your clients’ wishes. After just 90 minutes\, you’ll better understand: \n\nthe standard of care imposed upon a solicitor acting on a Will drafting retainer\nhow a “drafting checklist” can help avoid typographical and other errors\nspecific examples of practices that generate a well-documented file\ncircumstances where you should self-report to your insurer\n\nAs guardian of your client’s testamentary intentions\, you must undertake careful consideration and inquiry at every stage of a Will drafting engagement. Don’t miss this opportunity to gain practical tips to help you avoid the Achilles heel of mistakes and claims for wills and estates lawyers! \n\n\nMeet Your Presenter\n\nJenny Bogod is a passionate litigator whose litigation practice at Rosen Sack LLP focuses on estate\, trusts and capacity litigation as well as professional negligence. Jenny represents dependants\, estates\, beneficiaries and persons whose capacity is being questioned by others in connection with Will challenges\, Will interpretation applications\, power of attorney disputes\, dependant support claims and guardianship applications. Jenny is also designated as Preferred Counsel by the Lawyers’ Professional Indemnity Company\, the professional liability insurer for lawyers in Ontario. She acts as defence and repair counsel in connection with solicitor negligence matters related to estates and trusts\, family law\, civil litigation and real estate. Jenny regularly speaks and writes about estates related topics\, including for the Law Society of Ontario\, the OBA\, Advocate Daily\, CanLII Connects\, and OBA Section Insider: Elder Law. \n\n\n\nSchedule\nWelcome and Introduction \nDuties of a Will Drafting Solicitor \nTechniques to Avoid Will Drafting Claims \n\nMaking Appropriate Inquiries\nGuarding Against Clerical Errors\nReducing All Instructions and Advice to Writing\nEnsuring Competency to Act\n\nDealing with Drafting Errors Once Discovered \nProgram Wrap-up and Evaluation
URL:https://lsnl.ca/event/preventing-dealing-with-will-drafting-errors/
LOCATION:Online
CATEGORIES:Continuing Professional Development
END:VEVENT
END:VCALENDAR