BEGIN:VCALENDAR
VERSION:2.0
PRODID:-//The Law Society of Newfoundland and Labrador - ECPv6.15.19//NONSGML v1.0//EN
CALSCALE:GREGORIAN
METHOD:PUBLISH
X-ORIGINAL-URL:https://lsnl.ca
X-WR-CALDESC:Events for The Law Society of Newfoundland and Labrador
REFRESH-INTERVAL;VALUE=DURATION:PT1H
X-Robots-Tag:noindex
X-PUBLISHED-TTL:PT1H
BEGIN:VTIMEZONE
TZID:America/St_Johns
BEGIN:DAYLIGHT
TZOFFSETFROM:-0330
TZOFFSETTO:-0230
TZNAME:NDT
DTSTART:20230312T053000
END:DAYLIGHT
BEGIN:STANDARD
TZOFFSETFROM:-0230
TZOFFSETTO:-0330
TZNAME:NST
DTSTART:20231105T043000
END:STANDARD
BEGIN:DAYLIGHT
TZOFFSETFROM:-0330
TZOFFSETTO:-0230
TZNAME:NDT
DTSTART:20240310T053000
END:DAYLIGHT
BEGIN:STANDARD
TZOFFSETFROM:-0230
TZOFFSETTO:-0330
TZNAME:NST
DTSTART:20241103T043000
END:STANDARD
BEGIN:DAYLIGHT
TZOFFSETFROM:-0330
TZOFFSETTO:-0230
TZNAME:NDT
DTSTART:20250309T053000
END:DAYLIGHT
BEGIN:STANDARD
TZOFFSETFROM:-0230
TZOFFSETTO:-0330
TZNAME:NST
DTSTART:20251102T043000
END:STANDARD
END:VTIMEZONE
BEGIN:VEVENT
DTSTART;VALUE=DATE:20241118
DTEND;VALUE=DATE:20241120
DTSTAMP:20260420T235605
CREATED:20240827T164530Z
LAST-MODIFIED:20240827T164530Z
UID:24011-1731888000-1732060799@lsnl.ca
SUMMARY:Mediation Master Class
DESCRIPTION:An in-depth clinical practice and discussion course for mediators\n\n\n\n\n\n\nPlease note: This course will not be added to Courses on Demand.  Courses involving professional speakers and skills-based workshops generally do not get added to Courses on Demand. \nWho should attend: Experienced mediators in private practice\, mediators working in institutional settings (including courts and tribunals)\, or those providing contract mediation services. Scenarios will be drawn from participants’ areas of interest and are likely to include contexts ranging from workplace to family to commercial and more. \nLearning level: Advanced \nMediation Master Class offers an opportunity for experienced mediators to: \n\nreflect on current topics in the mediation field\npractice advanced skills\ncompare and learn from best practices across different mediation contexts\n\nThis is a highly participatory course. You will take part in practice exercises\, roleplays\, and small group discussions. In addition\, you will be invited to bring additional topics forward for discussion. \nThis course counts for 6.0 ADR CPD hours. \n*DISCLAIMER: Learners are required to participate fully in the course. “Full participation” is in the faculty’s sole discretion. Activities such as reading the paper\, watching video programming on their computer\, not being present\, engaging in phone calls\, and disrupting the class with non-relevant activities will demonstrate a lack of full participation. \nLaw Society of BC CPD Hours: 12 hours (this course will include a minimum of 2 hours of professional responsibility and ethics\, client care and relations\, and/or practice management) \nCourse Instructor\nSharon Sutherland\, RRM — Executive Director\, Mediate BC\, Tsawwassen \nCLEBC Programs Coordinator
URL:https://lsnl.ca/event/mediation-master-class/
LOCATION:Online
CATEGORIES:Continuing Professional Development
END:VEVENT
END:VCALENDAR