BEGIN:VCALENDAR
VERSION:2.0
PRODID:-//The Law Society of Newfoundland and Labrador - ECPv6.15.19//NONSGML v1.0//EN
CALSCALE:GREGORIAN
METHOD:PUBLISH
X-WR-CALNAME:The Law Society of Newfoundland and Labrador
X-ORIGINAL-URL:https://lsnl.ca
X-WR-CALDESC:Events for The Law Society of Newfoundland and Labrador
REFRESH-INTERVAL;VALUE=DURATION:PT1H
X-Robots-Tag:noindex
X-PUBLISHED-TTL:PT1H
BEGIN:VTIMEZONE
TZID:America/St_Johns
BEGIN:DAYLIGHT
TZOFFSETFROM:-0330
TZOFFSETTO:-0230
TZNAME:NDT
DTSTART:20230312T053000
END:DAYLIGHT
BEGIN:STANDARD
TZOFFSETFROM:-0230
TZOFFSETTO:-0330
TZNAME:NST
DTSTART:20231105T043000
END:STANDARD
BEGIN:DAYLIGHT
TZOFFSETFROM:-0330
TZOFFSETTO:-0230
TZNAME:NDT
DTSTART:20240310T053000
END:DAYLIGHT
BEGIN:STANDARD
TZOFFSETFROM:-0230
TZOFFSETTO:-0330
TZNAME:NST
DTSTART:20241103T043000
END:STANDARD
BEGIN:DAYLIGHT
TZOFFSETFROM:-0330
TZOFFSETTO:-0230
TZNAME:NDT
DTSTART:20250309T053000
END:DAYLIGHT
BEGIN:STANDARD
TZOFFSETFROM:-0230
TZOFFSETTO:-0330
TZNAME:NST
DTSTART:20251102T043000
END:STANDARD
END:VTIMEZONE
BEGIN:VEVENT
DTSTART;VALUE=DATE:20241121
DTEND;VALUE=DATE:20241122
DTSTAMP:20260420T234930
CREATED:20240409T123229Z
LAST-MODIFIED:20240409T123229Z
UID:22932-1732147200-1732233599@lsnl.ca
SUMMARY:Administrative Law Conference 2024
DESCRIPTION:9:00 am – 4:00 pm\nVancouver Location TBA\nor attend via webinar \nCan’t make the webinar or rebroadcasts?\nWant online CPD available 24/7?\nSubscribe to Courses On Demand\, our comprehensive online resource with 21\,500+ videos and 5\,400+ papers from CLEBC courses. This course will be added to Courses on Demand approximately 30 days from the original course date. \n\nWho should attend: Those who appear before\, advise\, or sit as a member of an administrative tribunal and/or those who appear as counsel in court in applications for judicial review and appeals from administrative tribunals. \nLearning level: Intermediate/Advanced \nIt can be difficult to stay on top of all the changes happening in administrative law. \nThis annual conference is your efficient solution to learning about recent decisions\, legislative updates\, and current trends in this complex practice area. Hear from a distinguished faculty of judges\, academics\, and leading lawyers who have researched\, analyzed\, and curated key developments over the past year to share with you. \nYou will leave this conference up to date and equipped with new practice tips for your administrative law files. This year\, we are pleased to have the Honourable Michelle O’Bonsawin speaking at the conference. \nJoin us and review a year’s worth of administrative law developments in a day! \nLaw Society of BC CPD Hours: 6 hours (this course will contain a minimum of 1 hour pertaining to professional responsibility and ethics\, client care and relations\, and/or practice management). \nCourse Chairs\nKaitlyn Chewka — Lovett Westmacott\, Victoria\nAlison M. Latimer\, KC — Barrister & Solicitor\, Vancouver \n\n\n\n\n\n\n*Please note: The in-person session is dependent on a minimum number of registrants and may not be confirmed until 4 weeks before the course date. \nAre you a member of the Indigenous legal community (lawyer/Articled Student/legal support staff/paralegal) or a non-lawyer Indigenous community member?\nWe value your contributions and encourage your participation in all of our programs. To increase accessibility\, we offer a 50% discount* to all Indigenous lawyers/Articled Students/legal support staff/paralegals and a limited number of free online registrations to non-lawyer Indigenous community members. (*discount applies to Regular prices\, not Early Bird prices). Please contact Customer Service to find out more. \nUnable to attend a course without financial assistance from CLEBC?\nClick here for bursary information. \nWant to register for a course now\, but prefer a monthly payment plan?\nCheck out our Easy Pay Plan. \nRegistration includes an electronic copy of the reference materials and lunch for in-person registration.\n\n\n\nJust want the materials from the course?\nSubscribe to Online Course Materials and access 5\,400+ papers produced for CLEBC courses since 2001. \nCLEBC Program Lawyer*\nNadia Myerthall\nnmyerthall@cle.bc.ca\n*non-practising
URL:https://lsnl.ca/event/administrative-law-conference-2024/
LOCATION:Online
CATEGORIES:Continuing Professional Development
END:VEVENT
END:VCALENDAR