BEGIN:VCALENDAR
VERSION:2.0
PRODID:-//The Law Society of Newfoundland and Labrador - ECPv6.15.19//NONSGML v1.0//EN
CALSCALE:GREGORIAN
METHOD:PUBLISH
X-WR-CALNAME:The Law Society of Newfoundland and Labrador
X-ORIGINAL-URL:https://lsnl.ca
X-WR-CALDESC:Events for The Law Society of Newfoundland and Labrador
REFRESH-INTERVAL;VALUE=DURATION:PT1H
X-Robots-Tag:noindex
X-PUBLISHED-TTL:PT1H
BEGIN:VTIMEZONE
TZID:America/St_Johns
BEGIN:DAYLIGHT
TZOFFSETFROM:-0330
TZOFFSETTO:-0230
TZNAME:NDT
DTSTART:20230312T053000
END:DAYLIGHT
BEGIN:STANDARD
TZOFFSETFROM:-0230
TZOFFSETTO:-0330
TZNAME:NST
DTSTART:20231105T043000
END:STANDARD
BEGIN:DAYLIGHT
TZOFFSETFROM:-0330
TZOFFSETTO:-0230
TZNAME:NDT
DTSTART:20240310T053000
END:DAYLIGHT
BEGIN:STANDARD
TZOFFSETFROM:-0230
TZOFFSETTO:-0330
TZNAME:NST
DTSTART:20241103T043000
END:STANDARD
BEGIN:DAYLIGHT
TZOFFSETFROM:-0330
TZOFFSETTO:-0230
TZNAME:NDT
DTSTART:20250309T053000
END:DAYLIGHT
BEGIN:STANDARD
TZOFFSETFROM:-0230
TZOFFSETTO:-0330
TZNAME:NST
DTSTART:20251102T043000
END:STANDARD
END:VTIMEZONE
BEGIN:VEVENT
DTSTART;VALUE=DATE:20241122
DTEND;VALUE=DATE:20241123
DTSTAMP:20260420T235428
CREATED:20240827T164719Z
LAST-MODIFIED:20240827T164719Z
UID:24013-1732233600-1732319999@lsnl.ca
SUMMARY:Aboriginal Law Conference 2024
DESCRIPTION:Can’t make the webinar or rebroadcasts?\nWant online CPD available 24/7?\n \nSubscribe to Courses On Demand\, our comprehensive online resource with 1\,500+ videos and 5\,400+ papers from CLEBC courses. This course will be added to Courses on Demand approximately 30 days from the original course date. \nWho should attend: Lawyers practicing in the area of Aboriginal law\, in private practice\, industry\, and government; others who focus on Aboriginal law issues will also benefit\, including Indigenous organizations\, in-house counsel\, and law students \nLearning level: All levels \nThis annual conference brings together leading Aboriginal law practitioners to address current and emerging issues with a focus on BC. \nWe will explore the legal and pragmatic implications of current developments affecting Indigenous Peoples\, governments\, and industry. We aim to provide those working in the area with a substantive look at the trends and practical approaches to meet the increasingly complex challenges in this practice area. \nWe look forward to having you with us. \nLaw Society of BC CPD Hours: 6 hours (this course will contain a minimum of 1 hour pertaining to professional responsibility and ethics\, client care and relations\, and/or practice management) \nCourse Chairs\nGary S. Campo X̱eyx̱kinem — Woodward & Company Lawyers LLP\, Victoria\nAva G. Murphy — Woodward & Company Lawyers LLP\, Victoria\n \n\n\n\nPricing\nEARLY BIRD \nRegister by Oct. 25/24\nRegular Price\nAfter Oct. 25/24\n\n\n\n\nIn-person*\n$619\n$689\n\n\nIn-person Articled Student*\n$399\n$399\n\n\nWebinar\n$529\n$599\n\n\nWebinar Articled Student\n$309\n$309\n\n\n\n\n\n\nJump Start 2025\nEARLY BIRD \nRegister by Feb. 3/25\nRegular Price\nAfter Feb. 3/25\n\n\n\n\nRebroadcast\n$479\n$549\n\n\nRebroadcast Articled Student\n$279\n$279\n\n\n\n\n\n\n\n*Please note: The in-person session is dependent on a minimum number of registrants and may not be confirmed until 4 weeks before the course date. \nAre you a member of the Indigenous legal community (lawyer/Articled Student/legal support staff/paralegal) or a non-lawyer Indigenous community member?\nWe value your contributions and encourage your participation in all of our programs. To increase accessibility\, we offer a 50% discount* to all Indigenous lawyers/Articled Students/legal support staff/paralegals and a limited number of free online registrations to non-lawyer Indigenous community members (*discount applies to Regular prices\, not Early Bird prices). Please contact Customer Service to find out more. \nUnable to attend a course without financial assistance from CLEBC?\nClick here for bursary information. \nWant to register for a course now\, but prefer a monthly payment plan?\nCheck out our Easy Pay Plan. \nRegistration includes an electronic copy of the reference materials and lunch for\nin-person registration.\n\n\n\nCLEBC Program Lawyer*\nTeresa Sheward\ntsheward@cle.bc.ca\n*non-practising
URL:https://lsnl.ca/event/aboriginal-law-conference-2024/
LOCATION:Online
CATEGORIES:Continuing Professional Development
END:VEVENT
END:VCALENDAR