BEGIN:VCALENDAR
VERSION:2.0
PRODID:-//The Law Society of Newfoundland and Labrador - ECPv6.15.19//NONSGML v1.0//EN
CALSCALE:GREGORIAN
METHOD:PUBLISH
X-WR-CALNAME:The Law Society of Newfoundland and Labrador
X-ORIGINAL-URL:https://lsnl.ca
X-WR-CALDESC:Events for The Law Society of Newfoundland and Labrador
REFRESH-INTERVAL;VALUE=DURATION:PT1H
X-Robots-Tag:noindex
X-PUBLISHED-TTL:PT1H
BEGIN:VTIMEZONE
TZID:America/St_Johns
BEGIN:DAYLIGHT
TZOFFSETFROM:-0330
TZOFFSETTO:-0230
TZNAME:NDT
DTSTART:20230312T053000
END:DAYLIGHT
BEGIN:STANDARD
TZOFFSETFROM:-0230
TZOFFSETTO:-0330
TZNAME:NST
DTSTART:20231105T043000
END:STANDARD
BEGIN:DAYLIGHT
TZOFFSETFROM:-0330
TZOFFSETTO:-0230
TZNAME:NDT
DTSTART:20240310T053000
END:DAYLIGHT
BEGIN:STANDARD
TZOFFSETFROM:-0230
TZOFFSETTO:-0330
TZNAME:NST
DTSTART:20241103T043000
END:STANDARD
BEGIN:DAYLIGHT
TZOFFSETFROM:-0330
TZOFFSETTO:-0230
TZNAME:NDT
DTSTART:20250309T053000
END:DAYLIGHT
BEGIN:STANDARD
TZOFFSETFROM:-0230
TZOFFSETTO:-0330
TZNAME:NST
DTSTART:20251102T043000
END:STANDARD
END:VTIMEZONE
BEGIN:VEVENT
DTSTART;VALUE=DATE:20241203
DTEND;VALUE=DATE:20241204
DTSTAMP:20260420T221253
CREATED:20240717T124108Z
LAST-MODIFIED:20240717T124108Z
UID:23752-1733184000-1733270399@lsnl.ca
SUMMARY:Strategies for Challenging Discussions
DESCRIPTION:Whether sharing bad news with a client\, providing corrective action\, or talking with a colleague about an uncomfortable issue\, difficult conversations are typically stressful and often take a large mental and emotional toll. Many people avoid difficult conversations for these reasons\, or find themselves ill prepared when they must have them. Yet\, the ability to handle difficult conversations respectfully and professionally is one of the most important skills for success in the workplace. This workshop will review the key elements of preparing for\, conducting\, and concluding difficult conversations. Participants will leave with a set of tools to help ensure that difficult conversations are productive\, professional\, and respectful for all involved.\n\n\n\n\n\n\n\n\n\n\n\nLearning Objectives\nUpon completion\, participants should be able to: \n\nDescribe how to prepare for the next difficult conversation you encounter\nIdentify when and how to conduct a difficult conversation\nList some tools to help you in your difficult conversations\n\n\n\nMethod of Delivery\nPresentation\, video\, case study exercises\, experiential practice\, personal reflection\, delivered electronically \n\n*Please allow only the registered individual(s) to view the materials. \n\n\n\n\nSome of the Topics Included\n\nTypes of Difficult Conversations\nOur Natural Responses to Difficult Conversations\nDetermining if a Conversation is Necessary\nHow to Stop Avoiding the Interaction\nHow to Prepare for the Difficult Conversation\nKey Skills and Strategies for Engaging\nWhat to Do If They Won’t Engage\nConcluding the Conversation\nKeys for Delivering Bad News\nHow to be Open to Receiving the Difficult Conversation\n\n\n\nTarget Audience\nThis is an introductory-intermediate level workshop applicable to both employees and managers. \n\n\nTerms & Conditions\nView our cancellation policy and other information regarding your live virtual workshop or for your in-person workshop. \nThis is a live virtual event\, please check your system requirements prior to registering.
URL:https://lsnl.ca/event/strategies-for-challenging-discussions/
LOCATION:Online
CATEGORIES:Continuing Professional Development
END:VEVENT
BEGIN:VEVENT
DTSTART;TZID=America/St_Johns:20241203T113000
DTEND;TZID=America/St_Johns:20241204T190000
DTSTAMP:20260420T221253
CREATED:20241105T142355Z
LAST-MODIFIED:20241105T142355Z
UID:24421-1733225400-1733338800@lsnl.ca
SUMMARY:Professional Grant Development Live Online Workshop
DESCRIPTION:Sponsored by the Grant Training Center \nThe Professional Grant Development live online workshop\, which is normally held in Halifax\, has moved online. It will include the same content and length of instruction. \nYou will learn how to: \n\nSearch and apply for Tri-Council (NSERC\, SSHRC\, CIHR)\, foundation and corporate donors\nFocus on foundation and corporate giving for Nova Scotia\nUnderstand the new funding guidelines for writing winning grants\nComprehend the review process and address key points for reviewers\nDemonstrate the merits\, excellence and innovation of your proposal\nWrite professional grants that stand out from the competition\n\nOur ultimate goal is for you to walk away with a product specific to your interests. \nRegister  \nWorkshop Fee: $595.00 USD\nIncludes a comprehensive list of resources\, workbook\, and certificate of completion \nRebate of $45.00 USD per person\nFor two or more registrants from the same organization \nYou may be interested in:\nEssentials of Grant Management Online Workshop\nDecember 16\, 2024
URL:https://lsnl.ca/event/professional-grant-development-live-online-workshop/
LOCATION:Online
CATEGORIES:Continuing Professional Development
END:VEVENT
END:VCALENDAR