BEGIN:VCALENDAR
VERSION:2.0
PRODID:-//The Law Society of Newfoundland and Labrador - ECPv6.15.19//NONSGML v1.0//EN
CALSCALE:GREGORIAN
METHOD:PUBLISH
X-WR-CALNAME:The Law Society of Newfoundland and Labrador
X-ORIGINAL-URL:https://lsnl.ca
X-WR-CALDESC:Events for The Law Society of Newfoundland and Labrador
REFRESH-INTERVAL;VALUE=DURATION:PT1H
X-Robots-Tag:noindex
X-PUBLISHED-TTL:PT1H
BEGIN:VTIMEZONE
TZID:America/St_Johns
BEGIN:DAYLIGHT
TZOFFSETFROM:-0330
TZOFFSETTO:-0230
TZNAME:NDT
DTSTART:20240310T053000
END:DAYLIGHT
BEGIN:STANDARD
TZOFFSETFROM:-0230
TZOFFSETTO:-0330
TZNAME:NST
DTSTART:20241103T043000
END:STANDARD
BEGIN:DAYLIGHT
TZOFFSETFROM:-0330
TZOFFSETTO:-0230
TZNAME:NDT
DTSTART:20250309T053000
END:DAYLIGHT
BEGIN:STANDARD
TZOFFSETFROM:-0230
TZOFFSETTO:-0330
TZNAME:NST
DTSTART:20251102T043000
END:STANDARD
BEGIN:DAYLIGHT
TZOFFSETFROM:-0330
TZOFFSETTO:-0230
TZNAME:NDT
DTSTART:20260308T053000
END:DAYLIGHT
BEGIN:STANDARD
TZOFFSETFROM:-0230
TZOFFSETTO:-0330
TZNAME:NST
DTSTART:20261101T043000
END:STANDARD
END:VTIMEZONE
BEGIN:VEVENT
DTSTART;VALUE=DATE:20250122
DTEND;VALUE=DATE:20250123
DTSTAMP:20260420T203144
CREATED:20241120T145845Z
LAST-MODIFIED:20241120T145845Z
UID:24545-1737504000-1737590399@lsnl.ca
SUMMARY:The Civil Litigator’s Survival Guide to Evidence
DESCRIPTION:Download Brochure\n\n\n\n\n\n\n\n\n\n\n\n\n\n\n\nWhat You’ll Learn\nWho Should Attend\nFaculty\nAgenda\nPricing and Group Rates\nFinancial Assistance\nCPD and Accreditation\nFAQs\nClient and Technical Support\n\nRegister\n\n\n\n\n\n\n\n\n\nEnsure you have an up-to-date understanding of the key evidentiary principles and strategies that are essential to build your case\, whether it settles or proceeds to trial.\nThe law and best practices concerning evidence are continually evolving. As a litigator\, it’s critical to not just keep on pace but to stay ahead of emerging issues. \nNow in its 19th year\, this celebrated annual OsgoodePD conference will give you the practical tips and knowledge you need to prevail in negotiations\, discoveries\, motions\, pre-trials and trials. \nOver an information-packed day\, you will have the opportunity to tap into the expertise of a distinguished faculty of judges and litigators\, get the updated knowledge you need to remain current and deepen your understanding of ongoing evidentiary issues that could impact your case. \nCan’t Make the Date? Registration includes 120-day unlimited\, online access to the recorded program.\n\n\nWhat You’ll Learn\n\n\n\n\n\nHearsay – fundamentals and new practice tips\, including how and when to object\nTactics for maximizing the weight of your evidence\nTechniques for handling experts before and during trial\nMotions and applications: the key differences in their role in determining the evidence you need\nProven strategies when challenging a claim of privilege\nBest practices when introducing or responding to a prior inconsistent statement\nStrategies to apply the rules of evidence to mediations and arbitrations\nPractical advice and approaches to ethical/professional dilemmas\nTips from the Bench: Distinguished judges share the common mistakes they see litigators making and what to do instead\n\n\n\n\n\n\n\n\n\n\n\nWho Should Attend\n\n\n\n\n\nCivil litigators (plaintiffs’ and defendants’ counsel)\nIn-house litigation counsel\nLitigation law clerks\nLitigation paralegals
URL:https://lsnl.ca/event/the-civil-litigators-survival-guide-to-evidence-2/
LOCATION:Online
CATEGORIES:Continuing Professional Development
END:VEVENT
BEGIN:VEVENT
DTSTART;TZID=America/St_Johns:20250122T120000
DTEND;TZID=America/St_Johns:20250122T130000
DTSTAMP:20260420T203144
CREATED:20241120T153504Z
LAST-MODIFIED:20250120T143320Z
UID:24570-1737547200-1737550800@lsnl.ca
SUMMARY:Webinar – Calculating Income for Child Support: Top Ten Cases (CPD 393)
DESCRIPTION:Originally scheduled for June 5\, 2024\, this webinar has been rescheduled to January 22\, 2025. \nVarious factors influence income calculations for child support and reviewing cases can be incredibly beneficial for understanding how courts interpret and apply The Federal Child Support Guidelines. Each case presents unique scenarios and challenges\, allowing practitioners to learn from real-life situations\, stay updated on any changes or trends in the law\, and apply that knowledge to their own cases\, ensuring they provide the most accurate and effective representation for their clients. Join Tammi Hackl for this webinar summarizing the top ten cases on calculating income for child support. \nPresenter: Tammi Hackl\, Scharfstein LLP \n\n\n\nOrganizer\n\nContinuing Professional Development\nPhone\n306-569-8242\nEmail\ncpd@lawsociety.sk.ca\n\n\nView Organizer Website\n\n\n\n\nVenue\n\nOnlineRegistration\n\n\n\nRegister here. Nonmembers will need to set up a Customer account to register.  Users can create a username and password here and complete the form fields on the right side of the page.
URL:https://lsnl.ca/event/webinar-calculating-income-for-child-support-top-ten-cases-cpd-393/
LOCATION:Online
CATEGORIES:Continuing Professional Development
END:VEVENT
END:VCALENDAR