BEGIN:VCALENDAR
VERSION:2.0
PRODID:-//The Law Society of Newfoundland and Labrador - ECPv6.15.19//NONSGML v1.0//EN
CALSCALE:GREGORIAN
METHOD:PUBLISH
X-ORIGINAL-URL:https://lsnl.ca
X-WR-CALDESC:Events for The Law Society of Newfoundland and Labrador
REFRESH-INTERVAL;VALUE=DURATION:PT1H
X-Robots-Tag:noindex
X-PUBLISHED-TTL:PT1H
BEGIN:VTIMEZONE
TZID:America/St_Johns
BEGIN:DAYLIGHT
TZOFFSETFROM:-0330
TZOFFSETTO:-0230
TZNAME:NDT
DTSTART:20240310T053000
END:DAYLIGHT
BEGIN:STANDARD
TZOFFSETFROM:-0230
TZOFFSETTO:-0330
TZNAME:NST
DTSTART:20241103T043000
END:STANDARD
BEGIN:DAYLIGHT
TZOFFSETFROM:-0330
TZOFFSETTO:-0230
TZNAME:NDT
DTSTART:20250309T053000
END:DAYLIGHT
BEGIN:STANDARD
TZOFFSETFROM:-0230
TZOFFSETTO:-0330
TZNAME:NST
DTSTART:20251102T043000
END:STANDARD
BEGIN:DAYLIGHT
TZOFFSETFROM:-0330
TZOFFSETTO:-0230
TZNAME:NDT
DTSTART:20260308T053000
END:DAYLIGHT
BEGIN:STANDARD
TZOFFSETFROM:-0230
TZOFFSETTO:-0330
TZNAME:NST
DTSTART:20261101T043000
END:STANDARD
END:VTIMEZONE
BEGIN:VEVENT
DTSTART;VALUE=DATE:20250203
DTEND;VALUE=DATE:20250204
DTSTAMP:20260420T185454
CREATED:20241120T150246Z
LAST-MODIFIED:20241120T150246Z
UID:24549-1738540800-1738627199@lsnl.ca
SUMMARY:Aboriginal Law: Critical and Emerging Issues
DESCRIPTION:What You’ll Learn\nWho Should Attend\nFaculty\nPricing and Group Rates\nFinancial Assistance\nCPD and Accreditation\nFAQs\nClient and Technical Support\n\nRegister\n\n\n\n\n\n\n\n\n\nAboriginal law is evolving constantly. New and complex issues are on the horizon. Do you have what you need to navigate the challenges and advise with confidence?\n\n\n\nWith rapid developments in the caselaw\, legislation and policy changes\, professionals working in the Aboriginal law arena need to be on top of things. Over one intensive day\, drill down on the critical issues and acquire the key information and practical strategies you need to successfully navigate these complex issues. \nBenefit from the insights and experience of our national faculty of senior lawyers and government\, community and industry representatives as they grapple with the current and emerging challenges and opportunities. \n\nCan’t Make the Date? Registration includes 120-day unlimited\, online access to the recorded program. \n\n\n\nWhat You’ll Learn\n\n\n\n\n\nCritical Case Law Update: the key cases and how they impact your practice\nThe UNDRIP Era: where we are at and what’s ahead\nOperationalizing Indigenous Laws\, including thoughtful guidance on:\n\n\n\n\n\n\nSelf-governance and co-management agreements\nParallel environmental assessments\n\n\n\n\n\n\n\n\n\n\nNavigating the ramifications of Rio Tinto\nEquity Participation in Resource Development – past lessons learned for future success\n“Legislative Reconciliation”: Reconciling Canadian and Indigenous Laws\n\n\n\n\n\n\n\nPLUS! Join us in person to connect with colleagues and expand your network. \n\n\n\n\nWho Should Attend\n\n\n\n\n\nLawyers practicing in the areas of Aboriginal law\, natural resources\, environmental and Constitutional law\nGovernment policy advisors\, lawyers and officials – federal\, provincial and municipal sectors\nIn-House Counsel\, particularly those working in the energy\, resource and infrastructure development sectors\nLeaders\, councillors and advisors of Indigenous communities\nNegotiators and mediators for Indigenous communities\, government and industry
URL:https://lsnl.ca/event/aboriginal-law-critical-and-emerging-issues-2/
LOCATION:Online
CATEGORIES:Continuing Professional Development
END:VEVENT
BEGIN:VEVENT
DTSTART;VALUE=DATE:20250203
DTEND;VALUE=DATE:20250206
DTSTAMP:20260420T185454
CREATED:20241120T152207Z
LAST-MODIFIED:20241120T154002Z
UID:24560-1738540800-1738799999@lsnl.ca
SUMMARY:Conference on Addiction\, Mental Health and the Law (In Person)
DESCRIPTION:Location: In Person: Toronto\, ON\n\n\nDownload program\nREGISTER NOW\n\n\nOVERVIEW  \nCIAJ’s Conference on Addiction\, Mental Health\, and the Law will delve into the complex interplay between substance abuse\, mental health issues\, and the justice system. This event will bring together experts from various disciplines and Indigenous Knowledge Keepers to examine the multifaceted challenges faced by courts\, law enforcement\, treatment providers\, policymakers\, as well as communities\, families\, and individuals. \nKey questions to be addressed include: How do mental health issues\, addiction\, and criminality interact and influence each other? What are the most effective approaches to treating individuals struggling with addiction? How do substance abuse and mental illness complicate treatment and intervention? Why are these issues becoming more prevalent and difficult to manage? What role do harm reduction policies play\, and can they be integrated with effective public safety measures? How do treatment courts fit into the broader justice landscape\, and are the tools provided by the Criminal Code adequate for addressing these challenges? \nJoin us as we explore these pressing questions and discuss necessary changes to better address the challenges at the intersection of addiction\, mental health\, and the law. \nBilingual program with simultaneous interpretation.\nParticipation in this program is accredited in provinces where CLE requirements for lawyers are mandatory.\nParticipation in this program is approved under Section 41 (1) of the Judges Act. \n\nKEYNOTE SPEAKER \nGuy Felicella\, International Speaker \nGuy Felicella is an international speaker and advocate for drug policy reform. Overcoming a two-decade substance use disorder\, he has turned his life around after years of homelessness\, gang involvement\, and surviving overdoses in Vancouver’s Downtown Eastside. Now\, Guy passionately promotes harm reduction\, trauma therapy\, and faster access to treatment\, using his story of resilience and recovery to inspire others and push for compassionate drug policies and addiction support.
URL:https://lsnl.ca/event/conference-on-addiction-mental-health-and-the-law-in-person/
CATEGORIES:Continuing Professional Development
END:VEVENT
END:VCALENDAR