BEGIN:VCALENDAR
VERSION:2.0
PRODID:-//The Law Society of Newfoundland and Labrador - ECPv6.15.19//NONSGML v1.0//EN
CALSCALE:GREGORIAN
METHOD:PUBLISH
X-WR-CALNAME:The Law Society of Newfoundland and Labrador
X-ORIGINAL-URL:https://lsnl.ca
X-WR-CALDESC:Events for The Law Society of Newfoundland and Labrador
REFRESH-INTERVAL;VALUE=DURATION:PT1H
X-Robots-Tag:noindex
X-PUBLISHED-TTL:PT1H
BEGIN:VTIMEZONE
TZID:America/St_Johns
BEGIN:DAYLIGHT
TZOFFSETFROM:-0330
TZOFFSETTO:-0230
TZNAME:NDT
DTSTART:20240310T053000
END:DAYLIGHT
BEGIN:STANDARD
TZOFFSETFROM:-0230
TZOFFSETTO:-0330
TZNAME:NST
DTSTART:20241103T043000
END:STANDARD
BEGIN:DAYLIGHT
TZOFFSETFROM:-0330
TZOFFSETTO:-0230
TZNAME:NDT
DTSTART:20250309T053000
END:DAYLIGHT
BEGIN:STANDARD
TZOFFSETFROM:-0230
TZOFFSETTO:-0330
TZNAME:NST
DTSTART:20251102T043000
END:STANDARD
BEGIN:DAYLIGHT
TZOFFSETFROM:-0330
TZOFFSETTO:-0230
TZNAME:NDT
DTSTART:20260308T053000
END:DAYLIGHT
BEGIN:STANDARD
TZOFFSETFROM:-0230
TZOFFSETTO:-0330
TZNAME:NST
DTSTART:20261101T043000
END:STANDARD
END:VTIMEZONE
BEGIN:VEVENT
DTSTART;VALUE=DATE:20250206
DTEND;VALUE=DATE:20250207
DTSTAMP:20260420T185411
CREATED:20241119T195440Z
LAST-MODIFIED:20241119T195459Z
UID:24522-1738800000-1738886399@lsnl.ca
SUMMARY:Dealing with Difficult People
DESCRIPTION:We all encounter people we find difficult\, and typically conversations with them leave us feeling stressed and frustrated. This workshop explores what is happening in those exchanges and demonstrates how people can adapt their strategies to bring about more productive conversations with those they find difficult. Individual approaches for dealing with difficult people will be discussed\, with an emphasis on understanding and adapting one’s approach to create different results. Participants will explore how to deal with patterns of passive-aggressiveness\, resistance\, and chronic anger\, and how to begin to change difficult patterns using a straightforward\, five-step approach.\n\n\n\n\n\n\n\n\n\n\nLearning Objectives\nUpon completion\, participants should be able to: \n\nUnderstand their own areas of influence and control in their difficult relationships with others\nSee how their personal style may impact their conversation with a person they find difficult\nApply a practical approach for dealing with four different types of difficult people\, including the Chronically Angry Person\, the Resistant Person\, the Passive Aggressive Person\, and the Bullying Person\nDevelop a plan to positively engage with a difficult person they have identified\n\n\n\nMethod of Delivery\nPresentation\, video\, case study exercises\, experiential practice\, personal reflection\, delivered electronically. \n\n*Please allow only the registered individual(s) to view the materials. \n\n\n\n\nSome of the Topics Included\n\nUnderstand their own areas of influence and control in their difficult relationships with others\nSee how their personal style may impact their conversation with a person they find difficult\nApply a practical approach for dealing with four different types of difficult people\, including the Chronically Angry Person\, the Resistant Person\, the Passive Aggressive Person\, and the Bullying Person\nDevelop a plan to positively engage with a difficult person they have identified\n\n\n\nTarget Audience\nThis is an introductory-intermediate level workshop. \n\n\nTerms & Conditions\nView our cancellation policy and other information regarding your live virtual workshop or for your in-person workshop. \nThis is a live virtual event\, please check your system requirements prior to registering. \n\n\n\n\n\n\n\n\n\n\n\nTrainer: David Jung\nDavid has provided leadership for various non-profit organizations for over 25 years. He has a degree in Philosophy\, a diploma in Counselling\, a Master of Arts in Christian Counselling\, as well as certifications in Conflict Resolution and Mediation. In addition to training with ACHIEVE\, he works as ACHIEVE’s Training and Development Specialist. In this role\, David provides support to other trainers and ensures that training material reflects the current research in the field and is consistent with ACHIEVE’s core beliefs. He also works in the field of mediation where he volunteers as a Mediator for the court diversion program in Manitoba. In whatever role David finds himself\, his passion for motivating people to continue their personal journey of learning and growth shines through. David believes that no matter what our role is in the workplace\, we can all continue to grow in our skills to improve our own life and to help improve the lives of others. As a trainer\, he is known for his dynamic workshop facilitation that combines humour and real-world application.
URL:https://lsnl.ca/event/dealing-with-difficult-people-2/
LOCATION:Online
CATEGORIES:Continuing Professional Development
END:VEVENT
BEGIN:VEVENT
DTSTART;TZID=America/St_Johns:20250206T133000
DTEND;TZID=America/St_Johns:20250206T150000
DTSTAMP:20260420T185411
CREATED:20250121T171024Z
LAST-MODIFIED:20250121T171024Z
UID:24992-1738848600-1738854000@lsnl.ca
SUMMARY:The Executor Checklist: Key Tasks\, Dates & Documents
DESCRIPTION:Live webinar with chat* includes 60-day replay\n9:00 am – 10:30 am (Pacific)\n10:00 am – 11:30 am (Mountain)\n11:00 am – 12:30 pm (Central)\n12:00 pm – 1:30 pm (Eastern)\n1:00 pm – 2:30 pm (Atlantic)\n1:30 pm – 3:00 pm (Newfoundland) \n*This program features real-time video of the presenter with synchronized presentation slides\, and a chat feature that allows for live Q & A. SK attendees please verify whether you align with Central (MB) or Mountain (AB) time based on season and location. \n\n\n\n*The circumstances under which CPD credit will be recognized for watching archive programs vary by province. If you are viewing the recording of the live webinar\, please verify with your law society the circumstances under which they will recognize CPD hours for the recording. \n\n\n\nTechnical Information\nLive webinars allow you to view faculty\, see their presentation slides\, and ask questions by chat. You will need a current web browser (Chrome (Chrome works best)\, Safari\, Firefox)\, a wired (better than wireless) connection to the Internet of at least 2 Mbps. You can test your internet speed/bandwidth here. If you miss the live program\, you can access the archive\, at your convenience\, for 60 days. \n\n\n\n\nWho Should Attend\nThis program will be of interest to wills and estates practitioners of all experience levels. \n\n\nAbout the Program\nKnowing the steps to administer an estate is critical for a successful wills and estates practice. Whether you are advising an executor or acting as executor yourself\, fiduciaries must meet specific legal requirements. This highly practical presentation with experienced estates practitioner Krista Clendenning will address key tasks\, dates and documents in the administration process\, from notifying relevant parties to closing the estate. You will learn about important tax matters\, executor compensation\, assessing potential claims\, and pitfalls that may lead to fiduciary liability. Topics include: \n\nNotifying service providers\, applying for a death certificate\, and securing insurance on assets\nDetermining whether probate is required and completing asset inventories\nManaging creditor claims and understanding tax implications and filing deadlines\nTracking time for executor compensation and considerations when making interim distributions\nClosing the estate\, reporting to beneficiaries\, passing of accounts\n\nWhether you’re new to estate administration or seeking to refine your existing toolkit\, this webinar offers an invaluable checklist of essential action items that will help you and your executor clients manage estates with greater confidence and efficiency. Register today to ensure you’re fully prepared for your next estate administration file. \n\n\nMeet Your Presenter\n\nKrista Clendenning is a partner with Tradition Law LLP in Winnipeg\, Manitoba\, practicing in estate planning and estate administration. She has focused her wills practice on planning for family members of persons with disabilities. Krista is a member of the Estate Planning Council of Winnipeg. She earned her T.E.P. and became a member of the Society of Trust and Estate Practitioners in 2021. She is an active speaker on estates law topics\, including for the local branch of STEP\, the Manitoba Bar and the Canadian Bar Association. Krista is also a prolific writer\, including for the Canadian Estates and Trusts Reports and Estates and the Canada Trusts and Pensions Journal. She is a past recipient of the Manitoba Bar Association’s Headnotes and Footnotes Award for her firm’s column on wills and estates decisions in MBA’s monthly newsletter. Finally\, Krista lends her time as editor of the Manitoba chapter of the National Concordance\, a reference guide for estate and succession law across Canada. \n\n\n\nRegister
URL:https://lsnl.ca/event/the-executor-checklist-key-tasks-dates-documents/
LOCATION:Online
CATEGORIES:Continuing Professional Development
END:VEVENT
BEGIN:VEVENT
DTSTART;TZID=America/St_Johns:20250206T170000
DTEND;TZID=America/St_Johns:20250206T183000
DTSTAMP:20260420T185411
CREATED:20250131T152522Z
LAST-MODIFIED:20250131T152522Z
UID:25103-1738861200-1738866600@lsnl.ca
SUMMARY:The Canadian Bar Association-NL Introduces their French Speaking Common Law Lawyers Section
DESCRIPTION:The Canadian Bar Association of Newfoundland and Labrador\, is thrilled to announce the first event hosted by the French-Speaking Common Law Lawyers Section! Join us for a happy hour on Thursday\, February 6th\, from 5:00 PM to 6:30 PM at Wooden Walls Distillery (140 Harbour Drive). \nOur Section Chair\, Michael Gardiner\, is excited to welcome you for an hour of networking and discussion. This is a fantastic opportunity to explore how our section can support your legal practice in French and help you connect with Francophone communities across Newfoundland and Labrador. \nEveryone is welcome! You don’t need to be a member of the section to attend. If this event sparks your interest\, simply email Robyn at cba-nl@cba.org to confirm your attendance. \nWe look forward to seeing you there! \nNous sommes ravis d’annoncer le premier événement organisé par la Section des avocats francophones de droit commun ! Rejoignez-nous pour un cocktail le jeudi 6 février\, de 17h00 à 18h30 à Wooden Walls Distillery (140 Harbour Drive). \nLe président de notre section\, Michael Gardiner\, est heureux de vous accueillir pour une soirée de réseautage et de discussion. Il s’agit d’une occasion extraordinaire d’explorer comment notre section peut soutenir votre pratique juridique en français et vous aider à établir des liens avec les communautés francophones de Terre-Neuve-et-Labrador. \nTout le monde est le bienvenu ! Il n’est pas nécessaire d’être membre de la section pour y assister. Si cet événement vous intéresse\, envoyez un courriel à Robyn à l’adresse cba-nl@cba.org pour confirmer votre présence. \nNous vous attendons avec grand plaisir !
URL:https://lsnl.ca/event/the-canadian-bar-association-nl-introduces-their-french-speaking-common-law-lawyers-section/
CATEGORIES:Continuing Professional Development
END:VEVENT
END:VCALENDAR