BEGIN:VCALENDAR
VERSION:2.0
PRODID:-//The Law Society of Newfoundland and Labrador - ECPv6.15.19//NONSGML v1.0//EN
CALSCALE:GREGORIAN
METHOD:PUBLISH
X-ORIGINAL-URL:https://lsnl.ca
X-WR-CALDESC:Events for The Law Society of Newfoundland and Labrador
REFRESH-INTERVAL;VALUE=DURATION:PT1H
X-Robots-Tag:noindex
X-PUBLISHED-TTL:PT1H
BEGIN:VTIMEZONE
TZID:America/St_Johns
BEGIN:DAYLIGHT
TZOFFSETFROM:-0330
TZOFFSETTO:-0230
TZNAME:NDT
DTSTART:20240310T053000
END:DAYLIGHT
BEGIN:STANDARD
TZOFFSETFROM:-0230
TZOFFSETTO:-0330
TZNAME:NST
DTSTART:20241103T043000
END:STANDARD
BEGIN:DAYLIGHT
TZOFFSETFROM:-0330
TZOFFSETTO:-0230
TZNAME:NDT
DTSTART:20250309T053000
END:DAYLIGHT
BEGIN:STANDARD
TZOFFSETFROM:-0230
TZOFFSETTO:-0330
TZNAME:NST
DTSTART:20251102T043000
END:STANDARD
BEGIN:DAYLIGHT
TZOFFSETFROM:-0330
TZOFFSETTO:-0230
TZNAME:NDT
DTSTART:20260308T053000
END:DAYLIGHT
BEGIN:STANDARD
TZOFFSETFROM:-0230
TZOFFSETTO:-0330
TZNAME:NST
DTSTART:20261101T043000
END:STANDARD
END:VTIMEZONE
BEGIN:VEVENT
DTSTART;TZID=America/St_Johns:20250207T120000
DTEND;TZID=America/St_Johns:20250207T131500
DTSTAMP:20260420T203237
CREATED:20250109T192427Z
LAST-MODIFIED:20250109T192427Z
UID:24887-1738929600-1738934100@lsnl.ca
SUMMARY:Neurodiversity 101
DESCRIPTION:Introducing AD(H)D\, autism\, and giftedness through an inclusive lens \nFriday\, February 7\, 2025\n12:00 pm – 1:15 pm\nvia webinar only \nCan’t make the webinar or rebroadcasts?\nWant online CPD available 24/7?\nSubscribe to Courses On Demand\, our comprehensive online resource with 1\,500+ videos and 5\,400+ papers from CLEBC courses. This course will be added to Courses on Demand approximately 30 days from the original course date. \nWho should attend: All lawyers and members of the legal profession \nLearning level: All levels \nOur world continues to change rapidly\, and as information is shared\, we are learning more and more each day about neurodiversity. In this webinar\, we welcome two professionals who work and live in the neurodivergent space and who will introduce you to this part of the world. \nThe webinar will canvas: \n\ndefinitions of neurodiversity/neurodivergence\, AD(H)D\, autism\, AudAD(H)D\, giftedness\, and their common companions\, including learning differences and mental health challenges\nthe constellation of common neurodivergent traits/differences\, including sensory profiles\, cognitive styles\, executive function\, communication styles\, and social dynamics\ncurrent data and relevance of neurodiversity to the legal profession for individuals\, teams\, and clients\, including considerations for leadership\, recruitment\, and workplace accommodations\n\nThe webinar will include 60 minutes of presentation time and 15 minutes of open question and answer. \nLaw Society of BC CPD Hours: 1.25 hours (this course will contain a minimum of 1.25 hours pertaining to professional responsibility and ethics\, client care and relations\, and/or practice management) \nCourse Instructors\nErin Peters — Erin Peters Counselling\, Vancouver\nShoshana Allice — Coach\, Consultant\, Facilitator\, Shoshana Allice Coaching and Consulting\, Vancouver \nCLEBC Program Lawyer*\nGenevieve Chang\ngchang@cle.bc.ca\n*non-practising
URL:https://lsnl.ca/event/neurodiversity-101/
LOCATION:Online
CATEGORIES:Continuing Professional Development
END:VEVENT
END:VCALENDAR