BEGIN:VCALENDAR
VERSION:2.0
PRODID:-//The Law Society of Newfoundland and Labrador - ECPv6.15.19//NONSGML v1.0//EN
CALSCALE:GREGORIAN
METHOD:PUBLISH
X-WR-CALNAME:The Law Society of Newfoundland and Labrador
X-ORIGINAL-URL:https://lsnl.ca
X-WR-CALDESC:Events for The Law Society of Newfoundland and Labrador
REFRESH-INTERVAL;VALUE=DURATION:PT1H
X-Robots-Tag:noindex
X-PUBLISHED-TTL:PT1H
BEGIN:VTIMEZONE
TZID:America/St_Johns
BEGIN:DAYLIGHT
TZOFFSETFROM:-0330
TZOFFSETTO:-0230
TZNAME:NDT
DTSTART:20240310T053000
END:DAYLIGHT
BEGIN:STANDARD
TZOFFSETFROM:-0230
TZOFFSETTO:-0330
TZNAME:NST
DTSTART:20241103T043000
END:STANDARD
BEGIN:DAYLIGHT
TZOFFSETFROM:-0330
TZOFFSETTO:-0230
TZNAME:NDT
DTSTART:20250309T053000
END:DAYLIGHT
BEGIN:STANDARD
TZOFFSETFROM:-0230
TZOFFSETTO:-0330
TZNAME:NST
DTSTART:20251102T043000
END:STANDARD
BEGIN:DAYLIGHT
TZOFFSETFROM:-0330
TZOFFSETTO:-0230
TZNAME:NDT
DTSTART:20260308T053000
END:DAYLIGHT
BEGIN:STANDARD
TZOFFSETFROM:-0230
TZOFFSETTO:-0330
TZNAME:NST
DTSTART:20261101T043000
END:STANDARD
END:VTIMEZONE
BEGIN:VEVENT
DTSTART;TZID=America/St_Johns:20250210T103000
DTEND;TZID=America/St_Johns:20250210T123000
DTSTAMP:20260420T185409
CREATED:20250131T150403Z
LAST-MODIFIED:20250131T150403Z
UID:25099-1739183400-1739190600@lsnl.ca
SUMMARY:Elder Law Issues: An Introduction to Key Issues and Insights for your Practice by the Canadian Bar Association - Newfoundland and Labrador
DESCRIPTION:Elder Law Lunch and Learn \nMelissa Saunders\, Chair of the Elder Law Section\, invites you to an engaging lunch-and-learn session exploring key topics in Elder Law. Designed to equip lawyers with valuable insights and practical strategies\, this session will feature expert speakers sharing their knowledge and actionable tips for enhancing your practice and effectively supporting elder clients. \nWhy Attend? \n\nDiscover essential strategies for navigating the complexities of Elder Law.\nGain invaluable insights from leading experts in Estate\, Trust\, and Fiduciary litigation.\nStrengthen your practice with practical advice for building trust and addressing the unique needs of elder clients..\n\nSpeakers: \nKimberly A. Whaley\, CS\, TEP\, LLM: Founding and managing partner of Whaley Estate Litigation Partners (WEL Partners)\, a Toronto-based dispute resolution firm practicing throughout Ontario. Kimberly specializes in Estate\, Trust\, Fiduciary\, and Wealth Succession litigation\, and related issues such as capacity\, undue influence\, and elder law. She is the recipient of the 2024 OBA Award of Excellence in Trusts and Estates Law. \nLynne Butler: An experienced practitioner from Butler Wills and Estates\, discussing recommendations for advising elder clients\, including recognizing key signals\, adapting to their limitations\, building trusting relationships\, and documenting files to mitigate legal challenges. \nKevin O’Shea and Sara Hawkins: Representatives from PLIAN\, contributing their expertise to this important conversation. \n Fee: Free for members\, $50 for non-members \nRegister by Friday\, February 7th\, 2025: \nEmail Robyn Davis at cba-nl@cba.org to secure your spot.
URL:https://lsnl.ca/event/elder-law-issues-an-introduction-to-key-issues-and-insights-for-your-practice-by-the-canadian-bar-association-newfoundland-and-labrador/
LOCATION:Online
CATEGORIES:Continuing Professional Development
END:VEVENT
BEGIN:VEVENT
DTSTART;TZID=America/St_Johns:20250210T140000
DTEND;TZID=America/St_Johns:20250210T150000
DTSTAMP:20260420T185409
CREATED:20250129T131513Z
LAST-MODIFIED:20250129T131513Z
UID:25078-1739196000-1739199600@lsnl.ca
SUMMARY:Atlantic Immigrant Career Loan Fund Online Information Session by the Immigrant Services Association of Nova Scotia
DESCRIPTION:On February 10th\, join us for a one-hour webinar at 2:00 pm AST to learn about the Atlantic Immigrant Career Loan Fund (AICLF). This ISANS-led initiative can help immigrants with permanent resident status or Canadian citizenship obtain training and certification in their chosen fields or related fields in their new home provinces. \n During this event\, you will learn: \n\nWho is eligible for the AICLF\nWhat costs the AICLF can cover\nThe kinds of programs the AICLF can help pay for\nHow the AICLF is funded and how it is administered across Atlantic Canada\nWhy the AICLF is a better choice for immigrants in Atlantic Canada than funding through a private institution on their own\n\n During and after the presentation\, you can also ask any questions you might have about AICLF. \n Registration and attendance details: \n\nRegister for the event by filling in this form.\nThe registration deadline is 5 pm AST Friday\, February 7th \nYou will receive a link to the meeting before the event\n\nFor more information\, please contact:\nKen Partridge  |  kpartridge@isans.ca \nPlatform: Microsoft Teams \n  \nPosted: January 29\, 2025
URL:https://lsnl.ca/event/atlantic-immigrant-career-loan-fund-online-information-session-by-the-immigrant-services-association-of-nova-scotia-3/
LOCATION:Online
CATEGORIES:Continuing Professional Development
END:VEVENT
END:VCALENDAR