BEGIN:VCALENDAR
VERSION:2.0
PRODID:-//The Law Society of Newfoundland and Labrador - ECPv6.15.19//NONSGML v1.0//EN
CALSCALE:GREGORIAN
METHOD:PUBLISH
X-ORIGINAL-URL:https://lsnl.ca
X-WR-CALDESC:Events for The Law Society of Newfoundland and Labrador
REFRESH-INTERVAL;VALUE=DURATION:PT1H
X-Robots-Tag:noindex
X-PUBLISHED-TTL:PT1H
BEGIN:VTIMEZONE
TZID:America/St_Johns
BEGIN:DAYLIGHT
TZOFFSETFROM:-0330
TZOFFSETTO:-0230
TZNAME:NDT
DTSTART:20240310T053000
END:DAYLIGHT
BEGIN:STANDARD
TZOFFSETFROM:-0230
TZOFFSETTO:-0330
TZNAME:NST
DTSTART:20241103T043000
END:STANDARD
BEGIN:DAYLIGHT
TZOFFSETFROM:-0330
TZOFFSETTO:-0230
TZNAME:NDT
DTSTART:20250309T053000
END:DAYLIGHT
BEGIN:STANDARD
TZOFFSETFROM:-0230
TZOFFSETTO:-0330
TZNAME:NST
DTSTART:20251102T043000
END:STANDARD
BEGIN:DAYLIGHT
TZOFFSETFROM:-0330
TZOFFSETTO:-0230
TZNAME:NDT
DTSTART:20260308T053000
END:DAYLIGHT
BEGIN:STANDARD
TZOFFSETFROM:-0230
TZOFFSETTO:-0330
TZNAME:NST
DTSTART:20261101T043000
END:STANDARD
END:VTIMEZONE
BEGIN:VEVENT
DTSTART;VALUE=DATE:20250211
DTEND;VALUE=DATE:20250212
DTSTAMP:20260420T185454
CREATED:20241119T195549Z
LAST-MODIFIED:20241119T195549Z
UID:24525-1739232000-1739318399@lsnl.ca
SUMMARY:Assertive Communication
DESCRIPTION:Our communication skills and style are essential to positive and productive relations. Effective communication requires us to be clear about our own thoughts and desires\, and also to be responsive to those of others. Assertive communicators express ideas and feelings in transparent\, open\, and direct ways – stating their needs clearly and without defensiveness. In this training\, participants will build an awareness of their communication patterns and learn to deal confidently with people around them. This workshop is fun\, meaningful\, and highly effective for improving communication awareness and skills. \n\n\n\n\n\n\n\n\n\nLearning Objectives\nUpon completion\, participants should be able to: \n\nTo define assertive communication\nTo practice giving an assertive opinion\nTo discuss personal boundaries and practice saying “no” when appropriate\nTo outline the steps for giving corrective feedback in the form of a DESO script\nTo identify options of response receiving negative feedback\n\n\n\nMethod of Delivery\nPresentation\, video\, experiential practice\, personal reflection\, delivered electronically. \n\n*Please allow only the registered individual(s) to view the materials. \n\n\n\n\nSome of the Topics Included\n\nWhat’s Required for Effective Communication\nAssertiveness Self-Assessment\nCharacteristics of Aggressive and Passive Communicators\nAssertive Communicator Characteristics\nAssertive Body Language\nGuidelines for Offering an Opinion\nStrategies for Giving Directions\nHow to Say “No” Assertively\nSkills for Making Requests\nGiving Corrective Feedback\nDealing with Difficult Responses\n\n\n\nTarget Audience\nThis is an introductory-intermediate level workshop. \n\n\nTerms & Conditions\nView our cancellation policy and other information regarding your live virtual workshop or for your in-person workshop. \nThis is a live virtual event\, please check your system requirements prior to registering. \n\n\n\n\n\n\n\n\n\n\n\nTrainer: Jennifer Kelly\nJennifer is a facilitator and instructional designer with over 12 years’ experience designing and delivering in-class and online training workshops. She holds a Master of Arts in Applied Communication and a Bachelor of Post-Secondary Education. Jennifer has designed and facilitated courses in core areas such as workplace psychological safety\, interpersonal communication\, and conflict resolution. As a certified Positive Psychology Coach\, she has trained in the study of workplace wellness and personal well-being. Jennifer is passionate about creating psychological safety in the workplace and believes it is what truly leads to high-performing and motivated teams. She is an energetic and thoughtful presenter who is committed to providing learning experiences that are fun\, engaging\, and easily applicable. Read blogs written by Jennifer here.
URL:https://lsnl.ca/event/assertive-communication/
LOCATION:Online
CATEGORIES:Continuing Professional Development
END:VEVENT
BEGIN:VEVENT
DTSTART;VALUE=DATE:20250211
DTEND;VALUE=DATE:20250212
DTSTAMP:20260420T185454
CREATED:20250109T164457Z
LAST-MODIFIED:20250109T164457Z
UID:24881-1739232000-1739318399@lsnl.ca
SUMMARY:AI in Regulation Conference
DESCRIPTION:Held at the Arcadian Court\, 401 Bay Street in Toronto\, this conference will gather Canadian regulators\, global AI industry experts\, government representatives\, and non-profit organizations to explore the profound impacts of AI on public interest protection. Together\, we will examine how AI is reshaping professional standards\, investigations\, jurisprudence\, communications\, and complaints and discipline processes. \nKey Highlights \nFrom Europe\, please welcome two distinguished keynote speakers: \n\nPaul Byrne\, Executive Director\, Regulatory Operations and Support Services\, Irish Medical Council\nKai Zenner\, Head of Office and Digital Policy Adviser\, European Parliament\n\nFeaturing: \n\nJennifer Garrett\, Deputy Secretary at the Wisconsin Department of Safety and Professional Services\, will moderate a panel discussion with regulatory leaders from the Washington Medical Commission\, Professional Engineers Ontario\, Ontario Securities Commission\, and the Pennsylvania State Medical Board.\nArun Dixit\, Vice President of Digital Transformation and Corporate Operations at Professional Engineers Ontario\, will serve as the event’s MC.\n\nAdditionally\, Melissa Peneycad\, Director of Public Engagement Strategy at MDR Strategy Group and Amazon best-selling author of Essentials of AI for Beginners\, will provide invaluable insights. \nEvery attendee will receive a complimentary copy of her book as a gift. \nWhy Attend? \nThis event is designed to: \n\nProvide actionable insights into AI’s regulatory implications.\nFacilitate cross-disciplinary collaboration.\nEquip regulators with tools to navigate this transformative era.\n\nFor more details about the agenda\, learning objectives\, and registration\, please visit the conference website. \nIf you’re registering a group of five or more\, please contact us by email at daniel@mdrstrategy.ca to access a group discount and direct billing options.
URL:https://lsnl.ca/event/ai-in-regulation-conference/
CATEGORIES:Continuing Professional Development
END:VEVENT
BEGIN:VEVENT
DTSTART;TZID=America/St_Johns:20250211T080000
DTEND;TZID=America/St_Johns:20250211T170000
DTSTAMP:20260420T185454
CREATED:20241119T195722Z
LAST-MODIFIED:20241119T195722Z
UID:24527-1739260800-1739293200@lsnl.ca
SUMMARY:Trauma-Informed Care: Building a Culture of Strength
DESCRIPTION:Trauma is prevalent in our world and has an impact on many of the people we interact with\, including those who engage with our organizations. Compassionate and trauma-informed care is essential to providing effective support and building sustainable services. Based on our book\, A Little Book About Trauma-Informed Workplaces\, this workshop explores five key principles to integrate a trauma-informed approach throughout the organization. By embracing these principles\, participants can better contribute to the positive transformation of individuals and relationships affected by trauma. Becoming trauma-informed creates a sustainable foundation in any setting to promote strength\, engagement\, and healing. \nPlease note: This workshop does not provide training related to trauma counselling. If that is what you are looking for\, please check out our workshop\, Trauma – Counselling Strategies for Healing and Resilience. \n\n\n\n\n\n\n\n\n\nLearning Objectives\nUpon completion\, participants should be able to: \n\nDiscuss the prevalence and impact of trauma on individuals and organizations\nList five key trauma-informed principles\nDescribe practical strategies for implementing each of the five trauma-informed principles\nAssess their own organization for areas of trauma-informed strengths and weakness\nIdentify trauma-informed goals to improve service delivery and program planning\n\n\n\nMethod of Delivery\nPresentation\, video\, case study exercises\, personal reflection\, delivered electronically. \n\n*Please allow only the registered individual(s) to view the materials. \n\n\n\n\nSome of the Topics Included\n\nTrauma’s Ripple Effect\nWhat Is Trauma-Informed Care?\nBuilding a Trauma-Informed Culture\nUnderstanding Trauma\n5 Principles of a Trauma-Informed Approach – Promote Awareness\, Shift Attitudes\, Provide Choice\, Foster Safety\, Highlight Strengths\nPost-Traumatic Growth and Resilience\nSteps for Implementing Principles\n\n\n\nTarget Audience\nThis is an introductory-intermediate level workshop intended for anyone interested in learning more about the value of trauma-informed workplaces. \n\n\nTerms & Conditions\nView our cancellation policy and other information regarding your live virtual workshop or for your in-person workshop. \nThis is a live virtual event\, please check your system requirements prior to registering. \n\n\n\n\n\n\n\n\n\n\n\nTrainer: Monica Bhatara\nMonica has over 25 years of experience working in the community-based social services field as a Therapist and Community Educator. She is a Registered Therapeutic Counsellor\, Certified Synergetic Play Therapist\, and Focusing-Oriented Therapist. Monica has worked both in clinical settings for various programs and served in a leadership role as Director of Clinical Practice\, providing her expertise to clinical and non-clinical programs that focus on family preservation and reunification\, complex intergenerational trauma\, trauma-informed practice\, and clinical supervision. In addition to training with CTRI\, she has a private counselling practice where she incorporates somatic work\, play and expressive therapies\, and interpersonal neurobiology in her work with children\, youth\, and adults. Monica believes in the power of human resiliency and the importance of building the capacity of paraprofessionals and non-clinical workers because they play a vital role on the therapy spectrum. As a trainer\, she brings stimulating stories and a style that promotes engagement and facilitates learning.
URL:https://lsnl.ca/event/trauma-informed-care-building-a-culture-of-strength/
LOCATION:Online
CATEGORIES:Continuing Professional Development
END:VEVENT
BEGIN:VEVENT
DTSTART;TZID=America/St_Johns:20250211T130000
DTEND;TZID=America/St_Johns:20250211T160000
DTSTAMP:20260420T185454
CREATED:20250121T132112Z
LAST-MODIFIED:20250121T135952Z
UID:24981-1739278800-1739289600@lsnl.ca
SUMMARY:National Virtual Town Hall by the African Nova Scotian Justice Institute
DESCRIPTION:On behalf of the African Nova Scotian Justice Institute (ANSJI)\, you are invited to a National Virtual Town Hall to garner support for the development of a National IRCA™ Centre. The purpose of the National IRCA™ Centre will be to support the ongoing development of IRCA™ service delivery in each provincial and territorial jurisdiction. \nImpact of Race and Culture Assessments (IRCAs™) are pre-sentencing reports that help judges better understand how systemic barriers like poverty\, marginalization\, racism\, and social exclusion have affected offenders of African descent\, racialized\, and other overrepresented persons and their interactions with the justice system. Click here and here to learn more about IRCAs™. \nThis Town Hall will bring together Provincial\, Territorial\, and National organizations and individuals who support work within the intersection of race and justice in Canada. The Town Hall has four main purposes: \n\nTo inform participants about the idea of creating a National IRCA™ Centre\,\nTo assess if there is consensus for the creation of a National IRCA™ Centre\,\nTo use the feedback gathered from the Town Hall to inform the feasibility study that will be submitted to the Federal Department of Justice\, and\nTo nominate a member review Committee that will play a key role in reviewing and providing feedback on the development of the feasibility study.\n\nYour input will help shape this critical work\, and ensure that it reflects the diverse perspectives and experiences of those working at the intersection of race and justice across Canada. \nTo accommodate participants across the country\, we will host two sessions. The first session will be held Tuesday\, February 11th\, 2025 at 1:00PM (AST) via Zoom\, and the second will be Thursday\, February 13th\, 2025 at 2:30PM (AST) via Zoom. Our hope is that you will be able to join the session that best fits your schedule. \nPlease RSVP by Monday\, February 3rd\, 2025 by clicking here and indicate your preferred session. Additional details including the agenda and the virtual meeting link will be sent closer to the session dates. \nWe are also asking for your participation in a short survey to gather your initial thoughts on the creation of a National IRCA™ Centre. Your participation in this survey is important in the gathering of information and data to inform the development of the feasibility study. You can complete the survey here.  \nPlease feel free to share this invitation or link to the survey (https://forms.office.com/r/ZiVthgY6AF) with other leaders who work in the areas of race and justice in Canada.  \nYour participation is crucial to the success of this initiative\, and we sincerely hope you can join us in this important conversation. \nIf you have any questions or concerns please feel free to contact Lindell Smith at Info@LindellSmithHfx.ca \n_____________________________ \nAu nom de l’African Nova Scotian Justice Institute (ANSJI) – (Institut africain de la justice néo-écossaise) – j’ai le plaisir de vous inviter à une assemblée générale virtuelle nationale afin d’obtenir un soutien pour le développement d’un Centre national des EIOEC. L’objectif du Centre national des EIOEC sera de soutenir le développement continu de la prestation de services des EIOEC dans chaque juridiction provinciale et territoriale. \nLes évaluations de l’incidence de l’origine ethnique et culturelle (EIOEC) sont des rapports pré-sentenciels qui aident les juges à mieux comprendre comment les barrières systémiques telles que la pauvreté\, la marginalisation\, le racisme et l’exclusion sociale ont eu des répercussions sur les délinquants d’ascendance africaine\, les personnes racialisées et les autres personnes surreprésentées\, ainsi que sur leurs interactions avec le système de justice. Cliquez ici et ici pour en savoir plus sur les EIOEC. \nCette séance de discussion ouverte réunira des organisations provinciales\, territoriales et nationales ainsi que des personnes qui soutiennent le travail à l’intersection de la race et de la justice au Canada. La séance de discussion ouverte a quatre objectifs principaux : \n\ninformer les participants sur l’idée de créer un Centre national des EIOEC;\névaluer s’il existe un consensus en faveur de la création d’un Centre national des EIOEC;\nutiliser les commentaires recueillis lors de la séance de discussion ouverte pour étayer l’étude de faisabilité qui sera soumise au ministère fédéral de la Justice; et\nnommer un comité d’évaluation des membres qui jouera un rôle clé dans l’évaluation et le retour d’information sur le développement de l’étude de faisabilité.\n\nVous avez été invité(e) à cette réunion publique parce que vous êtes un leader dans le travail à l’intersection de la race et de la justice au Canada. Votre contribution aidera à façonner ce travail critique et à s’assurer qu’il reflète les diverses perspectives et expériences de ceux qui travaillent à l’intersection de la race et de la justice à travers le Canada. \nAfin d’accueillir les participants de tout le pays\, nous organiserons deux sessions. La première session aura lieu le mardi 11 février 2025 à 13 h (HNA) via Zoom\, et la seconde aura lieu le jeudi 13 février 2025 à 14 h 30 (HNA) via Zoom. Nous espérons que vous pourrez participer à la session qui correspond le mieux à votre horaire. \nVeuillez répondre avant le lundi 3 février 2025 en (https://forms.gle/JYrqaFcQtZaZEqQw9) et indiquer la session que vous préférez. Des détails supplémentaires\, y compris l’ordre du jour et le lien vers la réunion virtuelle\, seront envoyés à l’approche des dates de la session. \nNous vous demandons également de participer à un court sondage afin de recueillir vos premières réflexions sur la création d’un Centre national des EIOEC. Votre participation à ce sondage est importante pour la collecte d’informations et de données qui serviront à l’élaboration de l’étude de faisabilité. Vous pouvez répondre à l’enquête ici.  \nN’hésitez pas à partager cette invitation ou le lien vers le sondage (https://forms.office.com/r/hXgwypkqMb) avec d’autres responsables qui travaillent dans les domaines de la race et de la justice au Canada.  \nVotre participation est cruciale pour le succès de cette initiative\, et nous espérons sincèrement que vous pourrez vous joindre à nous dans cette importante conversation. \nSi vous avez des questions ou des préoccupations\, n’hésitez pas à contacter Lindell Smith à l’adresse Info@LindellSmithHfx.ca.
URL:https://lsnl.ca/event/national-virtual-town-hall-by-the-african-nova-scotian-justice-institute/
LOCATION:Online
CATEGORIES:Continuing Professional Development
END:VEVENT
END:VCALENDAR