BEGIN:VCALENDAR
VERSION:2.0
PRODID:-//The Law Society of Newfoundland and Labrador - ECPv6.15.19//NONSGML v1.0//EN
CALSCALE:GREGORIAN
METHOD:PUBLISH
X-WR-CALNAME:The Law Society of Newfoundland and Labrador
X-ORIGINAL-URL:https://lsnl.ca
X-WR-CALDESC:Events for The Law Society of Newfoundland and Labrador
REFRESH-INTERVAL;VALUE=DURATION:PT1H
X-Robots-Tag:noindex
X-PUBLISHED-TTL:PT1H
BEGIN:VTIMEZONE
TZID:America/St_Johns
BEGIN:DAYLIGHT
TZOFFSETFROM:-0330
TZOFFSETTO:-0230
TZNAME:NDT
DTSTART:20240310T053000
END:DAYLIGHT
BEGIN:STANDARD
TZOFFSETFROM:-0230
TZOFFSETTO:-0330
TZNAME:NST
DTSTART:20241103T043000
END:STANDARD
BEGIN:DAYLIGHT
TZOFFSETFROM:-0330
TZOFFSETTO:-0230
TZNAME:NDT
DTSTART:20250309T053000
END:DAYLIGHT
BEGIN:STANDARD
TZOFFSETFROM:-0230
TZOFFSETTO:-0330
TZNAME:NST
DTSTART:20251102T043000
END:STANDARD
BEGIN:DAYLIGHT
TZOFFSETFROM:-0330
TZOFFSETTO:-0230
TZNAME:NDT
DTSTART:20260308T053000
END:DAYLIGHT
BEGIN:STANDARD
TZOFFSETFROM:-0230
TZOFFSETTO:-0330
TZNAME:NST
DTSTART:20261101T043000
END:STANDARD
END:VTIMEZONE
BEGIN:VEVENT
DTSTART;TZID=America/St_Johns:20250212T123000
DTEND;TZID=America/St_Johns:20250212T133000
DTSTAMP:20260420T185407
CREATED:20250131T152139Z
LAST-MODIFIED:20250131T152139Z
UID:25101-1739363400-1739367000@lsnl.ca
SUMMARY:Closing Folders: Unlock Transaction Efficiency with Closing Agendas by the Canadian Bar Association - Newfoundland and Labrador
DESCRIPTION:Business Law Lunch and Learn\nJoin Christina Driscoll and Cassidy LaCosta\, co-chairs of the Business Law Section\, for a Lunch & Learn session on how closing agendas can streamline your transaction process for ultimate organization and efficiency. \nThis session will: \n\nHighlight how closing agendas ensure alignment among all parties by tracking key steps – what has been provided\, signed\, and what still needs attention – to ensure nothing is overlooked.\nFeature a demonstration of Closing Folders\, a cloud-based legal document management software that simplifies signature collection\, securely stores documents\, and improves workflow efficiency during transactions.\nProvide practical strategies for both beginners and experienced professionals to optimize transaction management and ensure seamless closings.\n\nEvent Details: \n Location: Zoom or in person at Cox & Palmer Office\, 235 Water St.\, Suite 1100 \n Fee: Free for members\, $50 for non members \nPlease advise of any dietary restrictions for in-person attendees. \nRegister Today: \nEmail Robyn Davis at cba-nl@cba.org to secure your spot.
URL:https://lsnl.ca/event/closing-folders-unlock-transaction-efficiency-with-closing-agendas-by-the-canadian-bar-association-newfoundland-and-labrador/
LOCATION:Online
CATEGORIES:Continuing Professional Development
END:VEVENT
BEGIN:VEVENT
DTSTART;TZID=America/St_Johns:20250212T133000
DTEND;TZID=America/St_Johns:20250212T150000
DTSTAMP:20260420T185407
CREATED:20250129T155236Z
LAST-MODIFIED:20250129T155236Z
UID:25086-1739367000-1739372400@lsnl.ca
SUMMARY:Online Games: Key Insights to Protect Children
DESCRIPTION:Public Safety Canada is pleased to invite you to a webinar to build awareness among law enforcement\, criminal justice professionals and other relevant partners and stakeholders on how to protect children within the online gaming environment. This event is facilitated by GamerSafer. \nThis session will be hosted on Zoom. \nPlease click here to register. \nYou will then receive a confirmation email with login details. \nOnline Games: Key Insights to Protect Children\, presented by GamerSafer\, February 12\, 2025 from 1:30 pm – 3:00 pm (EST). \nParticipants will be able to ask questions during the event. Please feel free to share this invitation with your colleagues and other stakeholders. \nPlease be advised that this event may be recorded. \nFor any questions about the event\, please do not hesitate to email our team at onlinecseeseenligne@ps-sp.gc.ca. \nFor questions/concerns pertaining to the Zoom platform\, please do not hesitate to email contact@gamersafer.com.
URL:https://lsnl.ca/event/online-games-key-insights-to-protect-children/
LOCATION:Online
CATEGORIES:Continuing Professional Development
END:VEVENT
END:VCALENDAR