BEGIN:VCALENDAR
VERSION:2.0
PRODID:-//The Law Society of Newfoundland and Labrador - ECPv6.15.19//NONSGML v1.0//EN
CALSCALE:GREGORIAN
METHOD:PUBLISH
X-WR-CALNAME:The Law Society of Newfoundland and Labrador
X-ORIGINAL-URL:https://lsnl.ca
X-WR-CALDESC:Events for The Law Society of Newfoundland and Labrador
REFRESH-INTERVAL;VALUE=DURATION:PT1H
X-Robots-Tag:noindex
X-PUBLISHED-TTL:PT1H
BEGIN:VTIMEZONE
TZID:America/St_Johns
BEGIN:DAYLIGHT
TZOFFSETFROM:-0330
TZOFFSETTO:-0230
TZNAME:NDT
DTSTART:20240310T053000
END:DAYLIGHT
BEGIN:STANDARD
TZOFFSETFROM:-0230
TZOFFSETTO:-0330
TZNAME:NST
DTSTART:20241103T043000
END:STANDARD
BEGIN:DAYLIGHT
TZOFFSETFROM:-0330
TZOFFSETTO:-0230
TZNAME:NDT
DTSTART:20250309T053000
END:DAYLIGHT
BEGIN:STANDARD
TZOFFSETFROM:-0230
TZOFFSETTO:-0330
TZNAME:NST
DTSTART:20251102T043000
END:STANDARD
BEGIN:DAYLIGHT
TZOFFSETFROM:-0330
TZOFFSETTO:-0230
TZNAME:NDT
DTSTART:20260308T053000
END:DAYLIGHT
BEGIN:STANDARD
TZOFFSETFROM:-0230
TZOFFSETTO:-0330
TZNAME:NST
DTSTART:20261101T043000
END:STANDARD
END:VTIMEZONE
BEGIN:VEVENT
DTSTART;TZID=America/St_Johns:20250219T120000
DTEND;TZID=America/St_Johns:20250219T170000
DTSTAMP:20260420T185408
CREATED:20250131T145221Z
LAST-MODIFIED:20250131T145221Z
UID:25097-1739966400-1739984400@lsnl.ca
SUMMARY:Whistleblower Mental Health: Toxic Tactics of Retaliation by Whistleblowing Canada Research Society
DESCRIPTION:Jacqueline Garrick is internationally recognized as an expect on the psychosocial impacts of whistleblower retaliation.  She has co-authored a book on the topic and the results of her research has been published in academic journals. \nThe Whistleblower Mental Health: Toxic Tactics of Retaliation by Whistleblowing Canada Research Society will review: \n\nthe whistleblower mindset\nthe features of retaliation that can cause moral and psychological injury\ninterventions and practices that enable restorative justice and healing\n\nTime:  12 noon ET \nThis event will be moderated by Prof. Paloma Raggo\, from Carleton University.  She is a founding Director of Whistleblowing Canada. \nRSVP Here \nAbout Us \nResearch – Educate – Advocate \nWhistleblowing Canada’s work to better understand and improve whistleblowing in Canada\, in the end\, depends on the political will for change. Developing the political will depends on the strength of the public will to become informed and to campaign for needed improvements. \nSupport a Stronger Democracy Here – Donate\, Volunteer\, Get Updates \nWhistleblowing Canada welcomes your feedback. Please comment to: info@whistleblowingcanada.com
URL:https://lsnl.ca/event/whistleblower-mental-health-toxic-tactics-of-retaliation-by-whistleblowing-canada-research-society/
LOCATION:Online
CATEGORIES:Continuing Professional Development
END:VEVENT
END:VCALENDAR