BEGIN:VCALENDAR
VERSION:2.0
PRODID:-//The Law Society of Newfoundland and Labrador - ECPv6.15.19//NONSGML v1.0//EN
CALSCALE:GREGORIAN
METHOD:PUBLISH
X-ORIGINAL-URL:https://lsnl.ca
X-WR-CALDESC:Events for The Law Society of Newfoundland and Labrador
REFRESH-INTERVAL;VALUE=DURATION:PT1H
X-Robots-Tag:noindex
X-PUBLISHED-TTL:PT1H
BEGIN:VTIMEZONE
TZID:America/St_Johns
BEGIN:DAYLIGHT
TZOFFSETFROM:-0330
TZOFFSETTO:-0230
TZNAME:NDT
DTSTART:20240310T053000
END:DAYLIGHT
BEGIN:STANDARD
TZOFFSETFROM:-0230
TZOFFSETTO:-0330
TZNAME:NST
DTSTART:20241103T043000
END:STANDARD
BEGIN:DAYLIGHT
TZOFFSETFROM:-0330
TZOFFSETTO:-0230
TZNAME:NDT
DTSTART:20250309T053000
END:DAYLIGHT
BEGIN:STANDARD
TZOFFSETFROM:-0230
TZOFFSETTO:-0330
TZNAME:NST
DTSTART:20251102T043000
END:STANDARD
BEGIN:DAYLIGHT
TZOFFSETFROM:-0330
TZOFFSETTO:-0230
TZNAME:NDT
DTSTART:20260308T053000
END:DAYLIGHT
BEGIN:STANDARD
TZOFFSETFROM:-0230
TZOFFSETTO:-0330
TZNAME:NST
DTSTART:20261101T043000
END:STANDARD
END:VTIMEZONE
BEGIN:VEVENT
DTSTART;VALUE=DATE:20250226
DTEND;VALUE=DATE:20250228
DTSTAMP:20260420T171120
CREATED:20250117T153846Z
LAST-MODIFIED:20250117T153846Z
UID:24958-1740528000-1740700799@lsnl.ca
SUMMARY:First Nation Land Governance Registry (FNLGR) Open House
DESCRIPTION:The First Nation Land Governance Registry (FNLGR) and Angie Derrickson\, FNLGR Registrar\, are pleased to announce the upcoming First Nation Land Governance Registry (FNLGR) Open House. \nThe Lands Advisory Board and First Nations Land Management Resource Centre\, in partnership with the Land Title and Survey Authority of BC (LTSA)\, are collaborating to develop the new FNLGR. This registry aims to establish a First Nation-controlled\, independent land registry for Operational First Nations under the Framework Agreement and participating Self-Governing First Nations. With initial operations planned for late 2025\, the registry’s development has greatly benefitted from input provided by First Nation Land Offices\, especially those who use the current system daily. \nThree regional open house sessions will be hosted to engage land governance professionals\, legal experts\, financial institutions\, and other key stakeholders. These events will highlight the progress of the registry\, showcase its enhanced capabilities\, and provide opportunities for attendees to offer feedback to further support land governance and economic development on First Nation lands across Canada. Additionally\, the sessions will present the initial draft regulations governing the registry’s operations\, a topic of particular interest to legal and financial professionals. \nEvent details are as follows: \nFNLGR Open House (West Region)\nIncludes British Columbia and Yukon Territory\nDate: January 29–30\, 2025\nLocation: River Rock Resort & Casino\nLength: 2 days \nFNLGR Open House (Prairie Region)\nIncludes Alberta\, Saskatchewan\, and Manitoba\nDate: February 5–6\, 2025\nLocation: Grey Eagle Resort & Casino\, Calgary\nLength: 2 days \nFNLGR Open House (East Region)\nIncludes Ontario\, Quebec\, New Brunswick\, Prince Edward Island\, Nova Scotia\, and Newfoundland and Labrador\nDate: February 26–27\, 2025\nLocation: Courtyard Toronto Downtown\nLength: 2 days
URL:https://lsnl.ca/event/first-nation-land-governance-registry-fnlgr-open-house/
CATEGORIES:Continuing Professional Development
END:VEVENT
BEGIN:VEVENT
DTSTART;TZID=America/St_Johns:20250226T120000
DTEND;TZID=America/St_Johns:20250226T150000
DTSTAMP:20260420T171120
CREATED:20250217T160910Z
LAST-MODIFIED:20250217T160910Z
UID:25231-1740571200-1740582000@lsnl.ca
SUMMARY:Community justice help: keeping community front and centre - Public Legal Education Association of Canada Virtual Fair
DESCRIPTION:Public Legal Education Association of Canada Virtual Fair: Registration Now Open \nThe Public Legal Education Association of Canada (PLEAC) is excited to announce that registration is now open for our Virtual Fair\, taking place on February 25\, 26\, and 27\, 2025. \nThis three-day online event will feature two sessions each day from 12:00 PM to 3:00 PM EST\, with a short break in between. Participants will gain insights into initiatives and emerging practices from Canada\, the US\, and the UK\, coming away with new knowledge\, ideas\, and connections. \nThe event flyer with session and speaker details can be viewed here. Speaker bios will be available on the Zoom registration pages. \nTo see the details below\, updates\, and registration links\, please visit our website here.  \nRegister now: \nDay 1 – Tuesday\, February 25 \nDigital first or people first? How the digital divide affects public legal education work \n\n\n\n12:00 PM–1:15 PM EST: Reflections on engaging with the digital divide\n\nRegister here\n\n\n1:45 PM–3:00 PM EST: Reaching people on both sides of the divide\n\nRegister here\n\n\n\n\n\nDay 2 – Wednesday\, February 26 \nCommunity justice help: keeping community front and centre \n\n\n\n12:00 PM–1:15 PM EST: Learning from initiatives in other jurisdictions\n\nRegister here\n\n\n1:45 PM–3:00 PM EST: Community justice work on the ground\n\nRegister here\n\n\n\n\n\nDay 3 – Thursday\, February 27 \nLearning as we go: what makes for effective PLEI evaluation \n\n\n\n12:00 PM–1:15 PM EST: Learning as we go: what makes for effective PLEI evaluation\n\nRegister here\n\n\n1:45 PM–3:00 PM EST: Building an evaluation catalogue: starting with what we know\n\nRegister here\n\n\n\n\n\nRegistration is free\, and everyone is welcome to join one or all sessions. If you are unable to attend\, all sessions will be recorded and posted on our website.
URL:https://lsnl.ca/event/community-justice-help-keeping-community-front-and-centre-public-legal-education-association-of-canada-virtual-fair/
LOCATION:Online
CATEGORIES:Continuing Professional Development
END:VEVENT
END:VCALENDAR