BEGIN:VCALENDAR
VERSION:2.0
PRODID:-//The Law Society of Newfoundland and Labrador - ECPv6.15.19//NONSGML v1.0//EN
CALSCALE:GREGORIAN
METHOD:PUBLISH
X-ORIGINAL-URL:https://lsnl.ca
X-WR-CALDESC:Events for The Law Society of Newfoundland and Labrador
REFRESH-INTERVAL;VALUE=DURATION:PT1H
X-Robots-Tag:noindex
X-PUBLISHED-TTL:PT1H
BEGIN:VTIMEZONE
TZID:America/St_Johns
BEGIN:DAYLIGHT
TZOFFSETFROM:-0330
TZOFFSETTO:-0230
TZNAME:NDT
DTSTART:20240310T053000
END:DAYLIGHT
BEGIN:STANDARD
TZOFFSETFROM:-0230
TZOFFSETTO:-0330
TZNAME:NST
DTSTART:20241103T043000
END:STANDARD
BEGIN:DAYLIGHT
TZOFFSETFROM:-0330
TZOFFSETTO:-0230
TZNAME:NDT
DTSTART:20250309T053000
END:DAYLIGHT
BEGIN:STANDARD
TZOFFSETFROM:-0230
TZOFFSETTO:-0330
TZNAME:NST
DTSTART:20251102T043000
END:STANDARD
BEGIN:DAYLIGHT
TZOFFSETFROM:-0330
TZOFFSETTO:-0230
TZNAME:NDT
DTSTART:20260308T053000
END:DAYLIGHT
BEGIN:STANDARD
TZOFFSETFROM:-0230
TZOFFSETTO:-0330
TZNAME:NST
DTSTART:20261101T043000
END:STANDARD
END:VTIMEZONE
BEGIN:VEVENT
DTSTART;TZID=America/St_Johns:20250311T090000
DTEND;TZID=America/St_Johns:20250311T123000
DTSTAMP:20260420T171131
CREATED:20250109T194604Z
LAST-MODIFIED:20250109T194604Z
UID:24897-1741683600-1741696200@lsnl.ca
SUMMARY:Secrets of Chambers 2025
DESCRIPTION:Your comprehensive guide to success in chambers! \nCan’t make the webinar or rebroadcasts? Want online CPD available 24/7?\nSubscribe to Courses On Demand\, our comprehensive online resource with 1\,500+ videos and 5\,400+ papers from CLEBC courses. This course will be added to Courses on Demand approximately 30 days from the original course date. \nWho should attend: Junior to intermediate litigation counsel. Experienced litigation counsel who seek a comprehensive refresher on chambers practice will also find this program valuable. \nLearning level: Fundamental/Intermediate \nThis course is CLEBC’s comprehensive introduction to civil chambers practice. The program is geared towards junior counsel who seek an introduction to—and experienced counsel who seek a wide-ranging refresher on—preparation for and conduct of\, chambers hearings. \nThis course will blend substantive legal principles with practical practice pointers. A popular returning feature will be the View from the Bench\, wherein members of the judiciary share their observations concerning the most common problems plaguing counsel and how these problems can be remedied. \nYou can expect to come away with a collection of superb practice tips that you can apply immediately to enhance your effectiveness in chambers. The previous edition of this program in March 2023 received rave reviews. \nLaw Society of BC CPD Hours: 3 hours (this course will contain a minimum of 1 hour pertaining to professional responsibility and ethics\, client care and relations\, and/or practice management) \nCourse Chairs\nAndrew P. Morrison — Shields Harney LLP\, Vancouver\nJohn Douglas Shields — Shields Harney LLP\, Vancouver
URL:https://lsnl.ca/event/secrets-of-chambers-2025/
LOCATION:Online
CATEGORIES:Continuing Professional Development
END:VEVENT
END:VCALENDAR