BEGIN:VCALENDAR
VERSION:2.0
PRODID:-//The Law Society of Newfoundland and Labrador - ECPv6.15.19//NONSGML v1.0//EN
CALSCALE:GREGORIAN
METHOD:PUBLISH
X-WR-CALNAME:The Law Society of Newfoundland and Labrador
X-ORIGINAL-URL:https://lsnl.ca
X-WR-CALDESC:Events for The Law Society of Newfoundland and Labrador
REFRESH-INTERVAL;VALUE=DURATION:PT1H
X-Robots-Tag:noindex
X-PUBLISHED-TTL:PT1H
BEGIN:VTIMEZONE
TZID:America/St_Johns
BEGIN:DAYLIGHT
TZOFFSETFROM:-0330
TZOFFSETTO:-0230
TZNAME:NDT
DTSTART:20240310T053000
END:DAYLIGHT
BEGIN:STANDARD
TZOFFSETFROM:-0230
TZOFFSETTO:-0330
TZNAME:NST
DTSTART:20241103T043000
END:STANDARD
BEGIN:DAYLIGHT
TZOFFSETFROM:-0330
TZOFFSETTO:-0230
TZNAME:NDT
DTSTART:20250309T053000
END:DAYLIGHT
BEGIN:STANDARD
TZOFFSETFROM:-0230
TZOFFSETTO:-0330
TZNAME:NST
DTSTART:20251102T043000
END:STANDARD
BEGIN:DAYLIGHT
TZOFFSETFROM:-0330
TZOFFSETTO:-0230
TZNAME:NDT
DTSTART:20260308T053000
END:DAYLIGHT
BEGIN:STANDARD
TZOFFSETFROM:-0230
TZOFFSETTO:-0330
TZNAME:NST
DTSTART:20261101T043000
END:STANDARD
END:VTIMEZONE
BEGIN:VEVENT
DTSTART;VALUE=DATE:20250320
DTEND;VALUE=DATE:20250321
DTSTAMP:20260420T171007
CREATED:20250109T194321Z
LAST-MODIFIED:20250109T194321Z
UID:24895-1742428800-1742515199@lsnl.ca
SUMMARY:Litigation Foundations: Perspective of a Litigated Case 2025
DESCRIPTION:Can’t make the webinar or rebroadcasts? Want online CPD available 24/7?\nSubscribe to Courses On Demand\, our comprehensive online resource with 1\,500+ videos and 5\,400+ papers from CLEBC courses. This course will be added to Courses on Demand approximately 30 days from the original course date.\n\n\n\n\n\n\nWho should attend: This program will be of interest to law students\, newly called lawyers\, and mid-level lawyers \nLearning level: Fundamental/Intermediate \nThis innovative new program will cover the conduct of a litigated case through the lens of nine elements of litigation\, from pleadings at the start to taxation at the end. The nine elements will be examined and unpacked in one of three distinct practice areas: Construction Law\, Employment Law\, or Family Law. \nThis program will be a unique opportunity to hone your litigation skills by seeing them from the perspective of counsel in different working contexts. It will focus on the fundamentals of litigation and will be of interest to law students\, newly called lawyers\, and mid-level lawyers. \nJoin us for an information-packed day of litigation learning! \nLaw Society of BC CPD Hours: 6 hours (this course will contain a minimum of 1 hour pertaining to professional responsibility and ethics\, client care and relations\, and/or practice management) \nCourse Chairs\nGurminder Sandhu\, KC — Hamilton Duncan Law Corporation\, Surrey\nThomas L. Spraggs — Spraggs & Co. Law Corporation\, Coquitlam
URL:https://lsnl.ca/event/litigation-foundations-perspective-of-a-litigated-case-2025/
LOCATION:Online
CATEGORIES:Continuing Professional Development
END:VEVENT
END:VCALENDAR