BEGIN:VCALENDAR
VERSION:2.0
PRODID:-//The Law Society of Newfoundland and Labrador - ECPv6.15.19//NONSGML v1.0//EN
CALSCALE:GREGORIAN
METHOD:PUBLISH
X-WR-CALNAME:The Law Society of Newfoundland and Labrador
X-ORIGINAL-URL:https://lsnl.ca
X-WR-CALDESC:Events for The Law Society of Newfoundland and Labrador
REFRESH-INTERVAL;VALUE=DURATION:PT1H
X-Robots-Tag:noindex
X-PUBLISHED-TTL:PT1H
BEGIN:VTIMEZONE
TZID:America/St_Johns
BEGIN:DAYLIGHT
TZOFFSETFROM:-0330
TZOFFSETTO:-0230
TZNAME:NDT
DTSTART:20240310T053000
END:DAYLIGHT
BEGIN:STANDARD
TZOFFSETFROM:-0230
TZOFFSETTO:-0330
TZNAME:NST
DTSTART:20241103T043000
END:STANDARD
BEGIN:DAYLIGHT
TZOFFSETFROM:-0330
TZOFFSETTO:-0230
TZNAME:NDT
DTSTART:20250309T053000
END:DAYLIGHT
BEGIN:STANDARD
TZOFFSETFROM:-0230
TZOFFSETTO:-0330
TZNAME:NST
DTSTART:20251102T043000
END:STANDARD
BEGIN:DAYLIGHT
TZOFFSETFROM:-0330
TZOFFSETTO:-0230
TZNAME:NDT
DTSTART:20260308T053000
END:DAYLIGHT
BEGIN:STANDARD
TZOFFSETFROM:-0230
TZOFFSETTO:-0330
TZNAME:NST
DTSTART:20261101T043000
END:STANDARD
END:VTIMEZONE
BEGIN:VEVENT
DTSTART;VALUE=DATE:20250325
DTEND;VALUE=DATE:20250327
DTSTAMP:20260420T171041
CREATED:20241120T150658Z
LAST-MODIFIED:20241120T150658Z
UID:24555-1742860800-1743033599@lsnl.ca
SUMMARY:Drafting and Reviewing Search Warrants 2025
DESCRIPTION:What You’ll Learn\nWho Should Attend\nFaculty\nPricing and Group Rates\nFinancial Assistance\nCPD and Accreditation\nFAQs\nClient and Technical Support\n\nRegister\n\n\n\n\n\n\n\n\n\nTake advantage of this unique opportunity to take a deep dive into how to draft legally solid and successful warrants.\nCourt decisions continue to make apparent the importance of clear\, accurate and complete warrant applications\, and the dire consequences of deficient drafting. \nThis practical program will give you the knowledge and skills you need to draft\, review\, and revise a wide variety of search warrants\, and to identify and develop winning strategies for defending or attacking them. \n\nCan’t Make the Date? Registration includes 120-day unlimited\, online access to the recorded program. Please note the workshop will NOT be recorded. \n\n\n\nWhat You’ll Learn\n\n\n\n\n\nPractical issues in the warrant Process: Cross-Discipline Panel Discussion\nLatest Hot Issues in Computer and Related Technology Searches\nReview of the Foundational Principles of Search and Seizure\nWarrant Writing and Reviewing 101\n\n\n\n\n\n\n\nPLUS! Take your learning to the next level in the optional\, warrant drafting workshop on March 26.  Space is strictly limited to ensure interactivity (for Day One registrants only). \n\n\n\n\nWho Should Attend\n\n\n\n\n\nLaw enforcement officers\nRegulatory investigators (federal and provincial)\nCrown attorneys and federal prosecutors\nJudges\, including Justices of the Peace and lower Court judges from all provinces and territories\nDefence lawyers
URL:https://lsnl.ca/event/drafting-and-reviewing-search-warrants-2025/
LOCATION:Online
CATEGORIES:Continuing Professional Development
END:VEVENT
BEGIN:VEVENT
DTSTART;TZID=America/St_Johns:20250326T121500
DTEND;TZID=America/St_Johns:20250326T131500
DTSTAMP:20260420T171041
CREATED:20250314T181345Z
LAST-MODIFIED:20250314T181345Z
UID:25451-1742991300-1742994900@lsnl.ca
SUMMARY:Criminal Law Lunch and Learn: Supreme Court of Canada Update
DESCRIPTION:Criminal Law Lunch and Learn\nSupreme Court of Canada Update – Winter 2025 \nJoin John Noseworthy\, Criminal Law Section Chair as they examine a selection of recent cases from the Supreme Court of Canada that will be of particular interest to lawyers who practice criminal law in the province. \nEvent Details: \n Location: Virtual \n Fee: FREE for CBA members | $50 for non-members \nRegister online by clicking here. \nEmail Robyn with any inquires.
URL:https://lsnl.ca/event/criminal-law-lunch-and-learn-supreme-court-of-canada-update/
LOCATION:Online
CATEGORIES:Continuing Professional Development
END:VEVENT
END:VCALENDAR