BEGIN:VCALENDAR
VERSION:2.0
PRODID:-//The Law Society of Newfoundland and Labrador - ECPv6.15.19//NONSGML v1.0//EN
CALSCALE:GREGORIAN
METHOD:PUBLISH
X-ORIGINAL-URL:https://lsnl.ca
X-WR-CALDESC:Events for The Law Society of Newfoundland and Labrador
REFRESH-INTERVAL;VALUE=DURATION:PT1H
X-Robots-Tag:noindex
X-PUBLISHED-TTL:PT1H
BEGIN:VTIMEZONE
TZID:America/St_Johns
BEGIN:DAYLIGHT
TZOFFSETFROM:-0330
TZOFFSETTO:-0230
TZNAME:NDT
DTSTART:20240310T053000
END:DAYLIGHT
BEGIN:STANDARD
TZOFFSETFROM:-0230
TZOFFSETTO:-0330
TZNAME:NST
DTSTART:20241103T043000
END:STANDARD
BEGIN:DAYLIGHT
TZOFFSETFROM:-0330
TZOFFSETTO:-0230
TZNAME:NDT
DTSTART:20250309T053000
END:DAYLIGHT
BEGIN:STANDARD
TZOFFSETFROM:-0230
TZOFFSETTO:-0330
TZNAME:NST
DTSTART:20251102T043000
END:STANDARD
BEGIN:DAYLIGHT
TZOFFSETFROM:-0330
TZOFFSETTO:-0230
TZNAME:NDT
DTSTART:20260308T053000
END:DAYLIGHT
BEGIN:STANDARD
TZOFFSETFROM:-0230
TZOFFSETTO:-0330
TZNAME:NST
DTSTART:20261101T043000
END:STANDARD
END:VTIMEZONE
BEGIN:VEVENT
DTSTART;TZID=America/St_Johns:20250330T143000
DTEND;TZID=America/St_Johns:20250330T153000
DTSTAMP:20260420T153306
CREATED:20250314T182006Z
LAST-MODIFIED:20250314T182031Z
UID:25455-1743345000-1743348600@lsnl.ca
SUMMARY:Free Orangetheory Fitness Class Offered by the Canadian Bar Association - Newfoundland and Labrador Branch
DESCRIPTION:The Canadian Bar Association takes your health and wellness seriously—so should you! Carve out 1 hour for yourself on March 30th. \nAs part of our wellness initiative\, we’re treating you to a private Orangetheory class at Orangetheory Galway! \nNever tried a group fitness class? Never set foot in a gym? No problem! Beginner or Advanced gym goer\, this 60-minute workout blends cardio and strength training at your own pace- all you need are indoor sneakers and comfy clothes. \nCome break a sweat\, have some fun\, and maybe even discover your new favorite workout! \nEvent Details: \nTime: Check in at 2:30pm\, Class starts at 3:00pm- don’t be late! \nLocation: Orangetheory Galway 2 Danny Dr. \nFee: FREE \nTo register\, email Robyn at cba-nl@cba.org \nLimited spots\, first come first serve.
URL:https://lsnl.ca/event/free-orangetheory-fitness-class/
CATEGORIES:Continuing Professional Development,wellness
END:VEVENT
END:VCALENDAR