BEGIN:VCALENDAR
VERSION:2.0
PRODID:-//The Law Society of Newfoundland and Labrador - ECPv6.15.19//NONSGML v1.0//EN
CALSCALE:GREGORIAN
METHOD:PUBLISH
X-WR-CALNAME:The Law Society of Newfoundland and Labrador
X-ORIGINAL-URL:https://lsnl.ca
X-WR-CALDESC:Events for The Law Society of Newfoundland and Labrador
REFRESH-INTERVAL;VALUE=DURATION:PT1H
X-Robots-Tag:noindex
X-PUBLISHED-TTL:PT1H
BEGIN:VTIMEZONE
TZID:America/St_Johns
BEGIN:DAYLIGHT
TZOFFSETFROM:-0330
TZOFFSETTO:-0230
TZNAME:NDT
DTSTART:20240310T053000
END:DAYLIGHT
BEGIN:STANDARD
TZOFFSETFROM:-0230
TZOFFSETTO:-0330
TZNAME:NST
DTSTART:20241103T043000
END:STANDARD
BEGIN:DAYLIGHT
TZOFFSETFROM:-0330
TZOFFSETTO:-0230
TZNAME:NDT
DTSTART:20250309T053000
END:DAYLIGHT
BEGIN:STANDARD
TZOFFSETFROM:-0230
TZOFFSETTO:-0330
TZNAME:NST
DTSTART:20251102T043000
END:STANDARD
BEGIN:DAYLIGHT
TZOFFSETFROM:-0330
TZOFFSETTO:-0230
TZNAME:NDT
DTSTART:20260308T053000
END:DAYLIGHT
BEGIN:STANDARD
TZOFFSETFROM:-0230
TZOFFSETTO:-0330
TZNAME:NST
DTSTART:20261101T043000
END:STANDARD
END:VTIMEZONE
BEGIN:VEVENT
DTSTART;VALUE=DATE:20250407
DTEND;VALUE=DATE:20250412
DTSTAMP:20260420T153148
CREATED:20250213T144458Z
LAST-MODIFIED:20250213T144458Z
UID:25177-1743984000-1744415999@lsnl.ca
SUMMARY:Leadership and Management Certificate Program
DESCRIPTION:Options \n5-Day Virtual Program (9:30am – 3:30pm CT):  April 7-11\n5-Day In-Person Program (9:30am – 3:30pm Local):  June 2-6 (Calgary); August 18-22 (Halifax) \nYour managers set the tone for your workplace. They’re the ones handling difficult conversations\, motivating teams\, and making decisions that shape your organization’s culture. \nHere’s the challenge: 70% of HR leaders say they aren’t effectively developing their leaders. So\, the question is—do your managers have the training they need? \nThe Leadership and Management Certificate Program equips them with practical\, real-world leadership skills. \n✅ 5 days of game-changing leadership training \n✅ Confidence to lead tough conversations & workplace challenges \n✅ A stronger\, more engaged team \nGive your managers the tools they need to lead with confidence. \nRegister Your Leaders Now →
URL:https://lsnl.ca/event/leadership-and-management-certificate-program/
LOCATION:Online
CATEGORIES:Continuing Professional Development
END:VEVENT
BEGIN:VEVENT
DTSTART;VALUE=DATE:20250411
DTEND;VALUE=DATE:20250412
DTSTAMP:20260420T153148
CREATED:20250124T135306Z
LAST-MODIFIED:20250124T135306Z
UID:25022-1744329600-1744415999@lsnl.ca
SUMMARY:Residential Landlord-Tenant Disputes 2025: Essentials for Lawyers and Paralegals
DESCRIPTION:Program Length\n1 Day \nProgram Dates \n\nApr 11\, 2025 – Online (Live)\nJun 5\, 2025 – Online (Replay)\n\nProgram Overview\nThe crucial updates for all residential landlord and tenant practitioners. Get expert perspectives on some of the most important areas of residential tenancies law affecting your practice. \nIn this annual update\, experienced practitioners for both landlords and tenants will provide a comprehensive overview of the key elements and changes from the past year. \nCan’t Make the Date?\nRegistration includes 120-day unlimited\, online access to the recorded program. \nWhat You’ll Learn \n\nThe Human Rights Code in residential tenancies (year in review)\nRecent significant decisions affecting your practice\nLandlord and tenant perspectives on some of the most topical areas\nPractical and legal issues with respect to procedural fairness and access to justice\n\nWho Should Attend \n\nLawyers\nParalegals\nThose who appear at the Landlord and Tenant Board\n\nRegister\nClick here to register.
URL:https://lsnl.ca/event/residential-landlord-tenant-disputes-2025-essentials-for-lawyers-and-paralegals/
LOCATION:Online
CATEGORIES:Continuing Professional Development
END:VEVENT
END:VCALENDAR