BEGIN:VCALENDAR
VERSION:2.0
PRODID:-//The Law Society of Newfoundland and Labrador - ECPv6.15.19//NONSGML v1.0//EN
CALSCALE:GREGORIAN
METHOD:PUBLISH
X-WR-CALNAME:The Law Society of Newfoundland and Labrador
X-ORIGINAL-URL:https://lsnl.ca
X-WR-CALDESC:Events for The Law Society of Newfoundland and Labrador
REFRESH-INTERVAL;VALUE=DURATION:PT1H
X-Robots-Tag:noindex
X-PUBLISHED-TTL:PT1H
BEGIN:VTIMEZONE
TZID:America/St_Johns
BEGIN:DAYLIGHT
TZOFFSETFROM:-0330
TZOFFSETTO:-0230
TZNAME:NDT
DTSTART:20240310T053000
END:DAYLIGHT
BEGIN:STANDARD
TZOFFSETFROM:-0230
TZOFFSETTO:-0330
TZNAME:NST
DTSTART:20241103T043000
END:STANDARD
BEGIN:DAYLIGHT
TZOFFSETFROM:-0330
TZOFFSETTO:-0230
TZNAME:NDT
DTSTART:20250309T053000
END:DAYLIGHT
BEGIN:STANDARD
TZOFFSETFROM:-0230
TZOFFSETTO:-0330
TZNAME:NST
DTSTART:20251102T043000
END:STANDARD
BEGIN:DAYLIGHT
TZOFFSETFROM:-0330
TZOFFSETTO:-0230
TZNAME:NDT
DTSTART:20260308T053000
END:DAYLIGHT
BEGIN:STANDARD
TZOFFSETFROM:-0230
TZOFFSETTO:-0330
TZNAME:NST
DTSTART:20261101T043000
END:STANDARD
END:VTIMEZONE
BEGIN:VEVENT
DTSTART;TZID=America/St_Johns:20250415T100000
DTEND;TZID=America/St_Johns:20250415T130000
DTSTAMP:20260420T153145
CREATED:20250220T135652Z
LAST-MODIFIED:20250220T135652Z
UID:25264-1744711200-1744722000@lsnl.ca
SUMMARY:Polarizing Conversations: How to Talk About Triggering Topics
DESCRIPTION:Do you want to learn how to maintain relationships when discussing potentially triggering issues? Many people find themselves ill-prepared for these conversations and\, as a result\, avoid them or feel overwhelmed when they’re happening. This workshop equips you with skills for managing your own emotions and understanding the various dynamics of having polarizing discussions so you can confidently ensure they are productive and respectful. This is helpful for talking about things such as gender and equity\, race relations\, environmentalism\, the pandemic\, and remote work. No matter where you might have to discuss a polarizing issue\, this workshop teaches you to do so in a way that will leave everyone feeling heard and respected. \n\n\n\n\n\n\n\n\n\nLearning Objectives\nUpon completion\, participants should be able to: \n\nExplain polarizing conversations and their many layers\nIdentify our natural emotional responses to challenging interactions\nUtilize listening and validation to reduce tension\nDemonstrate how to set up conversations for success and make people feel safe\nPractice skills to engage in conversations about polarizing topics\n\n\n\nMethod of Delivery\nPresentation\, case study exercises\, experiential practice\, and personal reflection\, delivered electronically. \n\n*Please allow only the registered individual(s) to view the materials. \nNote: An e-manual for this workshop is included in purchase. \n\n\n\n\nSome of the Topics Included\n\nUnderstanding the Dynamics of Polarizing Topics\nOur Natural Responses to Challenging Interactions\nPreparing for the Polarized Conversation\nDepersonalizing the Conversation\nFinding Common Ground\nUtilizing Empathy and Validation\nHow to Help People Feel Safe\nEngaging in a Respectful Conversation\n\n\n\nTarget Audience\nThis is an introductory-intermediate level workshop applicable to both employees and managers. \n\n\nTerms & Conditions\nView our cancellation policy and other information regarding your live virtual workshop or for your in-person workshop. \nThis is a live virtual event\, please check your system requirements prior to registering. \nParticipants will receive the Zoom meeting login details and information about viewing the live virtual workshop by email 3-4 calendar days prior to the date of the event.\nPlease note\, payment is required in order to receive the login details. \n\n\n\n\n\n\n\n\n\n\n\nTrainer: Kristen Deuzeman\nKristen is an Organizational Psychologist who specializes in psychological assessments. She completed her undergraduate degree at the University of Ottawa\, and her graduate work at both the University of Ottawa and Concordia University. In addition to training with ACHIEVE\, Kristen is the clinical director for a psychological services agency. As a leader\, she believes that continuous development and self-awareness is essential to one’s ability to serve others. As a trainer\, Kristen combines her experience in organizational psychology and clinical work to enhance self-discovery and skill development for participants. She is a passionate facilitator who uses warmth and humour to create engaging and meaningful workshops. Read blogs written by Kristen here.
URL:https://lsnl.ca/event/polarizing-conversations-how-to-talk-about-triggering-topics-2/
LOCATION:Online
CATEGORIES:Continuing Professional Development
END:VEVENT
END:VCALENDAR