BEGIN:VCALENDAR
VERSION:2.0
PRODID:-//The Law Society of Newfoundland and Labrador - ECPv6.15.19//NONSGML v1.0//EN
CALSCALE:GREGORIAN
METHOD:PUBLISH
X-ORIGINAL-URL:https://lsnl.ca
X-WR-CALDESC:Events for The Law Society of Newfoundland and Labrador
REFRESH-INTERVAL;VALUE=DURATION:PT1H
X-Robots-Tag:noindex
X-PUBLISHED-TTL:PT1H
BEGIN:VTIMEZONE
TZID:America/St_Johns
BEGIN:DAYLIGHT
TZOFFSETFROM:-0330
TZOFFSETTO:-0230
TZNAME:NDT
DTSTART:20240310T053000
END:DAYLIGHT
BEGIN:STANDARD
TZOFFSETFROM:-0230
TZOFFSETTO:-0330
TZNAME:NST
DTSTART:20241103T043000
END:STANDARD
BEGIN:DAYLIGHT
TZOFFSETFROM:-0330
TZOFFSETTO:-0230
TZNAME:NDT
DTSTART:20250309T053000
END:DAYLIGHT
BEGIN:STANDARD
TZOFFSETFROM:-0230
TZOFFSETTO:-0330
TZNAME:NST
DTSTART:20251102T043000
END:STANDARD
BEGIN:DAYLIGHT
TZOFFSETFROM:-0330
TZOFFSETTO:-0230
TZNAME:NDT
DTSTART:20260308T053000
END:DAYLIGHT
BEGIN:STANDARD
TZOFFSETFROM:-0230
TZOFFSETTO:-0330
TZNAME:NST
DTSTART:20261101T043000
END:STANDARD
END:VTIMEZONE
BEGIN:VEVENT
DTSTART;TZID=America/St_Johns:20250507T190000
DTEND;TZID=America/St_Johns:20250507T190000
DTSTAMP:20260420T135858
CREATED:20250407T135734Z
LAST-MODIFIED:20250424T153619Z
UID:25619-1746644400-1746644400@lsnl.ca
SUMMARY:Preventive Justice: The Quest for Certainty in Predicting Future Harm
DESCRIPTION:Chief Justice Sir Francis Forbes Annual Law Lecture\nLocation: Inco Innovation Centre Lecture Theatre 2001 \nFree Parking in Adjacent Lot 17\nMemorial University Campus \n \nThe term “preventive justice” was first used in the 18th century and linked to laws aimed at preventing future crime. In many jurisdictions based on the common law\, the past few decades have seen preventive justice schemes reinvigorated in association with a focus on risk assessment tools aimed at predicting the risk of future harmful behaviour. Recently\, predictive machine learning algorithms have been used to inform judicial decision-making\, including sentencing. Using case studies\, this lecture will explore some of the legal and ethical issues raised by preventive justice schemes and will consider whether the quest for certainty in predicting future harm is any closer to being fulfilled. \nBrought to you by Memorial University\, the Law Society of Newfoundland and Labrador\, and the Law Foundation of Newfoundland and Labrador. \nFeaturing guest speaker: \nDr. Bernadette McSherry\nEmeritus Professor of Law\nUniversity of Melbourne \nThis is a unique opportunity to engage with a leading expert in the field of preventive justice and to discuss the evolving role of law and technology in shaping our legal landscape. Don’t miss out on the chance to deepen your understanding of these critical issues and connect with professionals in the legal community. \nView the event poster here. \nDr. Bernadette McSherry to Deliver 2025 Chief Justice Forbes Lecture
URL:https://lsnl.ca/event/preventive-justice-the-quest-for-certainty-in-predicting-future-harm/
CATEGORIES:Continuing Professional Development,Law Society,SS Daisy Legal History Committee
END:VEVENT
END:VCALENDAR