BEGIN:VCALENDAR
VERSION:2.0
PRODID:-//The Law Society of Newfoundland and Labrador - ECPv6.15.19//NONSGML v1.0//EN
CALSCALE:GREGORIAN
METHOD:PUBLISH
X-ORIGINAL-URL:https://lsnl.ca
X-WR-CALDESC:Events for The Law Society of Newfoundland and Labrador
REFRESH-INTERVAL;VALUE=DURATION:PT1H
X-Robots-Tag:noindex
X-PUBLISHED-TTL:PT1H
BEGIN:VTIMEZONE
TZID:America/St_Johns
BEGIN:DAYLIGHT
TZOFFSETFROM:-0330
TZOFFSETTO:-0230
TZNAME:NDT
DTSTART:20240310T053000
END:DAYLIGHT
BEGIN:STANDARD
TZOFFSETFROM:-0230
TZOFFSETTO:-0330
TZNAME:NST
DTSTART:20241103T043000
END:STANDARD
BEGIN:DAYLIGHT
TZOFFSETFROM:-0330
TZOFFSETTO:-0230
TZNAME:NDT
DTSTART:20250309T053000
END:DAYLIGHT
BEGIN:STANDARD
TZOFFSETFROM:-0230
TZOFFSETTO:-0330
TZNAME:NST
DTSTART:20251102T043000
END:STANDARD
BEGIN:DAYLIGHT
TZOFFSETFROM:-0330
TZOFFSETTO:-0230
TZNAME:NDT
DTSTART:20260308T053000
END:DAYLIGHT
BEGIN:STANDARD
TZOFFSETFROM:-0230
TZOFFSETTO:-0330
TZNAME:NST
DTSTART:20261101T043000
END:STANDARD
END:VTIMEZONE
BEGIN:VEVENT
DTSTART;VALUE=DATE:20250512
DTEND;VALUE=DATE:20250517
DTSTAMP:20260420T135941
CREATED:20250422T185414Z
LAST-MODIFIED:20250422T185739Z
UID:25754-1747008000-1747439999@lsnl.ca
SUMMARY:Well Being in the Legal Profession Week - Including Daily Free Sessions
DESCRIPTION:CLIA is co-hosting Well-Being in the Legal Profession Week\, May 12th to 16th with daily\,  free hour-long webinars from 3:30-4:30pm (NL Time).  Building on the theme of the Canadian Mental Health Association’s Mental Health Week of Unmasking Mental Health and the results of the National Study on the Health and Wellness Determinants of Legal Professionals in Canada. Register for each webinar individually. Note that the webinars will be provided in both French and English and registration is limited to 1000 registrants. \nMay 12th: Bena Stock – Well-Being in the Legal Profession – Concrete Strategies for Positive Change (Perfectionism) \nThis webinar addresses legal practitioners’ unique mental health challenges and provides evidence-based strategies to enhance well-being while maintaining professional excellence. Designed specifically for lawyers navigating the demands of modern legal practice\, this program transforms theoretical wellness concepts into practical applications for the legal environment. This interactive webinar includes practical exercises\, case studies drawn from legal practice scenarios\, and actionable takeaways that can be immediately implemented in your professional environment. \nClick to register for Well-Being in the Legal Profession: Concrete Strategies for Positive Change \n  \nMay 13th: Dr. Judy Jaunzems-Fernuk – Mental Health\, Well-being\, and Issues Facing Law Students/Young Lawyers:  \nJoin us for a conversation about law student mental health and well-being\, featuring insights from the College of Law’s wellness initiatives. This session will explore common challenges students face\, how supports are provided\, and why building a culture of well-being in legal education matters for the future of the profession. Judy\, the College’s Well-being Coordinator\, will also infuse strategies and supports for mental health and well-being in general that can support personal and workplace well-being. \nClick to register for Mental Health\, Well-Being and Issues Facing Law Students/Young Lawyers \n  \nMay 14th: Richard Martin –Mindful Business Charter \nWe all know the concerns around mental health in the legal profession. Many of the measures to address it are either about supporting people in distress or encouraging them to be more resilient rather than addressing the causes of the distress. The Mindful Business Charter (MBC) is a movement of law firms and their clients aiming to reduce unnecessary stressors in the workplace. In this session\, CEO Richard Martin provides practical concrete examples of how the MBC can be applied in any workplace.  You will also learn more about the MBC and how to get involved with the valuable work they are doing to create a healthier profession for the future. \nClick to register for The Mindful Business Charter \n  \nMay 15th: Ryann Peyton – Well-Being is a Team Sport  \nWe often think of well-being as an individual problem\, solvable with simple fixes such as doing more yoga\, drinking more water\, getting more rest\, and setting boundaries. Yet the research continues to show that personal solutions are not enough to combat the systemic\, structural\, and cultural elements of the legal profession that keep people unwell. If lawyers don’t take care of each other…who will? The responsibility for driving well-being change in the legal profession is on all of us. Incorporating actionable and replicable goals and strategies to drive true culture change\, this presentation will explore how a community-based approach to lawyer well-being can remove the often artificial\, unnecessary\, and outmoded barriers that prevent legal professionals from being able to perform at their best. \nClick to register for Well-Being is a Team Sport
URL:https://lsnl.ca/event/well-being-in-the-legal-profession-week-including-daily-free-sessions/
LOCATION:Online
CATEGORIES:Continuing Professional Development,wellness
END:VEVENT
END:VCALENDAR