BEGIN:VCALENDAR
VERSION:2.0
PRODID:-//The Law Society of Newfoundland and Labrador - ECPv6.15.19//NONSGML v1.0//EN
CALSCALE:GREGORIAN
METHOD:PUBLISH
X-ORIGINAL-URL:https://lsnl.ca
X-WR-CALDESC:Events for The Law Society of Newfoundland and Labrador
REFRESH-INTERVAL;VALUE=DURATION:PT1H
X-Robots-Tag:noindex
X-PUBLISHED-TTL:PT1H
BEGIN:VTIMEZONE
TZID:America/St_Johns
BEGIN:DAYLIGHT
TZOFFSETFROM:-0330
TZOFFSETTO:-0230
TZNAME:NDT
DTSTART:20240310T053000
END:DAYLIGHT
BEGIN:STANDARD
TZOFFSETFROM:-0230
TZOFFSETTO:-0330
TZNAME:NST
DTSTART:20241103T043000
END:STANDARD
BEGIN:DAYLIGHT
TZOFFSETFROM:-0330
TZOFFSETTO:-0230
TZNAME:NDT
DTSTART:20250309T053000
END:DAYLIGHT
BEGIN:STANDARD
TZOFFSETFROM:-0230
TZOFFSETTO:-0330
TZNAME:NST
DTSTART:20251102T043000
END:STANDARD
BEGIN:DAYLIGHT
TZOFFSETFROM:-0330
TZOFFSETTO:-0230
TZNAME:NDT
DTSTART:20260308T053000
END:DAYLIGHT
BEGIN:STANDARD
TZOFFSETFROM:-0230
TZOFFSETTO:-0330
TZNAME:NST
DTSTART:20261101T043000
END:STANDARD
END:VTIMEZONE
BEGIN:VEVENT
DTSTART;TZID=America/St_Johns:20250522T133000
DTEND;TZID=America/St_Johns:20250522T150000
DTSTAMP:20260420T135941
CREATED:20250402T173530Z
LAST-MODIFIED:20250402T175122Z
UID:25578-1747920600-1747926000@lsnl.ca
SUMMARY:Mediating Trust & Estate Disputes
DESCRIPTION:Live webinar with chat – includes 60-day replay* \nTime Zones: \n\n\nPacific: 9:00 AM – 10:30 AM \n\n\nMountain: 10:00 AM – 11:30 AM \n\n\nCentral: 11:00 AM – 12:30 PM \n\n\nEastern: 12:00 PM – 1:30 PM \n\n\nAtlantic: 1:00 PM – 2:30 PM \n\n\nNewfoundland: 1:30 PM – 3:00 PM \n\n\nThis program features real-time video of the presenter with synchronized slides and a chat feature for live Q&A.SK attendees\, please verify whether you align with Central (MB) or Mountain (AB) time based on season and location. \nABOUT THE PROGRAM\nTrust and estate disputes present unique challenges\, often involving emotionally charged issues and complex family dynamics. Unlike corporate or contractual matters\, these disputes can deeply affect relationships\, making mediation a powerful tool for resolving conflicts early while preserving family ties and avoiding costly\, public litigation. \nThis highly practical webinar with David Paul Stark offers a mediator’s perspective on how counsel can prepare for and make the best use of mediation to increase the chances of a successful outcome in estate and trust disputes. \nTopics include:\n✔️ Unique aspects of estate mediation✔️ What to consider when preparing for mediation✔️ Identifying the real cause of the disagreement✔️ Building a framework for productive discussions✔️ Getting past impasses and roadblocks✔️ Ensuring agreements are fair and enforceable \nAlong the way\, David will share proven strategies for managing client expectations\, navigating sensitive family dynamics\, and finding creative solutions. \nWho Should Attend?This program is valuable for trusts and estates practitioners and mediators of all experience levels. \nSCHEDULE (Eastern Time)\n12:00 PM – 1:30 PM \n\n\nWelcome and Introduction \n\n\nWhen Mediation Can Work / When It May Not Be Appropriate \n\n\nSteps and Considerations in Preparing for Mediation \n\n\nEffective Techniques and Approaches for Counsel at Mediation \n\n\nDocumenting the Settlement \n\n\nProgram Wrap-up and Evaluation \n\n\nHelp your clients avoid the time and expense of litigation! \nRegister Today!seminarpartners.ca | ☎ 1.866.606.4212 | ✉ jennifer@seminarpartners.ca \nView the event poster here.
URL:https://lsnl.ca/event/mediating-trust-estate-disputes/
LOCATION:Online
CATEGORIES:Continuing Professional Development
END:VEVENT
END:VCALENDAR