BEGIN:VCALENDAR
VERSION:2.0
PRODID:-//The Law Society of Newfoundland and Labrador - ECPv6.15.19//NONSGML v1.0//EN
CALSCALE:GREGORIAN
METHOD:PUBLISH
X-WR-CALNAME:The Law Society of Newfoundland and Labrador
X-ORIGINAL-URL:https://lsnl.ca
X-WR-CALDESC:Events for The Law Society of Newfoundland and Labrador
REFRESH-INTERVAL;VALUE=DURATION:PT1H
X-Robots-Tag:noindex
X-PUBLISHED-TTL:PT1H
BEGIN:VTIMEZONE
TZID:America/St_Johns
BEGIN:DAYLIGHT
TZOFFSETFROM:-0330
TZOFFSETTO:-0230
TZNAME:NDT
DTSTART:20240310T053000
END:DAYLIGHT
BEGIN:STANDARD
TZOFFSETFROM:-0230
TZOFFSETTO:-0330
TZNAME:NST
DTSTART:20241103T043000
END:STANDARD
BEGIN:DAYLIGHT
TZOFFSETFROM:-0330
TZOFFSETTO:-0230
TZNAME:NDT
DTSTART:20250309T053000
END:DAYLIGHT
BEGIN:STANDARD
TZOFFSETFROM:-0230
TZOFFSETTO:-0330
TZNAME:NST
DTSTART:20251102T043000
END:STANDARD
BEGIN:DAYLIGHT
TZOFFSETFROM:-0330
TZOFFSETTO:-0230
TZNAME:NDT
DTSTART:20260308T053000
END:DAYLIGHT
BEGIN:STANDARD
TZOFFSETFROM:-0230
TZOFFSETTO:-0330
TZNAME:NST
DTSTART:20261101T043000
END:STANDARD
END:VTIMEZONE
BEGIN:VEVENT
DTSTART;TZID=America/St_Johns:20250611T130000
DTEND;TZID=America/St_Johns:20250611T153000
DTSTAMP:20260420T122928
CREATED:20250213T201235Z
LAST-MODIFIED:20250402T123421Z
UID:25212-1749646800-1749655800@lsnl.ca
SUMMARY:The Anatomy of a Personal Injury Claim – Best Practices\, Caselaw\, and Trends
DESCRIPTION:Seminar Overview:           \n Join us for an in-depth seminar exploring the key stages of a personal injury claim from both the plaintiff and defence perspectives. This session will cover best practices for claim assessment\, pleadings\, discovery\, expert evidence\, and settlement negotiations\, while examining recent caselaw and emerging trends in personal injury litigation. Gain insights from experienced practitioners on strategic litigation approaches\, risk management\, and evolving legal frameworks. A must-attend for those practicing in personal injury law or seeking to refine their litigation skills. \nIn-person attendance is strongly encouraged where possible. Attendees are invited to stay after the seminar for an informal social reception.  \nSeminar Presenters:  \nBlair Pritchett\, Intact Insurance \nBlair Pritchett is part of the in-house counsel team at Intact Insurance.  Blair joined Intact in 2019 to manage the in-house Legal Team in St. John’s.  In 2024\, Blair transitioned to the role of Legal Consultant\, where he now helps to oversee Intact’s national external litigation portfolio.  Prior to joining Intact\, Blair served 20 years in private practice\, most of which time was spent as a partner with McInnes Cooper. \nSophie St. Croix\, Roebothan McKay Marshall \nSophie St. Croix was called to the Newfoundland and Labrador bar in 2014. After completing her articles with Valerie Hynes at Roebothan McKay Marshall\, she has been practicing with the firm since 2014. Sophie’s areas of practice include personal injury\, family law\, and real estate. \n Registration Fee:   $115.00 ($100.00 + HST)  HST # R108086463 \n Registration Includes:  \n\nSeminar attendance and materials\nSnacks and refreshments\n\nPLEASE NOTE:  THE REGISTRATION PROCESS IS ONLINE ONLY.  TO REGISTER FOR THIS SEMINAR\, PLEASE CLICK THE FOLLOWING LINK:  \nhttps://us06web.zoom.us/webinar/register/WN_dxeamUe_Tjezwln1hpEvOg \nCPD Credit: 2.5 hours
URL:https://lsnl.ca/event/the-anatomy-of-a-personal-injury-claim-best-practices-caselaw-and-trends/
LOCATION:3rd Floor\, Law Society Building\, 196-198 Water Street\, St. John’s\, Canada
CATEGORIES:Continuing Professional Development,Law Society
ORGANIZER;CN="Law Society of Newfoundland & Labrador":MAILTO:churley@lsnl.ca
END:VEVENT
END:VCALENDAR