BEGIN:VCALENDAR
VERSION:2.0
PRODID:-//The Law Society of Newfoundland and Labrador - ECPv6.15.19//NONSGML v1.0//EN
CALSCALE:GREGORIAN
METHOD:PUBLISH
X-WR-CALNAME:The Law Society of Newfoundland and Labrador
X-ORIGINAL-URL:https://lsnl.ca
X-WR-CALDESC:Events for The Law Society of Newfoundland and Labrador
REFRESH-INTERVAL;VALUE=DURATION:PT1H
X-Robots-Tag:noindex
X-PUBLISHED-TTL:PT1H
BEGIN:VTIMEZONE
TZID:America/St_Johns
BEGIN:DAYLIGHT
TZOFFSETFROM:-0330
TZOFFSETTO:-0230
TZNAME:NDT
DTSTART:20240310T053000
END:DAYLIGHT
BEGIN:STANDARD
TZOFFSETFROM:-0230
TZOFFSETTO:-0330
TZNAME:NST
DTSTART:20241103T043000
END:STANDARD
BEGIN:DAYLIGHT
TZOFFSETFROM:-0330
TZOFFSETTO:-0230
TZNAME:NDT
DTSTART:20250309T053000
END:DAYLIGHT
BEGIN:STANDARD
TZOFFSETFROM:-0230
TZOFFSETTO:-0330
TZNAME:NST
DTSTART:20251102T043000
END:STANDARD
BEGIN:DAYLIGHT
TZOFFSETFROM:-0330
TZOFFSETTO:-0230
TZNAME:NDT
DTSTART:20260308T053000
END:DAYLIGHT
BEGIN:STANDARD
TZOFFSETFROM:-0230
TZOFFSETTO:-0330
TZNAME:NST
DTSTART:20261101T043000
END:STANDARD
END:VTIMEZONE
BEGIN:VEVENT
DTSTART;TZID=America/St_Johns:20250613T110000
DTEND;TZID=America/St_Johns:20250613T170000
DTSTAMP:20260420T122602
CREATED:20250527T120743Z
LAST-MODIFIED:20250527T121034Z
UID:25994-1749812400-1749834000@lsnl.ca
SUMMARY:Swearing-in Ceremony of The Honourable Andrew Owen Brown as Judge of the Provincial Court of Newfoundland and Labrador
DESCRIPTION:The Honourable Robin L.M. Fowler Chief Judge of the Provincial Court of Newfoundland and Labrador cordially invites you to attend the Administration of the Oaths of Office to The Honourable Andrew Owen Brown as a Judge of the Provincial Court of Newfoundland and Labrador. \nWhen: Friday\, June 13\, 2025 at 11:00 a.m.\nWhere: Courtroom No. 7\, 4th Floor\, Atlantic Place\, 215 Water Street\, St. John’s\, NL \nR.S.V.P.\nKim Delaney – (709) 729-7399\nemail: kimd@provincial.court.nl.ca
URL:https://lsnl.ca/event/swearing-in-ceremony-of-the-honourable-andrew-o-brown-as-judge-of-the-provincial-court-of-newfoundland-and-labrador/
CATEGORIES:Continuing Professional Development
END:VEVENT
END:VCALENDAR