BEGIN:VCALENDAR
VERSION:2.0
PRODID:-//The Law Society of Newfoundland and Labrador - ECPv6.15.19//NONSGML v1.0//EN
CALSCALE:GREGORIAN
METHOD:PUBLISH
X-ORIGINAL-URL:https://lsnl.ca
X-WR-CALDESC:Events for The Law Society of Newfoundland and Labrador
REFRESH-INTERVAL;VALUE=DURATION:PT1H
X-Robots-Tag:noindex
X-PUBLISHED-TTL:PT1H
BEGIN:VTIMEZONE
TZID:America/St_Johns
BEGIN:DAYLIGHT
TZOFFSETFROM:-0330
TZOFFSETTO:-0230
TZNAME:NDT
DTSTART:20240310T053000
END:DAYLIGHT
BEGIN:STANDARD
TZOFFSETFROM:-0230
TZOFFSETTO:-0330
TZNAME:NST
DTSTART:20241103T043000
END:STANDARD
BEGIN:DAYLIGHT
TZOFFSETFROM:-0330
TZOFFSETTO:-0230
TZNAME:NDT
DTSTART:20250309T053000
END:DAYLIGHT
BEGIN:STANDARD
TZOFFSETFROM:-0230
TZOFFSETTO:-0330
TZNAME:NST
DTSTART:20251102T043000
END:STANDARD
BEGIN:DAYLIGHT
TZOFFSETFROM:-0330
TZOFFSETTO:-0230
TZNAME:NDT
DTSTART:20260308T053000
END:DAYLIGHT
BEGIN:STANDARD
TZOFFSETFROM:-0230
TZOFFSETTO:-0330
TZNAME:NST
DTSTART:20261101T043000
END:STANDARD
END:VTIMEZONE
BEGIN:VEVENT
DTSTART;TZID=America/St_Johns:20250618T121500
DTEND;TZID=America/St_Johns:20250618T131500
DTSTAMP:20260420T122717
CREATED:20250523T131834Z
LAST-MODIFIED:20250523T131834Z
UID:25967-1750248900-1750252500@lsnl.ca
SUMMARY:What Labour & Employment Lawyers Need to Know About Employing Foreign Workers
DESCRIPTION:CBA-NL Labour & Employment Law Lunch and Learn\nAmanda Nash from McInnes Cooper will lead a discussion on key topics of what labour and employment lawyers need to understand when it comes to employing foreign workers. With over 10 years of experience in labour and employment law\, now complemented by a focus on immigration law\, Amanda brings valuable insight into how these two areas intersect. She’ll highlight commonly overlooked considerations when hiring foreign workers and explore the immigration issues that often arise in the process. \nThis one-hour lunch and learn will be filled with information to help you in your practice\, with time for questions throughout and at the end of the presentation. \nFormat: In person or virtual \nEvent DetailsDate: Wednesday\, June 18\, 2025Time: 12:15 PM – 1:15 PMLocation: McInnes Cooper Law Firm or join us virtuallyLunch: ProvidedFee: FREE for CBA members | $50 for non-members \nRegister online here by Monday\, June 16. \nEmail Robyn with any inquiries.
URL:https://lsnl.ca/event/what-labour-employment-lawyers-need-to-know-about-employing-foreign-workers/
CATEGORIES:Continuing Professional Development
END:VEVENT
END:VCALENDAR