BEGIN:VCALENDAR
VERSION:2.0
PRODID:-//The Law Society of Newfoundland and Labrador - ECPv6.15.19//NONSGML v1.0//EN
CALSCALE:GREGORIAN
METHOD:PUBLISH
X-WR-CALNAME:The Law Society of Newfoundland and Labrador
X-ORIGINAL-URL:https://lsnl.ca
X-WR-CALDESC:Events for The Law Society of Newfoundland and Labrador
REFRESH-INTERVAL;VALUE=DURATION:PT1H
X-Robots-Tag:noindex
X-PUBLISHED-TTL:PT1H
BEGIN:VTIMEZONE
TZID:America/St_Johns
BEGIN:DAYLIGHT
TZOFFSETFROM:-0330
TZOFFSETTO:-0230
TZNAME:NDT
DTSTART:20240310T053000
END:DAYLIGHT
BEGIN:STANDARD
TZOFFSETFROM:-0230
TZOFFSETTO:-0330
TZNAME:NST
DTSTART:20241103T043000
END:STANDARD
BEGIN:DAYLIGHT
TZOFFSETFROM:-0330
TZOFFSETTO:-0230
TZNAME:NDT
DTSTART:20250309T053000
END:DAYLIGHT
BEGIN:STANDARD
TZOFFSETFROM:-0230
TZOFFSETTO:-0330
TZNAME:NST
DTSTART:20251102T043000
END:STANDARD
BEGIN:DAYLIGHT
TZOFFSETFROM:-0330
TZOFFSETTO:-0230
TZNAME:NDT
DTSTART:20260308T053000
END:DAYLIGHT
BEGIN:STANDARD
TZOFFSETFROM:-0230
TZOFFSETTO:-0330
TZNAME:NST
DTSTART:20261101T043000
END:STANDARD
END:VTIMEZONE
BEGIN:VEVENT
DTSTART;TZID=America/St_Johns:20250619T120000
DTEND;TZID=America/St_Johns:20250619T140000
DTSTAMP:20260420T122557
CREATED:20250523T132056Z
LAST-MODIFIED:20250523T132056Z
UID:25969-1750334400-1750341600@lsnl.ca
SUMMARY:Upcoming Session by CBA-NL: Mental Health\, Anxiety\, & Stress Management in the Workplace Anxiety and Stress in the Workplace: A Mental Health Presentation for Legal Professionals
DESCRIPTION:For Lawyers & Articling Clerks \nHigh-pressure deadlines\, long hours\, and constant demands—legal professionals are no strangers to stress. But when stress goes unmanaged\, it can take a serious toll on mental health and workplace performance. \nJoin us for a live\, two-hour presentation designed specifically for those struggling to manage stress and anxiety in the workplace. We’ll explore the foundations of mental health\, take a closer look at anxiety and how it shows up in the workplace\, and share practical tools for stress management\, mindfulness\, and self-care. \nThis session is informative\, relatable\, and built to support the challenges of legal professionals. Walk away with greater awareness\, useful strategies\, and a renewed focus on well-being. \nThere will be opportunities for questions and discussion throughout the presentation. \nEvent DetailsDate: Thursday\, June 19\, 2025Time: 12:00 PM – 2:00 PMLocation: 6th Floor Conference Room\, Atlantic Place or join us virtuallyLunch: ProvidedFee: FREE for CBA members and articling clerks | $15 for non-members \nRegister online here by Tuesday\, June 17. \nEmail Robyn with any inquiries.
URL:https://lsnl.ca/event/upcoming-session-by-cba-nl-mental-health-anxiety-stress-management-in-the-workplace-anxiety-and-stress-in-the-workplace-a-mental-health-presentation-for-legal-professionals/
CATEGORIES:Continuing Professional Development
END:VEVENT
END:VCALENDAR