BEGIN:VCALENDAR
VERSION:2.0
PRODID:-//The Law Society of Newfoundland and Labrador - ECPv6.15.19//NONSGML v1.0//EN
CALSCALE:GREGORIAN
METHOD:PUBLISH
X-WR-CALNAME:The Law Society of Newfoundland and Labrador
X-ORIGINAL-URL:https://lsnl.ca
X-WR-CALDESC:Events for The Law Society of Newfoundland and Labrador
REFRESH-INTERVAL;VALUE=DURATION:PT1H
X-Robots-Tag:noindex
X-PUBLISHED-TTL:PT1H
BEGIN:VTIMEZONE
TZID:America/St_Johns
BEGIN:DAYLIGHT
TZOFFSETFROM:-0330
TZOFFSETTO:-0230
TZNAME:NDT
DTSTART:20240310T053000
END:DAYLIGHT
BEGIN:STANDARD
TZOFFSETFROM:-0230
TZOFFSETTO:-0330
TZNAME:NST
DTSTART:20241103T043000
END:STANDARD
BEGIN:DAYLIGHT
TZOFFSETFROM:-0330
TZOFFSETTO:-0230
TZNAME:NDT
DTSTART:20250309T053000
END:DAYLIGHT
BEGIN:STANDARD
TZOFFSETFROM:-0230
TZOFFSETTO:-0330
TZNAME:NST
DTSTART:20251102T043000
END:STANDARD
BEGIN:DAYLIGHT
TZOFFSETFROM:-0330
TZOFFSETTO:-0230
TZNAME:NDT
DTSTART:20260308T053000
END:DAYLIGHT
BEGIN:STANDARD
TZOFFSETFROM:-0230
TZOFFSETTO:-0330
TZNAME:NST
DTSTART:20261101T043000
END:STANDARD
END:VTIMEZONE
BEGIN:VEVENT
DTSTART;TZID=America/St_Johns:20250620T083000
DTEND;TZID=America/St_Johns:20250620T123000
DTSTAMP:20260420T122544
CREATED:20250411T132446Z
LAST-MODIFIED:20250411T132446Z
UID:25702-1750408200-1750422600@lsnl.ca
SUMMARY:Digital Forensics for Attorneys – Part 1 & 2
DESCRIPTION:Credits: 4 CPD Hours\nDuration: 4 Hours\nCost: $500 per person \nProof of completion will be provided at the end of the course. \nAn in-depth exploration of the technical aspects of digital forensics\, including real case studies to apply your knowledge. \nTopics include:✓ Forensic Tools and Digital Extractions✓ Digital Evidence Handling✓ Cloud Data\, Digital Artifacts\, and Databases✓ Technical Knowledge and More \nUpcoming Training Dates and Locations\n\n\n\n\nDate\nTime\nLocation\nVenue\n\n\n\n\nFriday\, May 2\n8:30 – 12:30\nSt. John’s\nDoubletree Inn\, 2 Hill O’Chips\n\n\nFriday\, May 9\n8:30 – 12:30\nGander\nQuality Inn\, 100 Trans Canada Hwy\n\n\nFriday\, May 16\n8:30 – 12:30\nCorner Brook\nGreenwood Inn\, 48 West St\n\n\nFriday\, June 6\n8:30 – 12:30\nSt. John’s\nDoubletree Inn\, 2 Hill O’Chips\n\n\nFriday\, June 20\n8:30 – 12:30\nGander\nQuality Inn\, 100 Trans Canada Hwy\n\n\nFriday\, June 27\n8:30 – 12:30\nCorner Brook\nGreenwood Inn\, 48 West St\n\n\n\n\nTo Register:\nCall 709-381-8077Or register online at www.Hexadata.ca \nDigital Forensics ConsultingHexadata Forensics
URL:https://lsnl.ca/event/digital-forensics-for-attorneys-part-1-2-5/
CATEGORIES:Continuing Professional Development
END:VEVENT
END:VCALENDAR