BEGIN:VCALENDAR
VERSION:2.0
PRODID:-//The Law Society of Newfoundland and Labrador - ECPv6.15.19//NONSGML v1.0//EN
CALSCALE:GREGORIAN
METHOD:PUBLISH
X-WR-CALNAME:The Law Society of Newfoundland and Labrador
X-ORIGINAL-URL:https://lsnl.ca
X-WR-CALDESC:Events for The Law Society of Newfoundland and Labrador
REFRESH-INTERVAL;VALUE=DURATION:PT1H
X-Robots-Tag:noindex
X-PUBLISHED-TTL:PT1H
BEGIN:VTIMEZONE
TZID:America/St_Johns
BEGIN:DAYLIGHT
TZOFFSETFROM:-0330
TZOFFSETTO:-0230
TZNAME:NDT
DTSTART:20240310T053000
END:DAYLIGHT
BEGIN:STANDARD
TZOFFSETFROM:-0230
TZOFFSETTO:-0330
TZNAME:NST
DTSTART:20241103T043000
END:STANDARD
BEGIN:DAYLIGHT
TZOFFSETFROM:-0330
TZOFFSETTO:-0230
TZNAME:NDT
DTSTART:20250309T053000
END:DAYLIGHT
BEGIN:STANDARD
TZOFFSETFROM:-0230
TZOFFSETTO:-0330
TZNAME:NST
DTSTART:20251102T043000
END:STANDARD
BEGIN:DAYLIGHT
TZOFFSETFROM:-0330
TZOFFSETTO:-0230
TZNAME:NDT
DTSTART:20260308T053000
END:DAYLIGHT
BEGIN:STANDARD
TZOFFSETFROM:-0230
TZOFFSETTO:-0330
TZNAME:NST
DTSTART:20261101T043000
END:STANDARD
END:VTIMEZONE
BEGIN:VEVENT
DTSTART;VALUE=DATE:20250723
DTEND;VALUE=DATE:20250726
DTSTAMP:20260420T091850
CREATED:20250708T165828Z
LAST-MODIFIED:20250708T170453Z
UID:26308-1753228800-1753487999@lsnl.ca
SUMMARY:Youth Justice Camp: St. John's
DESCRIPTION:
URL:https://lsnl.ca/event/youth-justice-camp-st-johns/
CATEGORIES:Continuing Professional Development
END:VEVENT
BEGIN:VEVENT
DTSTART;TZID=America/St_Johns:20250725T123000
DTEND;TZID=America/St_Johns:20250725T170000
DTSTAMP:20260420T091850
CREATED:20250709T164209Z
LAST-MODIFIED:20250709T164209Z
UID:26328-1753446600-1753462800@lsnl.ca
SUMMARY:Young Lawyer Professional Development and Mingle Event
DESCRIPTION:We’ve never done anything like this before – and we’re excited to bring young lawyers together for an in-person afternoon of professional development\, connection\, and fun on Friday\, July 25! \nWe’re going straight to the source on the do’s and don’ts of the provincial courtroom. Chief Judge Robin Fowler will lead a session on courtroom etiquette\, offering practical insights from the bench. Whether you’re preparing for your first appearance or looking for a timely refresher\, this is your chance to learn what to expect and ask the Chief Judge your questions directly. \nWe’ll kick off the afternoon with lunch and a presentation from Lawyers Financial\, covering how to set yourself up for financial success as you transition from law school into practice- navigating things like loans\, unexpected time off\, parental leave\, and more. \nAnd to wrap things up (arguably the best part)\, we’re ending the day with a young lawyer meet and mingle\, a great opportunity to expand your network and enjoy a beverage on us. \nHere’s what’s on the agenda: \n 12:30 PM – Check-in \n 12:45 PM – Lunch & Financial literacy presentation by Lawyers Financial \n⚖️ Courtroom Etiquette with Chief Judge Fowler – an invaluable opportunity for facetime and practical insight \n 3:00–5:00 PM – Young Lawyer Meet & Mingle (refreshments on us!) \n Free for members\, articling clerks\, & law students \n $20 plus tax for non-members \n Includes lunch and refreshments \nRegister now here \n Questions? Email Robyn at cba-nl@cba.org
URL:https://lsnl.ca/event/young-lawyer-professional-development-and-mingle-event/
CATEGORIES:Continuing Professional Development
END:VEVENT
END:VCALENDAR