BEGIN:VCALENDAR
VERSION:2.0
PRODID:-//The Law Society of Newfoundland and Labrador - ECPv6.15.19//NONSGML v1.0//EN
CALSCALE:GREGORIAN
METHOD:PUBLISH
X-ORIGINAL-URL:https://lsnl.ca
X-WR-CALDESC:Events for The Law Society of Newfoundland and Labrador
REFRESH-INTERVAL;VALUE=DURATION:PT1H
X-Robots-Tag:noindex
X-PUBLISHED-TTL:PT1H
BEGIN:VTIMEZONE
TZID:America/St_Johns
BEGIN:DAYLIGHT
TZOFFSETFROM:-0330
TZOFFSETTO:-0230
TZNAME:NDT
DTSTART:20240310T053000
END:DAYLIGHT
BEGIN:STANDARD
TZOFFSETFROM:-0230
TZOFFSETTO:-0330
TZNAME:NST
DTSTART:20241103T043000
END:STANDARD
BEGIN:DAYLIGHT
TZOFFSETFROM:-0330
TZOFFSETTO:-0230
TZNAME:NDT
DTSTART:20250309T053000
END:DAYLIGHT
BEGIN:STANDARD
TZOFFSETFROM:-0230
TZOFFSETTO:-0330
TZNAME:NST
DTSTART:20251102T043000
END:STANDARD
BEGIN:DAYLIGHT
TZOFFSETFROM:-0330
TZOFFSETTO:-0230
TZNAME:NDT
DTSTART:20260308T053000
END:DAYLIGHT
BEGIN:STANDARD
TZOFFSETFROM:-0230
TZOFFSETTO:-0330
TZNAME:NST
DTSTART:20261101T043000
END:STANDARD
END:VTIMEZONE
BEGIN:VEVENT
DTSTART;VALUE=DATE:20250811
DTEND;VALUE=DATE:20250814
DTSTAMP:20260420T074424
CREATED:20250708T170436Z
LAST-MODIFIED:20250708T170851Z
UID:26311-1754870400-1755129599@lsnl.ca
SUMMARY:Youth Justice Camp: Happy Valley-Goose Bay
DESCRIPTION:
URL:https://lsnl.ca/event/youth-justice-camp-happy-valley-goose-bay/
CATEGORIES:Continuing Professional Development
END:VEVENT
BEGIN:VEVENT
DTSTART;VALUE=DATE:20250812
DTEND;VALUE=DATE:20250813
DTSTAMP:20260420T074424
CREATED:20250402T121611Z
LAST-MODIFIED:20250402T121611Z
UID:25561-1754956800-1755043199@lsnl.ca
SUMMARY:Personality Differences in the Workplace
DESCRIPTION:Personality differences often lead to miscommunication and conflict\, which affect both our personal efficiency and team health. Utilizing the ACHIEVE Work Styles Assessment\, participants will learn to better understand personality styles that are different from their own. Greater awareness of personality differences leads to improved personal effectiveness and group productivity. Participants will learn strategies for communicating more effectively based on their own personality strengths and the personality-based preferences of others. \n\n\n\n\n\n\n\n\n\n\n\nLearning Objectives\nUpon completion\, participants should be able to: \n\nDescribe the four work styles\nList behaviors associated with the four work styles\nIdentify blind spots of each of the four work styles\nPractice interacting with the four work styles\n\n\n\nMethod of Delivery\nPresentation\, video\, experiential practice\, personal reflection\, delivered electronically. \n\n*Please allow only the registered individual(s) to view the materials. \nNote: An e-manual for this workshop is included in purchase. \n\n\n\n\n\nme of the Topics Included\n\nUnderstanding the Four Work Styles\nBreaking the Cycle of Unhealthy Dynamics\nAdapting Your Style\nAssessing Other Styles\nPotential Blind Spots\nStrong Teams and Healthy Work Environments\n\n\n\nTarget Audience\nThis is an introductory-intermediate level workshop. \n\n\nTerms & Conditions\nView our cancellation policy and other information regarding your live virtual workshop or for your in-person workshop. \nThis is a live virtual event\, please check your system requirements prior to registering. \nParticipants will receive the Zoom meeting login details and information about viewing the live virtual workshop by email 3-4 calendar days prior to the date of the event.\nPlease note\, payment is required in order to receive the login details. \n\n\n\n\n\n\nTrainer: David Jung\n\n\n\n\n\nDavid has provided leadership for various non-profit organizations for over 25 years. He has a degree in Philosophy\, a diploma in Counselling\, a Master of Arts in Christian Counselling\, as well as certifications in Conflict Resolution and Mediation. In addition to training with ACHIEVE\, he works as ACHIEVE’s Training and Development Specialist. In this role\, David provides support to other trainers and ensures that training material reflects the current research in the field and is consistent with ACHIEVE’s core beliefs. He also works in the field of mediation where he volunteers as a Mediator for the court diversion program in Manitoba. In whatever role David finds himself\, his passion for motivating people to continue their personal journey of learning and growth shines through. David believes that no matter what our role is in the workplace\, we can all continue to grow in our skills to improve our own life and to help improve the lives of others. As a trainer\, he is known for his dynamic workshop facilitation that combines humour and real-world application.
URL:https://lsnl.ca/event/personality-differences-in-the-workplace-3/
CATEGORIES:Continuing Professional Development
END:VEVENT
BEGIN:VEVENT
DTSTART;TZID=America/St_Johns:20250812T100000
DTEND;TZID=America/St_Johns:20250812T130000
DTSTAMP:20260420T074424
CREATED:20250220T135759Z
LAST-MODIFIED:20250220T135759Z
UID:25267-1754992800-1755003600@lsnl.ca
SUMMARY:Polarizing Conversations: How to Talk About Triggering Topics
DESCRIPTION:Do you want to learn how to maintain relationships when discussing potentially triggering issues? Many people find themselves ill-prepared for these conversations and\, as a result\, avoid them or feel overwhelmed when they’re happening. This workshop equips you with skills for managing your own emotions and understanding the various dynamics of having polarizing discussions so you can confidently ensure they are productive and respectful. This is helpful for talking about things such as gender and equity\, race relations\, environmentalism\, the pandemic\, and remote work. No matter where you might have to discuss a polarizing issue\, this workshop teaches you to do so in a way that will leave everyone feeling heard and respected. \n\n\n\n\n\n\n\n\n\nLearning Objectives\nUpon completion\, participants should be able to: \n\nExplain polarizing conversations and their many layers\nIdentify our natural emotional responses to challenging interactions\nUtilize listening and validation to reduce tension\nDemonstrate how to set up conversations for success and make people feel safe\nPractice skills to engage in conversations about polarizing topics\n\n\n\nMethod of Delivery\nPresentation\, case study exercises\, experiential practice\, and personal reflection\, delivered electronically. \n\n*Please allow only the registered individual(s) to view the materials. \nNote: An e-manual for this workshop is included in purchase. \n\n\n\n\nSome of the Topics Included\n\nUnderstanding the Dynamics of Polarizing Topics\nOur Natural Responses to Challenging Interactions\nPreparing for the Polarized Conversation\nDepersonalizing the Conversation\nFinding Common Ground\nUtilizing Empathy and Validation\nHow to Help People Feel Safe\nEngaging in a Respectful Conversation\n\n\n\nTarget Audience\nThis is an introductory-intermediate level workshop applicable to both employees and managers. \n\n\nTerms & Conditions\nView our cancellation policy and other information regarding your live virtual workshop or for your in-person workshop. \nThis is a live virtual event\, please check your system requirements prior to registering. \nParticipants will receive the Zoom meeting login details and information about viewing the live virtual workshop by email 3-4 calendar days prior to the date of the event.\nPlease note\, payment is required in order to receive the login details. \n\n\n\n\n\n\n\n\n\n\n\nTrainer: Kristen Deuzeman\nKristen is an Organizational Psychologist who specializes in psychological assessments. She completed her undergraduate degree at the University of Ottawa\, and her graduate work at both the University of Ottawa and Concordia University. In addition to training with ACHIEVE\, Kristen is the clinical director for a psychological services agency. As a leader\, she believes that continuous development and self-awareness is essential to one’s ability to serve others. As a trainer\, Kristen combines her experience in organizational psychology and clinical work to enhance self-discovery and skill development for participants. She is a passionate facilitator who uses warmth and humour to create engaging and meaningful workshops. Read blogs written by Kristen here.
URL:https://lsnl.ca/event/polarizing-conversations-how-to-talk-about-triggering-topics-3/
LOCATION:Online
CATEGORIES:Continuing Professional Development
END:VEVENT
END:VCALENDAR