BEGIN:VCALENDAR
VERSION:2.0
PRODID:-//The Law Society of Newfoundland and Labrador - ECPv6.15.19//NONSGML v1.0//EN
CALSCALE:GREGORIAN
METHOD:PUBLISH
X-ORIGINAL-URL:https://lsnl.ca
X-WR-CALDESC:Events for The Law Society of Newfoundland and Labrador
REFRESH-INTERVAL;VALUE=DURATION:PT1H
X-Robots-Tag:noindex
X-PUBLISHED-TTL:PT1H
BEGIN:VTIMEZONE
TZID:America/St_Johns
BEGIN:DAYLIGHT
TZOFFSETFROM:-0330
TZOFFSETTO:-0230
TZNAME:NDT
DTSTART:20240310T053000
END:DAYLIGHT
BEGIN:STANDARD
TZOFFSETFROM:-0230
TZOFFSETTO:-0330
TZNAME:NST
DTSTART:20241103T043000
END:STANDARD
BEGIN:DAYLIGHT
TZOFFSETFROM:-0330
TZOFFSETTO:-0230
TZNAME:NDT
DTSTART:20250309T053000
END:DAYLIGHT
BEGIN:STANDARD
TZOFFSETFROM:-0230
TZOFFSETTO:-0330
TZNAME:NST
DTSTART:20251102T043000
END:STANDARD
BEGIN:DAYLIGHT
TZOFFSETFROM:-0330
TZOFFSETTO:-0230
TZNAME:NDT
DTSTART:20260308T053000
END:DAYLIGHT
BEGIN:STANDARD
TZOFFSETFROM:-0230
TZOFFSETTO:-0330
TZNAME:NST
DTSTART:20261101T043000
END:STANDARD
END:VTIMEZONE
BEGIN:VEVENT
DTSTART;TZID=America/St_Johns:20250909T123000
DTEND;TZID=America/St_Johns:20250909T143000
DTSTAMP:20260420T043002
CREATED:20250825T160612Z
LAST-MODIFIED:20250825T162124Z
UID:26549-1757421000-1757428200@lsnl.ca
SUMMARY:Voices Under Pressure: Defending Freedom of Expression for Lawyers and Journalists
DESCRIPTION:There is an upcoming CLA webinar taking place on 9th September at 12.30 pm BST which may be of interest. \nWebinar on ” Voices Under Pressure: Defending Freedom of Expression for Lawyers and Journalists” \nJoin the CLA and its partners the Commonwealth Human Rights Initiative and the Law Society of England and Wales\, for this webinar on 9th September which will explore how legal frameworks and disciplinary measures are weaponised to silence lawyers and journalists simply for doing their job. \nSpeakers Sneh Aurora Debra Long and CLA president Steven Thiru\, Advocates & Solicitors will examine global patterns of repression\, share insights on legal protections\, and strengthen advocacy for those who defend human rights\, access to justice and the rule of law. \nRegistration Link: https://us02web.zoom.us/webinar/register/WN_eQ8prXwuThiL6NDIeQE7UQ#/registration
URL:https://lsnl.ca/event/voices-under-pressure-defending-freedom-of-expression-for-lawyers-and-journalists/
LOCATION:Online
CATEGORIES:Continuing Professional Development
END:VEVENT
BEGIN:VEVENT
DTSTART;TZID=America/St_Johns:20250909T180000
DTEND;TZID=America/St_Johns:20250909T203000
DTSTAMP:20260420T043002
CREATED:20250818T160735Z
LAST-MODIFIED:20250818T161856Z
UID:26511-1757440800-1757449800@lsnl.ca
SUMMARY:Free Environmental Law Workshop in Happy Valley-Goose Bay
DESCRIPTION:Join East Coast Environmental Law for a free environmental law workshop that’s open to all in Happy Valley-Goose Bay! \n\n\n\n\n\n\n\n\nLocation:\nLabrador Friendship Centre \n\n\n\n\n\n\n\n\n\n\nHighlights:\n\n\n\n\n\n2 hours\, 30 minutes\nIn person\n\n\n\n\n\n\n\nAbout this event:\nJoin us for a free environmental law workshop that’s open to all in Happy Valley-Goose Bay. Led by East Coast Environmental Law staff lawyer Tina Northrup\, the workshop will offer foundational learning on how environmental laws are made and changed and how members of the public can contribute to the enforcement of environmental laws. We will then explore one or two case studies that dig deeper into how the environmental law landscape is changing in Newfoundland and Labrador.\n\n\n\n\n\n\n\n\n\nFurther details about agenda to come. \nFor more information please click here\, or contact East Coast Environmental Law at admin@ecelaw.ca.\nOrganized by .
URL:https://lsnl.ca/event/free-environmental-law-workshop-in-happy-valley-goose-bay/
CATEGORIES:Continuing Professional Development
END:VEVENT
END:VCALENDAR