BEGIN:VCALENDAR
VERSION:2.0
PRODID:-//The Law Society of Newfoundland and Labrador - ECPv6.15.19//NONSGML v1.0//EN
CALSCALE:GREGORIAN
METHOD:PUBLISH
X-WR-CALNAME:The Law Society of Newfoundland and Labrador
X-ORIGINAL-URL:https://lsnl.ca
X-WR-CALDESC:Events for The Law Society of Newfoundland and Labrador
REFRESH-INTERVAL;VALUE=DURATION:PT1H
X-Robots-Tag:noindex
X-PUBLISHED-TTL:PT1H
BEGIN:VTIMEZONE
TZID:America/St_Johns
BEGIN:DAYLIGHT
TZOFFSETFROM:-0330
TZOFFSETTO:-0230
TZNAME:NDT
DTSTART:20240310T053000
END:DAYLIGHT
BEGIN:STANDARD
TZOFFSETFROM:-0230
TZOFFSETTO:-0330
TZNAME:NST
DTSTART:20241103T043000
END:STANDARD
BEGIN:DAYLIGHT
TZOFFSETFROM:-0330
TZOFFSETTO:-0230
TZNAME:NDT
DTSTART:20250309T053000
END:DAYLIGHT
BEGIN:STANDARD
TZOFFSETFROM:-0230
TZOFFSETTO:-0330
TZNAME:NST
DTSTART:20251102T043000
END:STANDARD
BEGIN:DAYLIGHT
TZOFFSETFROM:-0330
TZOFFSETTO:-0230
TZNAME:NDT
DTSTART:20260308T053000
END:DAYLIGHT
BEGIN:STANDARD
TZOFFSETFROM:-0230
TZOFFSETTO:-0330
TZNAME:NST
DTSTART:20261101T043000
END:STANDARD
END:VTIMEZONE
BEGIN:VEVENT
DTSTART;TZID=America/St_Johns:20250910T130000
DTEND;TZID=America/St_Johns:20250910T153000
DTSTAMP:20260420T061854
CREATED:20250811T162737Z
LAST-MODIFIED:20250908T122917Z
UID:26478-1757509200-1757518200@lsnl.ca
SUMMARY:Effective Strategies in Working with High Conflict Personalities
DESCRIPTION:Seminar Overview\nThis engaging and practical seminar explores effective approaches to working with high conflict personalities. Legal professionals frequently encounter clients or opposing parties whose behaviour escalates conflict and complicates legal processes. This training provides insight into the nature of high conflict personalities and equips participants with tools to manage these challenging dynamics more effectively. \nThis presentation will draw from the following topics: \n\nRecognizing potential indicators and key characteristics of high conflict personalities\nManaging professional roles and responsibilities when collaborating with other professionals (e.g.\, custody assessors\, child protection workers\, therapists)\nUnderstanding relevant personality disorders (e.g.\, borderline\, narcissistic\, antisocial\, histrionic)\nImplementing hostility reduction strategies and identifying intractable or high-risk situations\nMaintaining impartiality\, managing personal triggers\, and applying self-care strategies\nExploring legal and clinical interventions for navigating complex and high-conflict cases\n\nThis seminar is ideal for lawyers\, mediators\, and professionals working in high-conflict environments who are looking to build confidence\, develop specialized skills\, and foster more effective outcomes in their practice. \nSeminar Presenters\nHoward Hurwitz\, MSW\, RSW\, AccFM (Ontario) \nHoward is a social worker in private practice\, specializing in supporting families navigating separation and divorce. He is also a certified family mediator. With a Master of Social Work and more than 46 years of experience in child protection\, children’s mental health\, and family counselling\, Howard has held senior roles\, including 16 years as Director of a child protection agency in Toronto. \nHoward founded and chaired the High Conflict Forum\, a community-based network bringing together lawyers\, judges\, mental health professionals\, and child protection staff from over 30 agencies to support high-conflict families experiencing separation or divorce. This model has been so successful that it has been adopted in five other Canadian cities. \nAn experienced trainer\, Howard regularly delivers training to professionals in the child protection\, children’s mental health\, and family law sectors. He has presented at international conferences in the United States and the Netherlands and is recognized by the courts as an expert in working with high-conflict families and cases involving parental alienation. He is frequently consulted by professionals across disciplines on these matters. Howard is also co-author\, with Dr. Barbara Fidler and Professor Nicholas Bala\, of Emotional Harm and Parent-Child Contact Problems in High Conflict Separations. \nHoward is a lead clinician in Families Moving Forward\, a treatment program designed for children who have disrupted contact with a parent following parental separation or divorce. \nRegistration Fee\n$115.00 ($100.00 + HST)\nHST # R108086463 \nRegister Here \nCPD Credit\n2.5 hours
URL:https://lsnl.ca/event/effective-strategies-in-working-with-high-conflict-personalities/
LOCATION:3rd Floor\, Law Society Building\, 196-198 Water Street\, St. John’s\, Canada
CATEGORIES:Continuing Professional Development,Law Society
ORGANIZER;CN="Law Society of Newfoundland & Labrador":MAILTO:churley@lsnl.ca
END:VEVENT
END:VCALENDAR