BEGIN:VCALENDAR
VERSION:2.0
PRODID:-//The Law Society of Newfoundland and Labrador - ECPv6.15.19//NONSGML v1.0//EN
CALSCALE:GREGORIAN
METHOD:PUBLISH
X-WR-CALNAME:The Law Society of Newfoundland and Labrador
X-ORIGINAL-URL:https://lsnl.ca
X-WR-CALDESC:Events for The Law Society of Newfoundland and Labrador
REFRESH-INTERVAL;VALUE=DURATION:PT1H
X-Robots-Tag:noindex
X-PUBLISHED-TTL:PT1H
BEGIN:VTIMEZONE
TZID:America/St_Johns
BEGIN:DAYLIGHT
TZOFFSETFROM:-0330
TZOFFSETTO:-0230
TZNAME:NDT
DTSTART:20240310T053000
END:DAYLIGHT
BEGIN:STANDARD
TZOFFSETFROM:-0230
TZOFFSETTO:-0330
TZNAME:NST
DTSTART:20241103T043000
END:STANDARD
BEGIN:DAYLIGHT
TZOFFSETFROM:-0330
TZOFFSETTO:-0230
TZNAME:NDT
DTSTART:20250309T053000
END:DAYLIGHT
BEGIN:STANDARD
TZOFFSETFROM:-0230
TZOFFSETTO:-0330
TZNAME:NST
DTSTART:20251102T043000
END:STANDARD
BEGIN:DAYLIGHT
TZOFFSETFROM:-0330
TZOFFSETTO:-0230
TZNAME:NDT
DTSTART:20260308T053000
END:DAYLIGHT
BEGIN:STANDARD
TZOFFSETFROM:-0230
TZOFFSETTO:-0330
TZNAME:NST
DTSTART:20261101T043000
END:STANDARD
END:VTIMEZONE
BEGIN:VEVENT
DTSTART;VALUE=DATE:20251017
DTEND;VALUE=DATE:20251018
DTSTAMP:20260420T042725
CREATED:20250811T145347Z
LAST-MODIFIED:20250811T145359Z
UID:26461-1760659200-1760745599@lsnl.ca
SUMMARY:The Power of Plain Language in Legal Drafting
DESCRIPTION:attend via webinar \nPlease note: This course will not be added to Courses on Demand. Courses involving professional speakers and skills-based workshops generally do not get added to Courses on Demand. \nWho should attend: New lawyers and experienced lawyers who draft any type of legal document (including wills\, contracts\, correspondence\, corporate\, and court documents) and want their writing to be clear and concise while still reflecting the critical terms \nLearning level: All levels \nTransform your legal drafting—and your practice—in one game-changing session. In today’s legal landscape\, clarity isn’t just preferred—it’s expected. Plain language is a core component of being an effective\, ethical\, and impactful lawyer. Courts demand it\, clients appreciate it\, and colleagues respect it. That’s where plain language becomes your secret weapon. \nAfter taking this course\, you will: \n\nElevate Your Credibility: Clear language signals precision and confidence\, positioning you as a forward-thinking legal pro.\nEnhance Client Outcomes: Empower clients with documents they actually understand—fewer questions\, better compliance\, and build trust and strengthen client relations.\nMitigate Risk: Avoid costly disputes by eliminating ambiguity and plugging the loopholes that vague language creates.\nBoost Efficiency: Save time with faster reviews\, fewer errors\, and leaner workflows\, allowing you to do more work and maximize billings.\nFutureproof Your Practice: Regulatory bodies and courts increasingly favour transparency—stay ahead of the curve.\nStand Out from the Crowd: In pitches\, courtrooms\, and negotiations\, clarity cuts through noise.\n\nInstructor Douglas Peterson will share practical tips\, provide exercises to get you started\, and refer you to invaluable resources. The concepts apply to all areas of legal writing: contracts\, wills\, corporate documents\, correspondence\, and court documents. \nReady to revolutionize your writing? Join us for The Power of Plain Language in Legal Drafting—and lead the change toward a more efficient\, ethical\, and client-centred legal practice.
URL:https://lsnl.ca/event/the-power-of-plain-language-in-legal-drafting/
LOCATION:Online
CATEGORIES:Continuing Professional Development
END:VEVENT
END:VCALENDAR