BEGIN:VCALENDAR
VERSION:2.0
PRODID:-//The Law Society of Newfoundland and Labrador - ECPv6.15.19//NONSGML v1.0//EN
CALSCALE:GREGORIAN
METHOD:PUBLISH
X-ORIGINAL-URL:https://lsnl.ca
X-WR-CALDESC:Events for The Law Society of Newfoundland and Labrador
REFRESH-INTERVAL;VALUE=DURATION:PT1H
X-Robots-Tag:noindex
X-PUBLISHED-TTL:PT1H
BEGIN:VTIMEZONE
TZID:America/St_Johns
BEGIN:DAYLIGHT
TZOFFSETFROM:-0330
TZOFFSETTO:-0230
TZNAME:NDT
DTSTART:20240310T053000
END:DAYLIGHT
BEGIN:STANDARD
TZOFFSETFROM:-0230
TZOFFSETTO:-0330
TZNAME:NST
DTSTART:20241103T043000
END:STANDARD
BEGIN:DAYLIGHT
TZOFFSETFROM:-0330
TZOFFSETTO:-0230
TZNAME:NDT
DTSTART:20250309T053000
END:DAYLIGHT
BEGIN:STANDARD
TZOFFSETFROM:-0230
TZOFFSETTO:-0330
TZNAME:NST
DTSTART:20251102T043000
END:STANDARD
BEGIN:DAYLIGHT
TZOFFSETFROM:-0330
TZOFFSETTO:-0230
TZNAME:NDT
DTSTART:20260308T053000
END:DAYLIGHT
BEGIN:STANDARD
TZOFFSETFROM:-0230
TZOFFSETTO:-0330
TZNAME:NST
DTSTART:20261101T043000
END:STANDARD
END:VTIMEZONE
BEGIN:VEVENT
DTSTART;VALUE=DATE:20251020
DTEND;VALUE=DATE:20251021
DTSTAMP:20260420T074426
CREATED:20250811T145520Z
LAST-MODIFIED:20250811T145520Z
UID:26463-1760918400-1761004799@lsnl.ca
SUMMARY:Meetings\, Rules\, and Responsible Governance
DESCRIPTION:Limited enrollment. Register early to avoid disappointment!\n\n\n\n\n\n\nMonday\, October 20\, 2025\n9:00 am – 4:00 pm\nattend via webinar \nPlease note: This course will not be added to Courses on Demand. Courses involving professional speakers and skills-based workshops generally do not get added to Courses on Demand. \nWho should attend: Anyone who wants to gain a better understanding of meeting procedures\, or one who chairs or serves on a board\, council or committee\, or one who may chair contentious meetings \nLearning level: All levels \nThis webinar will be led by Eli Mina\, a book author and a seasoned expert on meetings\, rules of order\, and responsible governance. Eli’s pragmatic tools will help you achieve an equal engagement of participants in discussions and debates\, a responsible use of time\, and informed decision-making. \nAs a result of this workshop\, you will: \n\nhave a practical understanding of rules of order and how they should be applied\nexpand your focus from the technical rules to what they are supposed to achieve\nbe better able to advise your clients on resolving procedural disputes\n\nWhat past participants said about the workshop: \n“You successfully turned a potentially dry and boring subject into a relevant and interesting one…” \n“Thanks to your guidance\, our AGM was shorter\, simpler\, and less adversarial.” \n“As a new mayor with a new council\, we have greatly benefited from your sage advice. You taught us the art of converting very contentious issues into learning opportunities for all.”
URL:https://lsnl.ca/event/meetings-rules-and-responsible-governance/
LOCATION:Online
CATEGORIES:Continuing Professional Development
END:VEVENT
END:VCALENDAR