BEGIN:VCALENDAR
VERSION:2.0
PRODID:-//The Law Society of Newfoundland and Labrador - ECPv6.15.19//NONSGML v1.0//EN
CALSCALE:GREGORIAN
METHOD:PUBLISH
X-ORIGINAL-URL:https://lsnl.ca
X-WR-CALDESC:Events for The Law Society of Newfoundland and Labrador
REFRESH-INTERVAL;VALUE=DURATION:PT1H
X-Robots-Tag:noindex
X-PUBLISHED-TTL:PT1H
BEGIN:VTIMEZONE
TZID:America/St_Johns
BEGIN:DAYLIGHT
TZOFFSETFROM:-0330
TZOFFSETTO:-0230
TZNAME:NDT
DTSTART:20240310T053000
END:DAYLIGHT
BEGIN:STANDARD
TZOFFSETFROM:-0230
TZOFFSETTO:-0330
TZNAME:NST
DTSTART:20241103T043000
END:STANDARD
BEGIN:DAYLIGHT
TZOFFSETFROM:-0330
TZOFFSETTO:-0230
TZNAME:NDT
DTSTART:20250309T053000
END:DAYLIGHT
BEGIN:STANDARD
TZOFFSETFROM:-0230
TZOFFSETTO:-0330
TZNAME:NST
DTSTART:20251102T043000
END:STANDARD
BEGIN:DAYLIGHT
TZOFFSETFROM:-0330
TZOFFSETTO:-0230
TZNAME:NDT
DTSTART:20260308T053000
END:DAYLIGHT
BEGIN:STANDARD
TZOFFSETFROM:-0230
TZOFFSETTO:-0330
TZNAME:NST
DTSTART:20261101T043000
END:STANDARD
END:VTIMEZONE
BEGIN:VEVENT
DTSTART;VALUE=DATE:20251029
DTEND;VALUE=DATE:20251030
DTSTAMP:20260420T171122
CREATED:20250811T150107Z
LAST-MODIFIED:20250811T150107Z
UID:26471-1761696000-1761782399@lsnl.ca
SUMMARY:Interim Remedies and Injunctions 2025
DESCRIPTION:Power up your injuctions toolkit!\n\n\n\n\n\nCLEBC Office\, 500 – 1155 W. Pender St.\, Vancouver\nor attend via webinar \nCan’t make the webinar or rebroadcasts?\nWant online CPD available 24/7?\nSubscribe to Courses On Demand\, our comprehensive online resource with 4\,000+ videos and 6\,300+ papers from CLEBC courses. This course will be added to Courses on Demand approximately 30 days from the original course date. \nWho should attend: Civil litigators in a broad cross-section\, including\, but not limited to: corporate\, commercial\, securities\, real property\, and employment \nLearning level: All levels \nIn today’s fast-moving legal landscape\, early intervention can make or break a case. Whether you’re acting for private clients or public bodies\, interim remedies and injunctions are powerful tools that can secure meaningful outcomes before trial. \nAt this practical course\, you’ll explore how litigants are increasingly using interim remedies like Mareva\, Norwich\, and Anton Piller injunctions\, preservation and charging orders\, garnishment\, and other tools to advance their cases. \nLawyers from a diverse range of practice\, including IP\, commercial\, family\, estate\, and personal injury litigation\, and regulatory defence present how these tools are used in different practice settings. Attendees will get a thorough briefing on the latest law and important practice tools and tips. \nLearn how and when to seek these remedies—and how to defend against them—when waiting for a trial date isn’t an option.
URL:https://lsnl.ca/event/interim-remedies-and-injunctions-2025/
LOCATION:Online
CATEGORIES:Continuing Professional Development
END:VEVENT
END:VCALENDAR