BEGIN:VCALENDAR
VERSION:2.0
PRODID:-//The Law Society of Newfoundland and Labrador - ECPv6.15.19//NONSGML v1.0//EN
CALSCALE:GREGORIAN
METHOD:PUBLISH
X-ORIGINAL-URL:https://lsnl.ca
X-WR-CALDESC:Events for The Law Society of Newfoundland and Labrador
REFRESH-INTERVAL;VALUE=DURATION:PT1H
X-Robots-Tag:noindex
X-PUBLISHED-TTL:PT1H
BEGIN:VTIMEZONE
TZID:America/St_Johns
BEGIN:DAYLIGHT
TZOFFSETFROM:-0330
TZOFFSETTO:-0230
TZNAME:NDT
DTSTART:20240310T053000
END:DAYLIGHT
BEGIN:STANDARD
TZOFFSETFROM:-0230
TZOFFSETTO:-0330
TZNAME:NST
DTSTART:20241103T043000
END:STANDARD
BEGIN:DAYLIGHT
TZOFFSETFROM:-0330
TZOFFSETTO:-0230
TZNAME:NDT
DTSTART:20250309T053000
END:DAYLIGHT
BEGIN:STANDARD
TZOFFSETFROM:-0230
TZOFFSETTO:-0330
TZNAME:NST
DTSTART:20251102T043000
END:STANDARD
BEGIN:DAYLIGHT
TZOFFSETFROM:-0330
TZOFFSETTO:-0230
TZNAME:NDT
DTSTART:20260308T053000
END:DAYLIGHT
BEGIN:STANDARD
TZOFFSETFROM:-0230
TZOFFSETTO:-0330
TZNAME:NST
DTSTART:20261101T043000
END:STANDARD
END:VTIMEZONE
BEGIN:VEVENT
DTSTART;VALUE=DATE:20251118
DTEND;VALUE=DATE:20251121
DTSTAMP:20260419T233042
CREATED:20251106T173641Z
LAST-MODIFIED:20251106T173641Z
UID:27034-1763424000-1763683199@lsnl.ca
SUMMARY:Democracy\, the Rule of Law\, and Independence Conference
DESCRIPTION:Date: November 18-20\, 2025\n\nLocation: In person – Ottawa (ON)\, & Online\n\n\nREGISTER \nOVERVIEW \nThe rule of law is a foundational principle of society\, essential for the flourishing of democracy. It creates an environment where governance is just\, transparent\, and accountable\, fostering public confidence. However\, when this confidence erodes\, the community’s willingness to engage with the legal system diminishes\, threatening the very fabric of democratic institutions. \nCIAJ Conference on Democracy\, the Rule of Law\, and Independence is a multidisciplinary event designed to bring together actors from civil society—including legal\, political\, and social stakeholders—to critically examine the principles that uphold social stability and the rule of law. Our goal is to deepen understanding of these essential tenets and identify actionable strategies to enhance public trust in legal institutions. \nThe conference will address the rising tide of global authoritarianism and its impact on democratic governance. By bringing together diverse perspectives and fostering open dialogue\, we aspire to cultivate innovative solutions that promote transparency\, accountability\, and resilience in the face of emerging challenges. Join us in this critical conversation to strengthen our commitment to democracy and the rule of law on a global scale. \nBilingual program with simultaneous interpretation. \nCompensation for judges:\nAs we have reached the maximum number permitted by our resolution under section 41.1 of the Judges Act\, any new applications must now be submitted for approval and reimbursement in accordance with section 41.2.
URL:https://lsnl.ca/event/democracy-the-rule-of-law-and-independence-conference/
LOCATION:Online
CATEGORIES:Continuing Professional Development
END:VEVENT
BEGIN:VEVENT
DTSTART;VALUE=DATE:20251120
DTEND;VALUE=DATE:20251121
DTSTAMP:20260419T233042
CREATED:20250828T133623Z
LAST-MODIFIED:20250828T133623Z
UID:26589-1763596800-1763683199@lsnl.ca
SUMMARY:Assertive Communication
DESCRIPTION:Our communication skills and style are essential to positive and productive relations. Effective communication requires us to be clear about our own thoughts and desires\, and also to be responsive to those of others. Assertive communicators express ideas and feelings in transparent\, open\, and direct ways – stating their needs clearly and without defensiveness. In this training\, participants will build an awareness of their communication patterns and learn to deal confidently with people around them. This workshop is fun\, meaningful\, and highly effective for improving communication awareness and skills. \n\n\n\n\n\n\n\n\n\nLearning Objectives\nUpon completion\, participants should be able to: \n\nDefine assertive communication\nPractice giving an assertive opinion\nDiscuss personal boundaries and practice saying no when appropriate\nOutline the steps for giving corrective feedback in the form of a DESO script\nIdentify options for responding to negative feedback\n\n\n\nMethod of Delivery\nPresentation\, video\, experiential practice\, personal reflection\, delivered electronically. \n\n\n\n\n\nSome of the Topics Included\n\n\n\nWhat’s Required for Effective Communication\nAssertiveness Self-Assessment\nCharacteristics of Aggressive and Passive Communicators\nAssertive Communicator Characteristics\nAssertive Body Language\nGuidelines for Offering an Opinion\nStrategies for Giving Directions\nHow to Say “No” Assertively\nSkills for Making Requests\nGiving Corrective Feedback\nDealing with Difficult Responses\n\n\n\nTarget Audience\nThis is an introductory-intermediate level workshop. \nTerms & Conditions \n\n\nView our cancellation policy and other information regarding your live virtual workshop or for your in-person workshop. \nThis is a live virtual event\, please check your system requirements prior to registering. \nParticipants will receive the Zoom meeting login details and information about viewing the live virtual workshop by email 3-4 calendar days prior to the date of the event. \nPlease note\, payment is required in order to receive the login details. \n\n\n\n\n\n\nTrainer: Jessica Antony\n\n\n\n\n\nJessica is a communications specialist with over a decade of experience helping others share their stories\, with a focus on collaborative communication\, editorial development\, and content creation. She has a bachelor’s degree in Rhetoric and Communications and a master’s degree in Media Studies. Jessica facilitates workshops on leadership\, communication skills\, and content creation\, and has been teaching in the Department of Rhetoric\, Writing\, and Communications at the University of Winnipeg since 2009. In all her work\, she is committed to developing and maintaining trusting relationships\, with an attention to cultural differences\, working styles\, and mutual goals. Jessica is enthusiastic about helping people strengthen their ability to communicate clearly\, respectfully\, and with ease. She is a dynamic and engaging facilitator who is enthusiastic about understanding people’s communication styles and approaches to help them improve their capacity to effectively and respectfully communicate with those around them. Read blogs written by Jessica here.
URL:https://lsnl.ca/event/assertive-communication-3/
LOCATION:Online
CATEGORIES:Continuing Professional Development
END:VEVENT
BEGIN:VEVENT
DTSTART;TZID=America/St_Johns:20251120T043000
DTEND;TZID=America/St_Johns:20251120T053000
DTSTAMP:20260419T233042
CREATED:20251031T131952Z
LAST-MODIFIED:20251031T131952Z
UID:26943-1763613000-1763616600@lsnl.ca
SUMMARY:Small Clients\, Big Responsibilities; The Role of Lawyers in Child Representation
DESCRIPTION:The Commonwealth Lawyers Association Family Law Committee in Partnership with the Malaysian Bar\, present Small Clients\, Big Responsibilities; The Role of Lawyers in Child Representation. \n7.00am London GMT / 8.00am WAT / 9.00am CAT / 12.30pm IST / 3.00pm MYT\, SGT & HKT / 5.00pm PGT / 6.00pm AEDT \nA heavy responsibility that goes beyond simply representing the voice of a child.  To ensure that the process is child-centric and child-inclusive. To remain independent and to be able to furnish a report that would be instrumental to a Judge in making Orders that promote the best interest of the child \nTo register for the event please click on the link 
URL:https://lsnl.ca/event/small-clients-big-responsibilities-the-role-of-lawyers-in-child-representation/
LOCATION:Online
CATEGORIES:Continuing Professional Development
END:VEVENT
BEGIN:VEVENT
DTSTART;TZID=America/St_Johns:20251120T133000
DTEND;TZID=America/St_Johns:20251120T150000
DTSTAMP:20260419T233042
CREATED:20251113T144120Z
LAST-MODIFIED:20251113T144120Z
UID:27116-1763645400-1763650800@lsnl.ca
SUMMARY:IP\, AI & Personality Rights Issues in Estate Planning
DESCRIPTION:*This program features real-time video of the presenter with synchronized presentation slides\, and a chat feature that allows for live Q & A. SK attendees please verify whether you align with Central (MB) or Mountain (AB) time based on season and location. \n\n\nTechnical Information:\nLive webinars allow you to view faculty\, see their presentation slides\, and ask questions by chat. You will need a current web browser (Chrome (Chrome works best)\, Safari\, Firefox)\, a wired (better than wireless) connection to the Internet of at least 2 Mbps. You can test your internet speed/bandwidth here. If you miss the live program\, you can access the archive\, at your convenience\, for 60 days. \n\n\n\n\nWho Should Attend\nThis program is designed with estate and trust lawyers in mind\, but it will also be highly relevant to any lawyer who encounters issues involving intellectual property\, digital assets\, or the posthumous use of creative or personal content. \n\n\nAbout the Program\nAs the legal landscape evolves\, so does the definition of a client’s legacy. In a world where intellectual property\, performance rights\, and digital personas can generate value – and controversy – long after death\, modern estate lawyers must be equipped to address a new class of assets. This seminar with experienced estates lawyer Dan Nelson and entertainment lawyer Emma Chapple offers a timely look at the intersection of estate law\, intellectual property\, and emerging technologies like artificial intelligence. Designed primarily for estate and trust lawyers\, it is also highly relevant for any practitioner whose clients include influencers\, artists\, entrepreneurs\, or everyday individuals with online identities – all of which raise complex questions about ownership\, control\, and use after death. Dan and Emma will share practical guidance on: \n\nIP and personality rights after death\nDrafting strategies for IP and personality rights in wills and trusts\nBest practices for protecting and transferring creative assets\nLegal parameters around AI-generated recreations of voice\, image\, and performance\nRisks and ethical considerations\n\nIssues relating to IP and personality rights are no longer limited to celebrities or high-profile estates. Join us and gain the tools and insight you need to develop legally sound\, forward-thinking strategies to help your clients protect and plan for their full legacy. \n\nMeet Your Presenters\nDan Nelson is the Managing Partner at Massey LLP in Toronto. An experienced estates lawyer\, Dan is an expert at guiding clients through the process of preparing wills\, powers of attorney\, and trusts. He also offers practical business advice to entrepreneurs\, particularly in the field of design. Dan is a frequent lecturer and writer\, with appearances on CBC\, Global News\, and CTV\, and expert quotes in the Washington Post\, Toronto Star and Canadian Business. An experienced adjudicator and mediator\, he is a former part-time member of the Ontario Land Tribunal\, where he specialized in the Ontario Heritage Act. Dan is a past recipient of the OBA’s Widdifield Award for his work on digital legacy. He holds two degrees from Trent University and an LLB from the University of Windsor. \n\n\nEmma Chapple is an associate with Massey LLP in Toronto. Emma’s practice focuses on the intersection of litigation\, commerce and entertainment. Her expertise includes talent negotiations\, reputational counsel\, licencing and rights management and litigating complex commercial disputes. Emma holds a JD from The Schulich School of Law at Dalhousie University. She attended Southwestern Law School in Los Angeles\, CA in the fall 2018 semester\, where she studied media and entertainment law. In her free time\, Emma serves on the advocacy committee of the Women’s Law Association of Ontario and is an enthusiastic TIFF attendee. Emma’s cultural commentary has also been featured in Vulture and The Wall Street Journal.
URL:https://lsnl.ca/event/ip-ai-personality-rights-issues-in-estate-planning/
LOCATION:Online
CATEGORIES:Continuing Professional Development
END:VEVENT
END:VCALENDAR