BEGIN:VCALENDAR
VERSION:2.0
PRODID:-//The Law Society of Newfoundland and Labrador - ECPv6.15.19//NONSGML v1.0//EN
CALSCALE:GREGORIAN
METHOD:PUBLISH
X-ORIGINAL-URL:https://lsnl.ca
X-WR-CALDESC:Events for The Law Society of Newfoundland and Labrador
REFRESH-INTERVAL;VALUE=DURATION:PT1H
X-Robots-Tag:noindex
X-PUBLISHED-TTL:PT1H
BEGIN:VTIMEZONE
TZID:America/St_Johns
BEGIN:DAYLIGHT
TZOFFSETFROM:-0330
TZOFFSETTO:-0230
TZNAME:NDT
DTSTART:20240310T053000
END:DAYLIGHT
BEGIN:STANDARD
TZOFFSETFROM:-0230
TZOFFSETTO:-0330
TZNAME:NST
DTSTART:20241103T043000
END:STANDARD
BEGIN:DAYLIGHT
TZOFFSETFROM:-0330
TZOFFSETTO:-0230
TZNAME:NDT
DTSTART:20250309T053000
END:DAYLIGHT
BEGIN:STANDARD
TZOFFSETFROM:-0230
TZOFFSETTO:-0330
TZNAME:NST
DTSTART:20251102T043000
END:STANDARD
BEGIN:DAYLIGHT
TZOFFSETFROM:-0330
TZOFFSETTO:-0230
TZNAME:NDT
DTSTART:20260308T053000
END:DAYLIGHT
BEGIN:STANDARD
TZOFFSETFROM:-0230
TZOFFSETTO:-0330
TZNAME:NST
DTSTART:20261101T043000
END:STANDARD
END:VTIMEZONE
BEGIN:VEVENT
DTSTART;VALUE=DATE:20251124
DTEND;VALUE=DATE:20251129
DTSTAMP:20260419T233117
CREATED:20251113T145000Z
LAST-MODIFIED:20251113T145000Z
UID:27120-1763942400-1764374399@lsnl.ca
SUMMARY:Family Dispute Resolution Week
DESCRIPTION:Advancing Family Dispute Resolution in Atlantic Canada \nThe Family Dispute Resolution Institute Atlantic (FDRIA) is proud to announce the launch of the first annual Family Dispute Resolution (FDR) Week in Atlantic Canada\, taking place from November 24 to 28\, 2025. This year’s theme\, Advancing Family Dispute Resolution in Atlantic Canada\, highlights the growing importance of peaceful\, out-of-court solutions for families navigating legal challenges. \nFDR Week will feature a series of hybrid events – available both in person in St. John’s and online from anywhere – designed to engage the public\, professionals\, and policymakers in meaningful dialogue and learning around family dispute resolution. \nKey Events Include: \n\nFree Public Information Session: An evening event open to the public and professionals\, offering insights into how family mediation works and how it can help resolve legal issues peacefully.\nProfessional Half-Day Conference: A multi-disciplinary gathering for lawyers\, judges\, mental health professionals\, academics\, social workers\, and others. The conference will explore current practices and innovations in family dispute resolution across Newfoundland and Labrador and Atlantic Canada. Advance registration is required.\nFilm Launch: Premiere of a locally-produced short film showcasing family mediation as a constructive alternative to court-based conflict resolution.\n\nFor more information about the conference\, please click here.
URL:https://lsnl.ca/event/family-dispute-resolution-week/
LOCATION:Online
CATEGORIES:Continuing Professional Development
END:VEVENT
BEGIN:VEVENT
DTSTART;TZID=America/St_Johns:20251127T120000
DTEND;TZID=America/St_Johns:20251127T150000
DTSTAMP:20260419T233117
CREATED:20251110T163000Z
LAST-MODIFIED:20251110T163252Z
UID:27073-1764244800-1764255600@lsnl.ca
SUMMARY:FDRIA Conference 2025: Advancing Family Dispute Resolution in Atlantic Canada
DESCRIPTION:  \nFor more information about the FDRIA Conference 2025 view the flyer here or visit www.fdria.ca.
URL:https://lsnl.ca/event/fdria-conference-2025-advancing-family-dispute-resolution-in-atlantic-canada/
CATEGORIES:Continuing Professional Development
END:VEVENT
BEGIN:VEVENT
DTSTART;TZID=America/St_Johns:20251127T133000
DTEND;TZID=America/St_Johns:20251127T150000
DTSTAMP:20260419T233117
CREATED:20251021T123215Z
LAST-MODIFIED:20251021T123215Z
UID:26881-1764250200-1764255600@lsnl.ca
SUMMARY:Writing Persuasive Briefs and Appeal Facta
DESCRIPTION:Learning Options:\nLive webinar with chat\nincludes 60 day replay\n9:00 am – 10:30 am (Pacific)\n10:00 am – 11:30 am (Mountain)\n11:00 am – 12:30 pm (Central)\n12:00 pm – 1:30 pm (Eastern)\n1:00 pm – 2:30 pm (Atlantic)\n1:30 pm – 3:00 pm (Newfoundland) \n*This program features real-time video of the presenter with synchronized presentation slides\, and a chat feature that allows for live Q & A. SK attendees please verify whether you align with Central (MB) or Mountain (AB) time based on season and location. \n\n\n\nCPD Credit Hours:\n \nCPD Hours (live presentation*) \nON: This program contains 1.5 Professionalism hours. \nBC: This program has been approved for 1.5 CPD hours. \nSK: This program qualifies for 1.5 CPD hours under the Law Society of SK CPD Policy. \nLawyers in other mandatory CPD jurisdictions may count their attendance towards their CPD requirement/plan. \nSeminar Partners is an Accredited Provider of Professionalism Content by the Law Society of Ontario and a pre-approved CPD Provider of the Law Society of British Columbia. \n*The circumstances under which CPD credit will be recognized for watching archive programs vary by province. If you are viewing the recording of the live webinar\, please verify with your law society the circumstances under which they will recognize CPD hours for the recording. \n\n\n\nTechnical Information:\nLive webinars allow you to view faculty\, see their presentation slides\, and ask questions by chat. You will need a current web browser (Chrome (Chrome works best)\, Safari\, Firefox)\, a wired (better than wireless) connection to the Internet of at least 2 Mbps. You can test your internet speed/bandwidth here. If you miss the live program\, you can access the archive\, at your convenience\, for 60 days. \n\n\nSatisfaction Guarantee:\nAt Seminar Partners\, we’re proud of the quality of our programs and presenters. If\, after attending a program in its entirety\, you are not satisfied that the program has enhanced your understanding of the subject\, and you notify us in writing the same day\, we will give you a credit toward another program of comparable price. \n\n\n\n\nWho Should Attend\nThis seminar is ideal for any lawyer who wants to write more clearly\, more confidently\, and more persuasively. \n\n\nAbout the Program\nStrong legal writing is one of the most powerful tools in a lawyer’s toolkit—and one of the most transferable. Whether you’re advocating in court\, before tribunals\, in arbitration\, or in strategic advisory work\, how you present your argument on the page can shape outcomes long before anything is said aloud. This 90-minute presentation with experienced research and writing lawyer Linda Jensen will teach you how to craft legal documents that are clear\, strategic\, and persuasive. You’ll learn how to organize complex material\, frame issues effectively\, tell the story through the facts\, blend evidence and law seamlessly\, and avoid common pitfalls that weaken your message. Linda will also share insights on the new reality of AI in legal drafting. Packed with helpful examples and guidance from courts\, you’ll leave with proven techniques that you can immediately apply to improve the quality of your writing. By the end of the presentation\, you’ll know how to: \n\nPlan your documents with clarity and purpose— before you start writing\nDistill complex material into clean\, readable\, and persuasive prose\nApply best practices for different sections of legal documents\nUnderstand how AI is changing legal drafting\n\nDon’t miss this opportunity to build writing habits that will improve every legal document you produce. \n\n\nMeet Your Presenter\nLinda Jensen is the principal and lead lawyer of Bottom Line Research and Juridica Legal Research\, which offer legal research and drafting support to lawyers\, law firms\, corporations\, and government and other agencies. Linda has more than 20 years of experience as a research lawyer\, including five years at a major Canadian law firm. Linda’s team of experienced research lawyers prepare research memoranda\, briefs\, appellate documentation\, including factums\, applications\, and leave to appeal to the Supreme Court of Canada applications and responses\, policy papers and quantum assessments. Linda is an active member of the Law Society of Alberta and the Quebec Bar Association\, and holds Bachelors degrees in both common and civil law (LLB and BCL\, McGill University) and a Masters degree (LLM\, Osgoode Hall Law School) in Business Law. Linda is fluently bilingual and works in both English and French. She is happy to call Canmore\, Alberta\, home. \n\n\nSchedule (Eastern)\n12:00 pm – 1:30 pm \nWelcome and Introduction \nStarting Fundamentals \n\nWhat you need to begin writing\n\nThe Drafting Mindset \n\nYour goal\nWhat judges want\n\nBuilding the Document \n\nHow to write a great Brief or Factum section by section\n\nA Few Words About Drafting with AI Tools \n\nPros\, cons and pitfalls\n\nProgram Wrap-up and Evaluation \n\n\nPraise for Past Programs:\n“[The presenter] explains important concepts of legal writing in a simple and straightforward way.” \n“Fantastic presenter!!! Very knowledgeable.” \n“Practical advice about all aspects of the writing process.” \n“Presenter had an excellent pace and communicated info very clearly.” \n“Engaging\, insightful\, and\, above all\, helpful to new and experienced legal writers alike.” \n\n\nRegister
URL:https://lsnl.ca/event/writing-persuasive-briefs-and-appeal-facta/
LOCATION:Online
CATEGORIES:Continuing Professional Development
END:VEVENT
END:VCALENDAR