BEGIN:VCALENDAR
VERSION:2.0
PRODID:-//The Law Society of Newfoundland and Labrador - ECPv6.15.19//NONSGML v1.0//EN
CALSCALE:GREGORIAN
METHOD:PUBLISH
X-WR-CALNAME:The Law Society of Newfoundland and Labrador
X-ORIGINAL-URL:https://lsnl.ca
X-WR-CALDESC:Events for The Law Society of Newfoundland and Labrador
REFRESH-INTERVAL;VALUE=DURATION:PT1H
X-Robots-Tag:noindex
X-PUBLISHED-TTL:PT1H
BEGIN:VTIMEZONE
TZID:America/St_Johns
BEGIN:DAYLIGHT
TZOFFSETFROM:-0330
TZOFFSETTO:-0230
TZNAME:NDT
DTSTART:20250309T053000
END:DAYLIGHT
BEGIN:STANDARD
TZOFFSETFROM:-0230
TZOFFSETTO:-0330
TZNAME:NST
DTSTART:20251102T043000
END:STANDARD
BEGIN:DAYLIGHT
TZOFFSETFROM:-0330
TZOFFSETTO:-0230
TZNAME:NDT
DTSTART:20260308T053000
END:DAYLIGHT
BEGIN:STANDARD
TZOFFSETFROM:-0230
TZOFFSETTO:-0330
TZNAME:NST
DTSTART:20261101T043000
END:STANDARD
BEGIN:DAYLIGHT
TZOFFSETFROM:-0330
TZOFFSETTO:-0230
TZNAME:NDT
DTSTART:20270314T053000
END:DAYLIGHT
BEGIN:STANDARD
TZOFFSETFROM:-0230
TZOFFSETTO:-0330
TZNAME:NST
DTSTART:20271107T043000
END:STANDARD
END:VTIMEZONE
BEGIN:VEVENT
DTSTART;TZID=America/St_Johns:20260304T090000
DTEND;TZID=America/St_Johns:20260304T110000
DTSTAMP:20260419T215135
CREATED:20260106T184727Z
LAST-MODIFIED:20260106T184727Z
UID:27327-1772614800-1772622000@lsnl.ca
SUMMARY:Introduction to Business Valuations for Lawyers 2026
DESCRIPTION:Navigate business valuation reports with confidence! \nvia webinar only \nCan’t make the webinar or rebroadcasts?\nWant online CPD available 24/7?\nSubscribe to Courses On Demand\, our comprehensive online resource with 4\,000+ videos and 6\,300+ papers from CLEBC courses. This course will be added to Courses on Demand approximately 30 days from the original course date. \nWho should attend: All lawyers whose practice includes reviewing and using business valuation reports \nLearning level: All levels \nBeing able to understand business valuation reports is a critical skill to have in order to give effective advice to your clients. \nAt this introductory course\, Chartered Business Valuators experienced in working with lawyers will teach you basic valuation concepts and how to review business valuation reports. By registering for this course\, you will increase your confidence in your ability to review business valuation reports and explain the reports to your clients. \nAfter taking this course\, you will be able to: \n\nunderstand the requirements to obtain and retain the Chartered Business Valuator (“CBV”) designation from the CBV Institute\nrecognize the different types of valuation reports that can be prepared by CBVs and the reliance that can be placed on each\nrecognize the reasons for performing a business valuation\nbetter understand how a company’s financial statements are used when preparing a business valuation\ncomprehend the basic valuation approaches\n\nFollow this course up with Advanced Business Valuations for Lawyers on Tuesday\, April 7\, 2026. \nLaw Society of BC CPD Hours: 2 hours (this course does not contain professional responsibility and ethics\, client care and relations\, and/or practice management) \nCourse Instructors\nPatti E. Daum\, CPA\, CA\, CBV — Daum Terpkosh Valuations LLP\, Vancouver\nLucas M. Terpkosh\, CPA\, CA\, CBV — Daum Terpkosh Valuations LLP\, Vancouver
URL:https://lsnl.ca/event/introduction-to-business-valuations-for-lawyers-2026/
LOCATION:Online
CATEGORIES:Continuing Professional Development
END:VEVENT
END:VCALENDAR