BEGIN:VCALENDAR
VERSION:2.0
PRODID:-//The Law Society of Newfoundland and Labrador - ECPv6.15.19//NONSGML v1.0//EN
CALSCALE:GREGORIAN
METHOD:PUBLISH
X-WR-CALNAME:The Law Society of Newfoundland and Labrador
X-ORIGINAL-URL:https://lsnl.ca
X-WR-CALDESC:Events for The Law Society of Newfoundland and Labrador
REFRESH-INTERVAL;VALUE=DURATION:PT1H
X-Robots-Tag:noindex
X-PUBLISHED-TTL:PT1H
BEGIN:VTIMEZONE
TZID:America/St_Johns
BEGIN:DAYLIGHT
TZOFFSETFROM:-0330
TZOFFSETTO:-0230
TZNAME:NDT
DTSTART:20250309T053000
END:DAYLIGHT
BEGIN:STANDARD
TZOFFSETFROM:-0230
TZOFFSETTO:-0330
TZNAME:NST
DTSTART:20251102T043000
END:STANDARD
BEGIN:DAYLIGHT
TZOFFSETFROM:-0330
TZOFFSETTO:-0230
TZNAME:NDT
DTSTART:20260308T053000
END:DAYLIGHT
BEGIN:STANDARD
TZOFFSETFROM:-0230
TZOFFSETTO:-0330
TZNAME:NST
DTSTART:20261101T043000
END:STANDARD
BEGIN:DAYLIGHT
TZOFFSETFROM:-0330
TZOFFSETTO:-0230
TZNAME:NDT
DTSTART:20270314T053000
END:DAYLIGHT
BEGIN:STANDARD
TZOFFSETFROM:-0230
TZOFFSETTO:-0330
TZNAME:NST
DTSTART:20271107T043000
END:STANDARD
END:VTIMEZONE
BEGIN:VEVENT
DTSTART;VALUE=DATE:20260310
DTEND;VALUE=DATE:20260311
DTSTAMP:20260419T215202
CREATED:20260113T192244Z
LAST-MODIFIED:20260113T192244Z
UID:27418-1773100800-1773187199@lsnl.ca
SUMMARY:Jury Trials 2026
DESCRIPTION:Want online CPD available 24/7?\nSubscribe to Courses On Demand\, our comprehensive online resource with 4\,000+ videos and 6\,300+ papers from CLEBC courses. This course will be added to Courses on Demand approximately 30 days from the original course date. \nWho should attend: Experienced civil and criminal litigators who are new to jury trials. Experienced jury trial counsel seeking a refresher will also find this program valuable. \nLearning level: Intermediate \nThis comprehensive program is designed for litigators seeking to hone their advocacy skills and effectiveness in jury trials. \nCombining practical strategies with insights from psychology and communication theory\, the program explores every stage of the jury trial process—from file organization and trial preparation through to preliminary matters and the conduct of the trial itself. \nYou will gain the tools and skills to organize your files\, craft persuasive case theories\, connect authentically with jurors\, and navigate the procedural and ethical challenges unique to Canadian jury advocacy. The course will also highlight best practices for preventing procedural errors and avoiding mistrials. \nLaw Society of BC CPD Hours: 6 hours (this course will contain a minimum of 1 hour pertaining to professional responsibility and ethics\, client care and relations\, and/or practice management) \nCourse Chairs\nRobert C. Brun\, KC — Harris & Brun Law Corporation\, Vancouver\nLisa J. Helps — Helps Law Corporation\, Vancouver \nLearn more about this event here.
URL:https://lsnl.ca/event/jury-trials-2026/
LOCATION:Online
CATEGORIES:Continuing Professional Development
END:VEVENT
BEGIN:VEVENT
DTSTART;VALUE=DATE:20260310
DTEND;VALUE=DATE:20260311
DTSTAMP:20260419T215202
CREATED:20260211T142655Z
LAST-MODIFIED:20260211T142655Z
UID:27618-1773100800-1773187199@lsnl.ca
SUMMARY:Change Management: A Leader's Guide
DESCRIPTION:Organizational change efforts stall when leadership forgets to focus on the impact change will have on employees. Managing the “people side” of change is often the most challenging and critical component of organizational transformation. Getting people engaged in the change will greatly enhance the likelihood of new structures and approaches being implemented successfully. This workshop focuses on the development of competencies that will provide a foundation for the “what\,” “why\,” and “how” of managing people during organizational change. \n\n\n\n\n\n\n\n\n\n\n\nLearning Objectives\nUpon completion\, participants should be able to: \n\nIdentify the challenges associated with organizational change and explain strategies that improve the likelihood of successful change.\nDevelop knowledge and skills needed to lead change effectively.\nApply practical approaches to change using tools and templates tailored to your organization.\n\n\n\nMethod of Delivery\nPresentation\, video\, case study exercises\, personal reflection\, delivered electronically. \n\n*Please allow only the registered individual(s) to view the materials. \nNote: An e-manual for this workshop is included in purchase. \n\n\n\n\nSome of the Topics Included\n\nThe Change Management Process\nThe Four Stages of Change Management\nManaging Resistance\nBarriers to Successful Change\nChange Process Roles\nIntroducing Change to Others\nCommunicating Change\nEvaluations Change Efforts\nConsiderations Related to Sustaining Change\n\n\n\nTarget Audience\nThis workshop is intermediate level workshop and will benefit leaders\, managers\, supervisors\, human resource personnel\, and anyone managing change. \n\n\nTerms & Conditions\nView our cancellation policy and other information regarding your live virtual workshop or for your in-person workshop. \nThe fees above are for a live event and do not include any copyright or licensing fees for creating recordings or reproductions of the workshop. Participants may not use AI tools or other technology to capture\, transcribe\, or replicate facilitator content without prior written consent. Exceptions may be granted for accessibility purposes—please contact us in advance to discuss accommodations. \nThis is a live virtual event\, please check your system requirements prior to registering. \nParticipants will receive the Zoom meeting login details and information about viewing the live virtual workshop by email 3-4 calendar days prior to the date of the event. \nPlease note\, payment is required in order to receive the login details. \n\n\n\n\n\n\n\n\n\n\n\nFacilitator: Jennifer Slay\nJennifer is an accomplished leader and social work expert. She has over 20 years of experience in enhancing organizational development through focused diversity\, equity\, inclusion\, and decolonization initiatives. She has an Honours Bachelor’s degree in Anthropology and Social Work\, a Master’s degree in Social Work\, and is the Director of EDID at King’s University College. Jennifer is also the co-founder of a coaching and counselling group\, and is recognized for her ability to foster workplace environments that prioritize growth\, healing\, and inclusivity. Jennifer’s work centres around empowering organizational leaders and teams through tailored programs that emphasize emotional intelligence\, cognitive behavioural therapy techniques\, and resilient communication strategies. As a passionate advocate for systemic change\, Jennifer believes in the power of inclusive cultures where everyone feels valued and empowered to contribute to their fullest potential.
URL:https://lsnl.ca/event/change-management-a-leaders-guide-2/
LOCATION:Online
CATEGORIES:Continuing Professional Development
END:VEVENT
BEGIN:VEVENT
DTSTART;TZID=America/St_Johns:20260310T120000
DTEND;TZID=America/St_Johns:20260310T133000
DTSTAMP:20260419T215202
CREATED:20260121T125518Z
LAST-MODIFIED:20260121T150929Z
UID:27467-1773144000-1773149400@lsnl.ca
SUMMARY:Mental Health in Sentencing: Beyond Mitigation
DESCRIPTION:Seminar Overview\nThe law of sentencing in Canada has—without much fanfare and with too-little commentary—undergone a significant conceptual shift in recent years. Most clearly reflected in the Supreme Court of Canada’s 2023 decision in R v Hills\, Canadian sentencing law has embraced as its lodestar an approach that is best described as “individualized proportionality.” This approach elevates the individual offender’s experience of punishment as the animating concern in arriving at a fit sentence. And though the acceptance and embrace of this approach is clear in the doctrine\, its implications are still to be fully explored. In this talk\, Professor Berger will bring together this new paradigm for sentencing with a perennially difficult problem in sentencing courts: how to deal with the mental illness of the offender. His argument will be that\, given this new approach\, mental health should be relevant to sentencing in ways far more common and fundamental to the determination of just sentences than it has been in the past. It should no longer be approached as a question solely of the responsibility of the offender at the time of the offence; rather\, mental health must now be treated as relevant to sentencing “beyond mitigation.” But so doing\, he will suggest\, has the potential to unsettle the system in interesting and important ways. \nSeminar Presenter\, Benjamin L. Berger\nBenjamin is a Professor at Osgoode Hall Law School of York University. An award-winning teacher and researcher\, and a prominent voice in the study of criminal law and sentencing in Canada\, he is a Member of the College of the Royal Society of Canada and held the York Research Chair in Pluralism and Public Law. He served as law clerk to the Rt. Honourable Beverley McLachlin\, former Chief Justice of Canada\, and holds an LLM and JSD from Yale University\, where he studied as a Fulbright Scholar. Professor Berger has published over 80 academic articles and book chapters on criminal and constitutional law and theory\, the law of evidence\, the law of sentencing\, law and religion\, and legal history. He is the author or editor of eight books\, and his work on sentencing has been extensively cited and relied upon by Canadian courts\, including the Supreme Court of Canada. \nRegistration Fee\n$57.50 ($50.00 + HST) HST # R108086463 \nCPD Credit 1.5 hours \nTo register for this seminar\, please click here.
URL:https://lsnl.ca/event/mental-health-in-sentencing-beyond-mitigation/
LOCATION:3rd Floor\, Law Society Building\, 196-198 Water Street\, St. John’s\, Canada
CATEGORIES:Continuing Professional Development,Law Society
END:VEVENT
END:VCALENDAR