BEGIN:VCALENDAR
VERSION:2.0
PRODID:-//The Law Society of Newfoundland and Labrador - ECPv6.15.19//NONSGML v1.0//EN
CALSCALE:GREGORIAN
METHOD:PUBLISH
X-ORIGINAL-URL:https://lsnl.ca
X-WR-CALDESC:Events for The Law Society of Newfoundland and Labrador
REFRESH-INTERVAL;VALUE=DURATION:PT1H
X-Robots-Tag:noindex
X-PUBLISHED-TTL:PT1H
BEGIN:VTIMEZONE
TZID:America/St_Johns
BEGIN:DAYLIGHT
TZOFFSETFROM:-0330
TZOFFSETTO:-0230
TZNAME:NDT
DTSTART:20250309T053000
END:DAYLIGHT
BEGIN:STANDARD
TZOFFSETFROM:-0230
TZOFFSETTO:-0330
TZNAME:NST
DTSTART:20251102T043000
END:STANDARD
BEGIN:DAYLIGHT
TZOFFSETFROM:-0330
TZOFFSETTO:-0230
TZNAME:NDT
DTSTART:20260308T053000
END:DAYLIGHT
BEGIN:STANDARD
TZOFFSETFROM:-0230
TZOFFSETTO:-0330
TZNAME:NST
DTSTART:20261101T043000
END:STANDARD
BEGIN:DAYLIGHT
TZOFFSETFROM:-0330
TZOFFSETTO:-0230
TZNAME:NDT
DTSTART:20270314T053000
END:DAYLIGHT
BEGIN:STANDARD
TZOFFSETFROM:-0230
TZOFFSETTO:-0330
TZNAME:NST
DTSTART:20271107T043000
END:STANDARD
END:VTIMEZONE
BEGIN:VEVENT
DTSTART;TZID=America/St_Johns:20260512T120000
DTEND;TZID=America/St_Johns:20260512T133000
DTSTAMP:20260419T233037
CREATED:20260414T141912Z
LAST-MODIFIED:20260414T141912Z
UID:28012-1778587200-1778592600@lsnl.ca
SUMMARY:Reading Financial Records and Understanding Them
DESCRIPTION:Join in for a one-hour CBA-NL Business Law Lunch and Learn on Reading Financial Records and Understanding Them. This session will be presented by Stuart Wallace of Stewart McKelvey and is designed to help lawyers feel more confident reviewing and understanding financial documents in a business context. \nWhether you are dealing with corporate transactions\, due diligence\, shareholder issues\, or general business matters\, financial records often tell an important part of the story. This session will walk through common financial statements\, what to look for\, what questions to ask\, and how to spot potential issues or areas that require further investigation. \nThis is a practical session aimed at business lawyers who want to strengthen their financial literacy and feel more comfortable navigating financial information in their day-to-day practice. \nEvent Details: \nDate/Time: Tuesday May 12th\, 2026\, 12:00pm-1:30pm \nLocation: 6th Floor Conference Room\, Atlantic Place or Virtual \nFee: Free for members | $50 + HST for non-members (emt or chq) \nLunch provided for in person attendees. \nRegister HERE or email Robyn at cba-nl@cba.org
URL:https://lsnl.ca/event/reading-financial-records-and-understanding-them/
CATEGORIES:Continuing Professional Development
ORGANIZER;CN="Canadian Bar Association NL":MAILTO:cba-nl@cba.org
END:VEVENT
END:VCALENDAR