BEGIN:VCALENDAR
VERSION:2.0
PRODID:-//The Law Society of Newfoundland and Labrador - ECPv6.15.19//NONSGML v1.0//EN
CALSCALE:GREGORIAN
METHOD:PUBLISH
X-WR-CALNAME:The Law Society of Newfoundland and Labrador
X-ORIGINAL-URL:https://lsnl.ca
X-WR-CALDESC:Events for The Law Society of Newfoundland and Labrador
REFRESH-INTERVAL;VALUE=DURATION:PT1H
X-Robots-Tag:noindex
X-PUBLISHED-TTL:PT1H
BEGIN:VTIMEZONE
TZID:America/St_Johns
BEGIN:DAYLIGHT
TZOFFSETFROM:-0330
TZOFFSETTO:-0230
TZNAME:NDT
DTSTART:20250309T053000
END:DAYLIGHT
BEGIN:STANDARD
TZOFFSETFROM:-0230
TZOFFSETTO:-0330
TZNAME:NST
DTSTART:20251102T043000
END:STANDARD
BEGIN:DAYLIGHT
TZOFFSETFROM:-0330
TZOFFSETTO:-0230
TZNAME:NDT
DTSTART:20260308T053000
END:DAYLIGHT
BEGIN:STANDARD
TZOFFSETFROM:-0230
TZOFFSETTO:-0330
TZNAME:NST
DTSTART:20261101T043000
END:STANDARD
BEGIN:DAYLIGHT
TZOFFSETFROM:-0330
TZOFFSETTO:-0230
TZNAME:NDT
DTSTART:20270314T053000
END:DAYLIGHT
BEGIN:STANDARD
TZOFFSETFROM:-0230
TZOFFSETTO:-0330
TZNAME:NST
DTSTART:20271107T043000
END:STANDARD
END:VTIMEZONE
BEGIN:VEVENT
DTSTART;VALUE=DATE:20260513
DTEND;VALUE=DATE:20260515
DTSTAMP:20260419T215201
CREATED:20260417T133353Z
LAST-MODIFIED:20260417T133738Z
UID:28048-1778630400-1778803199@lsnl.ca
SUMMARY:Young Commonwealth Lawyers Association in partnership with the African Law Students’ Association Virtual Conference 2026
DESCRIPTION:Join the upcoming YCLA Virtual Conference\, in Partnership with the African Law Students’ Association\, taking place on 13th and 14th May 2026. \nThe event is free to all irrespective of CLA Membership. \n📢 The Young Commonwealth Lawyers Association (YCLA) is proud to present its 3rd Virtual Conference\, hosted in partnership with the African Law Students’ Association surrounding the theme: “Comparative Legal Traditions and Modern Legal Practice”. \n📆 Join engaging discussions\, diverse viewpoints\, with each interactive session designed to encourage participation\, collaboration\, and the strengthening of the Commonwealth’s enduring bond of legal fraternity. \n✨ Whether you’re looking to expand your legal horizons\, share your voice\, or build international connections\, this conference is your opportunity to be part of a dynamic global legal community. \nView the event page here. \nView the poster here. \nRegister here.
URL:https://lsnl.ca/event/young-commonwealth-lawyers-in-partnership-with-the-african-law-students-association-virtual-conference-2026/
LOCATION:Online
CATEGORIES:Continuing Professional Development
END:VEVENT
BEGIN:VEVENT
DTSTART;TZID=America/St_Johns:20260513T100000
DTEND;TZID=America/St_Johns:20260513T130000
DTSTAMP:20260419T215201
CREATED:20251120T195734Z
LAST-MODIFIED:20251120T195734Z
UID:27173-1778666400-1778677200@lsnl.ca
SUMMARY:Trauma-Informed Leadership
DESCRIPTION:A compassionate and trauma-informed approach to leadership is essential for creating healthy workplace cultures. Trauma is prevalent in our world and has an impact on many of the people we interact with\, including staff and colleagues. Based on our book\, A Little Book About Trauma-Informed Workplaces\, this workshop explores how to lead with a trauma-informed approach and provides five key principles that trauma-informed workplaces embody. By embracing these principles\, organizations can contribute to the positive transformation of individuals and relationships affected by trauma\, while at the same time creating the conditions that lead to high levels of employee engagement and organizational success. Every organization\, from any sector\, can benefit from becoming trauma-informed. \n\n\n\n\n\n\n\n\n\nLearning Objectives\nUpon completion\, participants should be able to: \n\nDiscuss the prevalence and impact of trauma on individuals and organizations\nList five key trauma-informed principles\nDescribe practical strategies for implementing each of the five trauma-informed principles\nAssess their own organization for areas of trauma-informed strengths and weakness\n\n\n\nMethod of Delivery\nPresentation\, video\, personal reflection\, and small group discussions\, delivered electronically. \n\n*Please allow only the registered individual(s) to view the materials. \nNote: An e-manual for this workshop is included in purchase. \n\n\n\n\nSome of the Topics Included\n\nTrauma’s Ripple Effect\nThe Impact of Trauma in the Workplace\nCharacteristics of a Trauma-Informed Leader\n5 Principles of Trauma-Informed Workplaces – Promote Awareness\, Shift Attitudes\, Provide Choice\, Foster Safety\, Highlight Strengths\nSteps for Implementing Principles\n\n\n\nTarget Audience\nThis is an intermediate-advanced level workshop for leaders\, managers\, supervisors\, and anyone providing leadership within an organization. \n\n\nTerms & Conditions\nView our cancellation policy and other information regarding your live virtual workshop or for your in-person workshop. \nThis is a live virtual event\, please check your system requirements prior to registering. \nParticipants will receive the Zoom meeting login details and information about viewing the live virtual workshop by email 3-4 calendar days prior to the date of the event. \nPlease note\, payment is required in order to receive the login details. \n\n\n\n\n\n\n\n\n\n\n\nTrainer: Janelle Jackiw\nJanelle has Master’s degrees in both Criminology and Educational Psychology. Her broad range of experience includes working in front line and leadership roles in both government and social service organizations. In addition to training with ACHIEVE\, she provides counselling in private practice\, works for the Ministry of Justice\, and is a sessional lecturer at the University of Regina. Janelle values workplaces and organizations that respect the importance of partnerships and innovation. She believes people’s passion for the work they do is developed by encouraging leadership at all levels. Janelle is an energetic presenter who enjoys delivering training workshops that are relevant and practical to individuals’ work and personal lives. Read blogs written by Janelle here.
URL:https://lsnl.ca/event/trauma-informed-leadership-5/
LOCATION:Online
CATEGORIES:Continuing Professional Development
END:VEVENT
BEGIN:VEVENT
DTSTART;TZID=America/St_Johns:20260513T133000
DTEND;TZID=America/St_Johns:20260513T143000
DTSTAMP:20260419T215201
CREATED:20260414T142055Z
LAST-MODIFIED:20260414T142055Z
UID:28014-1778679000-1778682600@lsnl.ca
SUMMARY:Access & Privacy Law: Trusted Innovation in the Age of Information
DESCRIPTION:In this session\, Michael Harvey\, Information and Privacy Commissioner for British Columbia and former Information and Privacy Commissioner for Newfoundland and Labrador will elaborate on how the pace of changing technology touches every part of his office’s mandate. He will share his view that the online world is today integrated into every aspect of our lives and ask the question\, “How can new technologies work for us\, rather than us working for them?” Commissioner Harvey will also provide his perspective on trends he is seeing as a regulator and share some of his office’s recent work. \nWe will also be joined by current Information and Privacy Commissioner for Newfoundland and Labrador\, Kerry Hatfield\, who will provide a Newfoundland and Labrador perspective\, with a focus on access to information\, transparency\, and the practical realities of administering access and privacy legislation. Together\, this session will offer a well-rounded discussion on the current and future state of information governance in an increasingly digital world. \nThis session will be of interest to anyone working in privacy\, administrative law\, public sector practice\, or those navigating access to information and data management in their day-to-day work. \nEvent Details \n📅 Date/Time: Wednesday May 13\, 2026\, 1:30pm-2:30pm \n📍 Location: Virtual \n💲 Fee: Free for members | $50 + HST for non-members (emt or chq) \nRegister here or email Robyn at cba-nl@cba.org
URL:https://lsnl.ca/event/access-privacy-law-trusted-innovation-in-the-age-of-information/
LOCATION:Online
CATEGORIES:Continuing Professional Development
ORGANIZER;CN="Canadian Bar Association NL":MAILTO:cba-nl@cba.org
END:VEVENT
END:VCALENDAR