BEGIN:VCALENDAR
VERSION:2.0
PRODID:-//The Law Society of Newfoundland and Labrador - ECPv6.15.19//NONSGML v1.0//EN
CALSCALE:GREGORIAN
METHOD:PUBLISH
X-ORIGINAL-URL:https://lsnl.ca
X-WR-CALDESC:Events for The Law Society of Newfoundland and Labrador
REFRESH-INTERVAL;VALUE=DURATION:PT1H
X-Robots-Tag:noindex
X-PUBLISHED-TTL:PT1H
BEGIN:VTIMEZONE
TZID:America/St_Johns
BEGIN:DAYLIGHT
TZOFFSETFROM:-0330
TZOFFSETTO:-0230
TZNAME:NDT
DTSTART:20250309T053000
END:DAYLIGHT
BEGIN:STANDARD
TZOFFSETFROM:-0230
TZOFFSETTO:-0330
TZNAME:NST
DTSTART:20251102T043000
END:STANDARD
BEGIN:DAYLIGHT
TZOFFSETFROM:-0330
TZOFFSETTO:-0230
TZNAME:NDT
DTSTART:20260308T053000
END:DAYLIGHT
BEGIN:STANDARD
TZOFFSETFROM:-0230
TZOFFSETTO:-0330
TZNAME:NST
DTSTART:20261101T043000
END:STANDARD
BEGIN:DAYLIGHT
TZOFFSETFROM:-0330
TZOFFSETTO:-0230
TZNAME:NDT
DTSTART:20270314T053000
END:DAYLIGHT
BEGIN:STANDARD
TZOFFSETFROM:-0230
TZOFFSETTO:-0330
TZNAME:NST
DTSTART:20271107T043000
END:STANDARD
END:VTIMEZONE
BEGIN:VEVENT
DTSTART;VALUE=DATE:20260513
DTEND;VALUE=DATE:20260515
DTSTAMP:20260419T233026
CREATED:20260417T133353Z
LAST-MODIFIED:20260417T133738Z
UID:28048-1778630400-1778803199@lsnl.ca
SUMMARY:Young Commonwealth Lawyers Association in partnership with the African Law Students’ Association Virtual Conference 2026
DESCRIPTION:Join the upcoming YCLA Virtual Conference\, in Partnership with the African Law Students’ Association\, taking place on 13th and 14th May 2026. \nThe event is free to all irrespective of CLA Membership. \n📢 The Young Commonwealth Lawyers Association (YCLA) is proud to present its 3rd Virtual Conference\, hosted in partnership with the African Law Students’ Association surrounding the theme: “Comparative Legal Traditions and Modern Legal Practice”. \n📆 Join engaging discussions\, diverse viewpoints\, with each interactive session designed to encourage participation\, collaboration\, and the strengthening of the Commonwealth’s enduring bond of legal fraternity. \n✨ Whether you’re looking to expand your legal horizons\, share your voice\, or build international connections\, this conference is your opportunity to be part of a dynamic global legal community. \nView the event page here. \nView the poster here. \nRegister here.
URL:https://lsnl.ca/event/young-commonwealth-lawyers-in-partnership-with-the-african-law-students-association-virtual-conference-2026/
LOCATION:Online
CATEGORIES:Continuing Professional Development
END:VEVENT
END:VCALENDAR