BEGIN:VCALENDAR
VERSION:2.0
PRODID:-//The Law Society of Newfoundland and Labrador - ECPv6.15.19//NONSGML v1.0//EN
CALSCALE:GREGORIAN
METHOD:PUBLISH
X-ORIGINAL-URL:https://lsnl.ca
X-WR-CALDESC:Events for The Law Society of Newfoundland and Labrador
REFRESH-INTERVAL;VALUE=DURATION:PT1H
X-Robots-Tag:noindex
X-PUBLISHED-TTL:PT1H
BEGIN:VTIMEZONE
TZID:America/St_Johns
BEGIN:DAYLIGHT
TZOFFSETFROM:-0330
TZOFFSETTO:-0230
TZNAME:NDT
DTSTART:20250309T053000
END:DAYLIGHT
BEGIN:STANDARD
TZOFFSETFROM:-0230
TZOFFSETTO:-0330
TZNAME:NST
DTSTART:20251102T043000
END:STANDARD
BEGIN:DAYLIGHT
TZOFFSETFROM:-0330
TZOFFSETTO:-0230
TZNAME:NDT
DTSTART:20260308T053000
END:DAYLIGHT
BEGIN:STANDARD
TZOFFSETFROM:-0230
TZOFFSETTO:-0330
TZNAME:NST
DTSTART:20261101T043000
END:STANDARD
BEGIN:DAYLIGHT
TZOFFSETFROM:-0330
TZOFFSETTO:-0230
TZNAME:NDT
DTSTART:20270314T053000
END:DAYLIGHT
BEGIN:STANDARD
TZOFFSETFROM:-0230
TZOFFSETTO:-0330
TZNAME:NST
DTSTART:20271107T043000
END:STANDARD
END:VTIMEZONE
BEGIN:VEVENT
DTSTART;VALUE=DATE:20260524
DTEND;VALUE=DATE:20260528
DTSTAMP:20260419T215817
CREATED:20260319T171328Z
LAST-MODIFIED:20260319T171328Z
UID:27873-1779580800-1779926399@lsnl.ca
SUMMARY:Canadian Association of Law Libraries Annual Conference 2026
DESCRIPTION:The Canadian Association of Law Libraries (CALL/ACBD) invites you to participate in its upcoming annual conference\, taking place in Moncton from 24-27 May 2026\, under the theme “Currents of Resilience”. \nThe full program is available on the conference website\, and early-bird registration rates remain in effect until April 17. It is also noted that bar members who attend substantive sessions may request Continuing Professional Development (CPD) credits from their respective law societies. \nThe CALL/ACBD conference brings together approximately 200 legal information professionals\, academics\, and jurists from across Canada. The event provides an opportunity for participating societies to engage with developments in legal information practice and to highlight their ongoing commitment to professional excellence within the legal community. \nA range of participation options are available on a first-come\, first-served basis\, including:\n• The delegate registration kiosk• A keynote session• An educational or substantive session• And more \nFor more information\, please visit the event website here.
URL:https://lsnl.ca/event/canadian-association-of-law-libraries-annual-conference-2026/
CATEGORIES:Continuing Professional Development
END:VEVENT
BEGIN:VEVENT
DTSTART;VALUE=DATE:20260527
DTEND;VALUE=DATE:20260528
DTSTAMP:20260419T215817
CREATED:20260319T162456Z
LAST-MODIFIED:20260319T162456Z
UID:27865-1779840000-1779926399@lsnl.ca
SUMMARY:Psychological Health and Safety in the Workplace
DESCRIPTION:Given that many of us spend about 60 percent of our time at work\, organizations can significantly influence our sense of psychological safety. When people feel afraid to make mistakes\, ask for help\, or share opinions and concerns\, it may mean the organization is not psychologically safe. The fear is that they will be judged\, reacted to harshly\, or even punished for speaking up. \nA psychologically safe workplace is one where people feel comfortable expressing themselves and have the confidence to bring issues or ideas forward to both employers and colleagues\, leading to a culture of learning\, innovation\, and collaboration. \nThis workshop explores the key characteristics of a psychologically healthy and safe workplace\, and the roles both employees and employers play in creating this environment. You will explore the 13 factors of psychological safety and practice strategies to enhance\, support\, and maintain psychological health in your organization. \n\n\n\n\n\n\n\n\n\n\n\nLearning Objectives\nUpon completion\, participants should be able to: \n\nUnderstand the 13 factors of psychological health and safety that impact employee well-being in the workplace\nAssess the psychological health and safety factors from the perspective of your workplace environment\nIdentify strengths and areas for improvement in your own workplace\nDevelop ideas and strategies for integrating the factors of psychological health and safety into your workplace\, both as a manager and an employee\n\n\n\nMethod of Delivery\nPresentation\, video\, personal reflection\, delivered electronically. \n\n*Please allow only the registered individual(s) to view the materials. \nNote: An e-manual for this workshop is included in purchase. \n\n\n\n\nSome of the Topics Included\n\nThe 13 Factors That Impact Psychological Safety\nBenefits of Promoting Psychological Safety\nHow Employees Can Support Psychological Safety\nHow Organizations Can Implement Psychologically Safe Practices\nAssessing Your Organization’s Psychological Safety\n\n\n\nTarget Audience\nThis is an intermediate level workshop applicable to both managers and employees. \n\n\nTerms & Conditions\nView our cancellation policy and other information regarding your live virtual workshop or for your in-person workshop. \nThe fees above are for a live event and do not include any copyright or licensing fees for creating recordings or reproductions of the workshop. Participants may not use AI tools or other technology to capture\, transcribe\, or replicate facilitator content without prior written consent. Exceptions may be granted for accessibility purposes—please contact us in advance to discuss accommodations. \nThis is a live virtual event\, please check your system requirements prior to registering. \nParticipants will receive the Zoom meeting login details and information about viewing the live virtual workshop by email 3-4 calendar days prior to the date of the event. \nPlease note\, payment is required in order to receive the login details. \n\n\n\n\n\n\n\n\n\n\n\nFacilitator: Jennifer Kelly\nJennifer is a facilitator and instructional designer with over 12 years’ experience designing and delivering in-class and online training workshops. She holds a Master of Arts in Applied Communication and a Bachelor of Post-Secondary Education. Jennifer has designed and facilitated courses in core areas such as workplace psychological safety\, interpersonal communication\, and conflict resolution. As a certified Positive Psychology Coach\, she has trained in the study of workplace wellness and personal well-being. Jennifer is passionate about creating psychological safety in the workplace and believes it is what truly leads to high-performing and motivated teams. She is an energetic and thoughtful presenter who is committed to providing learning experiences that are fun\, engaging\, and easily applicable. Read blogs written by Jennifer here.
URL:https://lsnl.ca/event/psychological-health-and-safety-in-the-workplace-4/
LOCATION:Online
CATEGORIES:Continuing Professional Development
END:VEVENT
END:VCALENDAR