BEGIN:VCALENDAR
VERSION:2.0
PRODID:-//The Law Society of Newfoundland and Labrador - ECPv6.15.19//NONSGML v1.0//EN
CALSCALE:GREGORIAN
METHOD:PUBLISH
X-ORIGINAL-URL:https://lsnl.ca
X-WR-CALDESC:Events for The Law Society of Newfoundland and Labrador
REFRESH-INTERVAL;VALUE=DURATION:PT1H
X-Robots-Tag:noindex
X-PUBLISHED-TTL:PT1H
BEGIN:VTIMEZONE
TZID:America/St_Johns
BEGIN:DAYLIGHT
TZOFFSETFROM:-0330
TZOFFSETTO:-0230
TZNAME:NDT
DTSTART:20250309T053000
END:DAYLIGHT
BEGIN:STANDARD
TZOFFSETFROM:-0230
TZOFFSETTO:-0330
TZNAME:NST
DTSTART:20251102T043000
END:STANDARD
BEGIN:DAYLIGHT
TZOFFSETFROM:-0330
TZOFFSETTO:-0230
TZNAME:NDT
DTSTART:20260308T053000
END:DAYLIGHT
BEGIN:STANDARD
TZOFFSETFROM:-0230
TZOFFSETTO:-0330
TZNAME:NST
DTSTART:20261101T043000
END:STANDARD
BEGIN:DAYLIGHT
TZOFFSETFROM:-0330
TZOFFSETTO:-0230
TZNAME:NDT
DTSTART:20270314T053000
END:DAYLIGHT
BEGIN:STANDARD
TZOFFSETFROM:-0230
TZOFFSETTO:-0330
TZNAME:NST
DTSTART:20271107T043000
END:STANDARD
END:VTIMEZONE
BEGIN:VEVENT
DTSTART;VALUE=DATE:20260528
DTEND;VALUE=DATE:20260529
DTSTAMP:20260419T215301
CREATED:20251120T192905Z
LAST-MODIFIED:20251120T192905Z
UID:27168-1779926400-1780012799@lsnl.ca
SUMMARY:Management and Supervision: The Crucial Skills
DESCRIPTION:One of the most difficult and often overlooked aspects of moving into a supervisory or management position is developing the skills necessary to truly manage people. Without intentional training\, many new managers are left to figure things out on their own – for better or worse. Like all skills\, effective management and supervisory skills must be learned. This workshop presents the crucial skills for managing employment relationships from beginning to end\, with particular focus on hiring and performance management. Participants will also consider how their communication and personal approach to management affects the people they lead. \n\n\n\n\n\n\n\n\n\nLearning Objectives\nUpon completion\, participants should be able to: \n\nTo appreciate the critical role of management and supervision in creating healthy workplaces\nTo understand their own management style and how that may affect those they supervise\nHow to hire and initiate the employment relationship to create the best chance of generating engagement\nHow to manage the employment relationship through performance management practices\nHow to initiate discipline in ways that are respectful and dignified for all parties\n\n\n\nMethod of Delivery\nPresentation\, video\, case study examples\, experiential practice\, personal reflection\, delivered electronically. \n\n\n\n\n\nSome of the Topics Included\n\nThe Role of Management\nEssential Management Aptitudes and Skills\nManagement Styles Assessment\nHow to Adapt Your Management Style\nHiring New Employees for Talent and Fit\nManaging Employee Performance\nWriting Objective Performance Evaluations\nStages of Progressive Discipline\nTerminating the Employment Relationship\n\n\n\nTarget Audience\nThis is an introductory-intermediate level workshop for leaders\, managers and supervisors\, and anyone who is a leader within an organization. \n\n\nTerms & Conditions\nView our cancellation policy and other information regarding your live virtual workshop or for your in-person workshop. \nThis is a live virtual event\, please check your system requirements prior to registering. \nParticipants will receive the Zoom meeting login details and information about viewing the live virtual workshop by email 3-4 calendar days prior to the date of the event. \nPlease note\, payment is required in order to receive the login details. \n\n\n\n\n\n\n\n\n\n\n\nTrainer: Marc Charbonneau\nMarc is an entrepreneurial business consultant with over 20 years of leadership experience\, specializing in strategic planning\, business development\, and project management.  He is a graduate from the Royal Military College of Canada with a Bachelor of Computer Engineering.  Marc served in the Royal Canadian Navy as a Naval Combat Systems Engineering Officer.  Upon retirement from the RCN\, Marc transitioned to the private sector.  He has held progressive leadership positions at Lockheed Martin Canada\, Bluedrop Training and Simulation\, Ultra Electronics Maritime Systems\, Irving Shipbuilding and the Dallaire Institute for Children\, Peace and Security. Marc recognizes the importance of supporting and serving those we lead.  He believes people are our best assets\, and organizations thrive and succeed when our teams are engaged with an inspiring purpose\, are guided by values-based leadership\, and are supported with processes and tools to get the job done. Marc is an engaging presenter who likes to weave pertinent examples pulled from his personal and professional experiences\, and he encourages meaningful exchanges amongst participants to further reinforce the lesson at hand.
URL:https://lsnl.ca/event/management-and-supervision-the-crucial-skills-7/
LOCATION:Online
CATEGORIES:Continuing Professional Development
END:VEVENT
BEGIN:VEVENT
DTSTART;TZID=America/St_Johns:20260528T133000
DTEND;TZID=America/St_Johns:20260528T150000
DTSTAMP:20260419T215301
CREATED:20260115T135231Z
LAST-MODIFIED:20260115T135231Z
UID:27447-1779975000-1779980400@lsnl.ca
SUMMARY:Understanding The Estate Freeze
DESCRIPTION:Offered By\nD.E. Systems \nWho Should Attend\nLawyers practicing in the areas of estates law\, family law and tax law will be interested in this program. \n\n\nAbout the Program\nAre you familiar with estate freezes but looking for a clearer understanding of how they work in practice? In this beginner-level seminar\, noted trust and estate practitioner and CPA Jos Herman will outline the what\, when\, why and how of this important estate planning strategy – and why you should care. In basic terms and using simple fact scenarios\, Jos will outline how estate freezes are used\, when it’s appropriate to use an estate freeze\, the different forms an estate freeze can take\, and the challenges involved in planning and implementing an estate freeze. Finally\, Jos will share important considerations for once an estate freeze is in place. Along the way she’ll share personal experiences and insights for dealing with family conflicts. Topics include: \n\nUsing estate freezes for business succession planning and tax savings\nAvoiding common pitfalls\nOpportunities to drive more tax efficiency\n\nWhether you’re a general practitioner\, estate planner or family lawyer\, understanding this key wealth-transfer strategy will add value to your practice and enhance the advice you give to clients. Join us to learn how this powerful tool can help protect family wealth\, minimize taxes\, and plan for future generations. Don’t miss out! \n\n\nMeet Your Presenter\nJos Herman is the founder of Resources & Solutions\, a boutique consulting firm. She has spent over 25 years serving the tax\, business and estate planning needs of owner-manager clients\, professionals and their families. Jos provides private business and personal solutions focused on tax efficient investment and insurance strategies\, asset protection and wealth planning. Jos has a Bachelor of Commerce degree and earned her Chartered Accountant (CA) designation from the Institute of Chartered Accountants of Alberta. Jos is a member of both the Chartered Professional Accountants (CPA) of Saskatchewan and Chartered Professional Accountants of British Columbia. She also has her Certified Financial Planners (CFP) designation and Chartered Life Underwriter (CLU). In addition\, she holds her Trust and Estate Practitioner (TEP) designation. Jos is a frequent speaker on topics related to wealth planning for individuals\, business owners and professionals. \n\n\nSchedule (Eastern)\n\nWelcome and Introduction\nWhat is an Estate Freeze?\nHow an Estate Freeze Works – Examples\nWhy Implement an Estate Freeze?\nWhen a Client Should and Should Not Implement an Estate Freeze\nHow to Implement an Estate Freeze – Examples\nAltering an Estate Freeze\nOther Considerations\nProgram Wrap-up and Evaluation\n\n\n\n  \n\n\nRegister
URL:https://lsnl.ca/event/understanding-the-estate-freeze-2/
LOCATION:Online
CATEGORIES:Continuing Professional Development
END:VEVENT
END:VCALENDAR