BEGIN:VCALENDAR
VERSION:2.0
PRODID:-//The Law Society of Newfoundland and Labrador - ECPv6.15.19//NONSGML v1.0//EN
CALSCALE:GREGORIAN
METHOD:PUBLISH
X-WR-CALNAME:The Law Society of Newfoundland and Labrador
X-ORIGINAL-URL:https://lsnl.ca
X-WR-CALDESC:Events for The Law Society of Newfoundland and Labrador
REFRESH-INTERVAL;VALUE=DURATION:PT1H
X-Robots-Tag:noindex
X-PUBLISHED-TTL:PT1H
BEGIN:VTIMEZONE
TZID:America/St_Johns
BEGIN:DAYLIGHT
TZOFFSETFROM:-0330
TZOFFSETTO:-0230
TZNAME:NDT
DTSTART:20250309T053000
END:DAYLIGHT
BEGIN:STANDARD
TZOFFSETFROM:-0230
TZOFFSETTO:-0330
TZNAME:NST
DTSTART:20251102T043000
END:STANDARD
BEGIN:DAYLIGHT
TZOFFSETFROM:-0330
TZOFFSETTO:-0230
TZNAME:NDT
DTSTART:20260308T053000
END:DAYLIGHT
BEGIN:STANDARD
TZOFFSETFROM:-0230
TZOFFSETTO:-0330
TZNAME:NST
DTSTART:20261101T043000
END:STANDARD
BEGIN:DAYLIGHT
TZOFFSETFROM:-0330
TZOFFSETTO:-0230
TZNAME:NDT
DTSTART:20270314T053000
END:DAYLIGHT
BEGIN:STANDARD
TZOFFSETFROM:-0230
TZOFFSETTO:-0330
TZNAME:NST
DTSTART:20271107T043000
END:STANDARD
END:VTIMEZONE
BEGIN:VEVENT
DTSTART;VALUE=DATE:20260805
DTEND;VALUE=DATE:20260806
DTSTAMP:20260424T012029
CREATED:20260422T133143Z
LAST-MODIFIED:20260422T133143Z
UID:28095-1785888000-1785974399@lsnl.ca
SUMMARY:Communication: The Crucial Skills
DESCRIPTION:In order to survive and thrive in the 21st century workplace\, we all need to master the fundamentals of communication. Our ability to communicate effectively is directly linked to our success in meeting the needs of employers\, colleagues\, customers\, and clients. This workshop focuses on the core skills for communicating with clarity in the workplace. Participants will hone their verbal communication strategies including speaking and listening skills. They will also learn approaches for utilizing communication technologies such as phone\, email\, and video conferencing more effectively. This training will give participants tools and strategies to communicate with clarity and purpose while choosing the best medium for the message. \n\n\n\n\n\n\n\n\n\n\n\nLearning Objectives\nUpon completion\, participants should be able to: \n\nIdentify steps to improve skills to listen\, speak\, persuade\, email\, and text\nDescribe positive communication with coworkers\nList steps for effective communication\nIdentify a plan of meaningful communication in one’s own work environment\n\n\n\nMethod of Delivery\nPresentation\, video\, demonstration of skills\, experiential practice\, personal reflection\, delivered electronically. \n\n*Please allow only the registered individual(s) to view the materials. \nNote: An e-manual for this workshop is included in purchase. \n\n\n\n\nSome of the Topics Included\n\nThe Complexity of Communication\nCommunication Styles\nThe Importance and Role of Body Language\nSkills for Connecting with Others\nStrategies for Speaking Effectively\nTools for Persuading Others\nPhone Etiquette\nMaking Email Work for You and Your Recipients\nTechnology and Communication\n\n\n\nTarget Audience\nThis is an introductory level workshop. \n\n\nTerms & Conditions\nView our cancellation policy and other information regarding your live virtual workshop or for your in-person workshop. \nThe fees above are for a live event and do not include any copyright or licensing fees for creating recordings or reproductions of the workshop. Participants may not use AI tools or other technology to capture\, transcribe\, or replicate facilitator content without prior written consent. Exceptions may be granted for accessibility purposes—please contact us in advance to discuss accommodations. \nThis is a live virtual event\, please check your system requirements prior to registering. \nParticipants will receive the Zoom meeting login details and information about viewing the live virtual workshop by email 3-4 calendar days prior to the date of the event. \nPlease note\, payment is required in order to receive the login details. \n\n\n\n\n\n\n\n\n\n\n\nFacilitator: Tim Plett\nTim has provided leadership in the non-profit\, higher-education\, adventure sports\, and arts sectors for over 30 years\, with a focus on collaborative leadership and communications. His educational background includes studies centered on the interdisciplinary realms of leadership\, philosophy\, and counselling. Tim has additional training in coaching\, crisis intervention\, trauma-informed care\, and emergency medical intervention. He believes that we do our best work together\, which is why his approach to training emphasizes the themes of collaboration\, interdependence\, and development. Tim is a thoughtful presenter with a subtle sense of humour and a passionate heart\, who facilitates learning experiences that are engaging\, educational\, and memorable.
URL:https://lsnl.ca/event/communication-the-crucial-skills-5/
LOCATION:Online
CATEGORIES:Continuing Professional Development
END:VEVENT
END:VCALENDAR