BEGIN:VCALENDAR
VERSION:2.0
PRODID:-//The Law Society of Newfoundland and Labrador - ECPv6.15.19//NONSGML v1.0//EN
CALSCALE:GREGORIAN
METHOD:PUBLISH
X-ORIGINAL-URL:https://lsnl.ca
X-WR-CALDESC:Events for The Law Society of Newfoundland and Labrador
REFRESH-INTERVAL;VALUE=DURATION:PT1H
X-Robots-Tag:noindex
X-PUBLISHED-TTL:PT1H
BEGIN:VTIMEZONE
TZID:America/St_Johns
BEGIN:DAYLIGHT
TZOFFSETFROM:-0330
TZOFFSETTO:-0230
TZNAME:NDT
DTSTART:20130310T053000
END:DAYLIGHT
BEGIN:STANDARD
TZOFFSETFROM:-0230
TZOFFSETTO:-0330
TZNAME:NST
DTSTART:20131103T043000
END:STANDARD
BEGIN:DAYLIGHT
TZOFFSETFROM:-0330
TZOFFSETTO:-0230
TZNAME:NDT
DTSTART:20140309T053000
END:DAYLIGHT
BEGIN:STANDARD
TZOFFSETFROM:-0230
TZOFFSETTO:-0330
TZNAME:NST
DTSTART:20141102T043000
END:STANDARD
BEGIN:DAYLIGHT
TZOFFSETFROM:-0330
TZOFFSETTO:-0230
TZNAME:NDT
DTSTART:20150308T053000
END:DAYLIGHT
BEGIN:STANDARD
TZOFFSETFROM:-0230
TZOFFSETTO:-0330
TZNAME:NST
DTSTART:20151101T043000
END:STANDARD
END:VTIMEZONE
BEGIN:VEVENT
DTSTART;TZID=America/St_Johns:20141122T140000
DTEND;TZID=America/St_Johns:20141122T160000
DTSTAMP:20260420T142121
CREATED:20141022T123113Z
LAST-MODIFIED:20171219T201739Z
UID:3216-1416664800-1416672000@lsnl.ca
SUMMARY:Launch of New SS Daisy Publication
DESCRIPTION:A Ferryland Merchant-Magistrate: The Journal and Cases of Robert Carter\, Esq.\, J.P. Volume II 1841 – 1852 \nWhere: The Regional Arts Centre Building\, Ferryland\nWhen: Saturday\, November 22\, 2014\nTime: 2:00pm – 4:00pm \nMore information
URL:https://lsnl.ca/event/launch-new-ss-daisy-publication/
LOCATION:The Regional Arts Centre Building\, Ferryland\, NL\, Canada
CATEGORIES:SS Daisy Legal History Committee
END:VEVENT
END:VCALENDAR