BEGIN:VCALENDAR
VERSION:2.0
PRODID:-//The Law Society of Newfoundland and Labrador - ECPv6.15.19//NONSGML v1.0//EN
CALSCALE:GREGORIAN
METHOD:PUBLISH
X-ORIGINAL-URL:https://lsnl.ca
X-WR-CALDESC:Events for The Law Society of Newfoundland and Labrador
REFRESH-INTERVAL;VALUE=DURATION:PT1H
X-Robots-Tag:noindex
X-PUBLISHED-TTL:PT1H
BEGIN:VTIMEZONE
TZID:America/St_Johns
BEGIN:DAYLIGHT
TZOFFSETFROM:-0330
TZOFFSETTO:-0230
TZNAME:NDT
DTSTART:20240310T053000
END:DAYLIGHT
BEGIN:STANDARD
TZOFFSETFROM:-0230
TZOFFSETTO:-0330
TZNAME:NST
DTSTART:20241103T043000
END:STANDARD
BEGIN:DAYLIGHT
TZOFFSETFROM:-0330
TZOFFSETTO:-0230
TZNAME:NDT
DTSTART:20250309T053000
END:DAYLIGHT
BEGIN:STANDARD
TZOFFSETFROM:-0230
TZOFFSETTO:-0330
TZNAME:NST
DTSTART:20251102T043000
END:STANDARD
BEGIN:DAYLIGHT
TZOFFSETFROM:-0330
TZOFFSETTO:-0230
TZNAME:NDT
DTSTART:20260308T053000
END:DAYLIGHT
BEGIN:STANDARD
TZOFFSETFROM:-0230
TZOFFSETTO:-0330
TZNAME:NST
DTSTART:20261101T043000
END:STANDARD
END:VTIMEZONE
BEGIN:VEVENT
DTSTART;TZID=America/St_Johns:20250227T100000
DTEND;TZID=America/St_Johns:20250227T113000
DTSTAMP:20260421T180957
CREATED:20250128T174047Z
LAST-MODIFIED:20250128T174047Z
UID:25068-1740650400-1740655800@lsnl.ca
SUMMARY:Practical Strategies for Supporting Workplace Mental Health
DESCRIPTION:Homewood Health\, your Professionals’ Assistance Program provider\, would like to invite you to an exclusive and interactive webinar hosted by Dr. Sandra Primiano\, who will discuss how to better support workplace mental health. \nThursday\, Feb 27\, 2025 \n10:00AM EST | 1:00 PM EST (French) | 4:00 PM EST \nJoin Dr. Primiano as she shares the latest data\, trends\, and proven strategies to optimize employee or member well-being in their personal and professional lives. \nFollowing the webinar\, all attendees will receive a free downloadable resource for managers on mental health strategies. \nSimply click here to save your spot for Homewood Health’s first webinar of 2025 (attendance is limited).
URL:https://lsnl.ca/event/practical-strategies-for-supporting-workplace-mental-health/
LOCATION:Online
CATEGORIES:Continuing Professional Development,wellness
END:VEVENT
END:VCALENDAR