BEGIN:VCALENDAR
VERSION:2.0
PRODID:-//The Law Society of Newfoundland and Labrador - ECPv6.15.19//NONSGML v1.0//EN
CALSCALE:GREGORIAN
METHOD:PUBLISH
X-WR-CALNAME:The Law Society of Newfoundland and Labrador
X-ORIGINAL-URL:https://lsnl.ca
X-WR-CALDESC:Events for The Law Society of Newfoundland and Labrador
REFRESH-INTERVAL;VALUE=DURATION:PT1H
X-Robots-Tag:noindex
X-PUBLISHED-TTL:PT1H
BEGIN:VTIMEZONE
TZID:America/St_Johns
BEGIN:DAYLIGHT
TZOFFSETFROM:-0330
TZOFFSETTO:-0230
TZNAME:NDT
DTSTART:20250309T053000
END:DAYLIGHT
BEGIN:STANDARD
TZOFFSETFROM:-0230
TZOFFSETTO:-0330
TZNAME:NST
DTSTART:20251102T043000
END:STANDARD
BEGIN:DAYLIGHT
TZOFFSETFROM:-0330
TZOFFSETTO:-0230
TZNAME:NDT
DTSTART:20260308T053000
END:DAYLIGHT
BEGIN:STANDARD
TZOFFSETFROM:-0230
TZOFFSETTO:-0330
TZNAME:NST
DTSTART:20261101T043000
END:STANDARD
BEGIN:DAYLIGHT
TZOFFSETFROM:-0330
TZOFFSETTO:-0230
TZNAME:NDT
DTSTART:20270314T053000
END:DAYLIGHT
BEGIN:STANDARD
TZOFFSETFROM:-0230
TZOFFSETTO:-0330
TZNAME:NST
DTSTART:20271107T043000
END:STANDARD
END:VTIMEZONE
BEGIN:VEVENT
DTSTART;TZID=America/St_Johns:20260119T123000
DTEND;TZID=America/St_Johns:20260119T132000
DTSTAMP:20260420T221049
CREATED:20260112T184042Z
LAST-MODIFIED:20260112T184342Z
UID:27396-1768825800-1768828800@lsnl.ca
SUMMARY:Fight the Blue Monday Blues with the CBA-NL (Free Event)
DESCRIPTION:As part of their Wellness Initiative\, the CBA-NL is hosting a mid-day yoga session to help shake off the winter blues and recharge your energy. \nEvent Details \n📍 Navasana Yoga at the Boathouse \n🎯 Limited spaces available \nRegister here by Friday January 16. \nThis session will be a Vinyasa Flow class focused on smooth\, mindful movement with clear instruction and options for different experience levels\, perfect for a refreshing midday reset. \nSpaces are limited\, so registration is encouraged.
URL:https://lsnl.ca/event/fight-the-blue-monday-blues-join-us-for-a-free-wellness-reset/
CATEGORIES:Continuing Professional Development,wellness
END:VEVENT
END:VCALENDAR